Workbook

Sheet Petunjuk Pengisian
B2: Keterangan Pertanyaan Lembar Inventarisasi Sistem Elektronik
B3: 1 | C3: No | D3: Nomor urut
B4: 2 | C4: Nama Sistem Elektronik | D4: Nama sistem elektronik yang dimiliki oleh perusahaan
B5: 3 | C5: Deskripsi Singkat | D5: Deskripsi sistem elektronik terkait definisi, fungsi, tujuan, dan data yang dikelola dari layanan sistem elektronik
B6: 4 | C6: Metode Akses | D6: Metode akses terhadap sistem elektronik dengan pilihan isian Publik atau Privat
B7: 5 | C7: Lokasi | D7: Lokasi penyimpanan sistem elektronik dengan pengisian co-location atau on-premise
B8: 6 | C8: Unit Pengelola | D8: Unit pengelola yang bertanggung jawab terhadap sistem elektronik

Sheet Invetarisasi Sistem Elektronik
A3: NAMA PERUSAHAAN
A4: Formulir Inventarisasi Sistem Elektronik
A7: NO | B7: Nama Sistem Elektronik | C7: Deskripsi Singkat | D7: Metode Akses | E7: Lokasi | F7: Unit Pengelola
A8: (1) | B8: (2) | C8: (3) | D8: (4) | E8: (5) | F8: (1)
A9: 1 | B9: Sistem ERP | C9: Sistem elektronik terintegrasi yang digunakan untuk mengelola dan mengotomatisasi berbagai proses bisnis utama dalam organisasi. ERP menghubungkan berbagai fungsi seperti keuangan, sumber daya manusia, produksi, logistik, pemasaran, dan layanan pelanggan ke dalam satu platform, sehingga memungkinkan pertukaran data secara real-time dan meningkatkan efisiensi operasional. Adapun data yang dikelola yaitu data keuangan & akuntansi, SDM, Produksi & Operasional, data logistic dan supply chain | D9: Privat | E9: On-premise | F9: Divisi TI
A62: 2
A64: 5

Sheet KSE
A3: [1.1] | B3: Nilai investasi sistem elektronik yang terpasang | E3: Nilai | J3: Nilai investasi sistem elektronik yang terpasang
B4: [A] Lebih dari Rp.30 Miliar | E4: 5 | J4: [B] Lebih dari Rp.3 Miliar s/d Rp.30 Miliar | K4: =IF(J4=B4,$E$4,IF(J4=B5,$E$5,IF(J4=B6,$E$6,0))) -> 2
B5: [B] Lebih dari Rp.3 Miliar s/d Rp.30 Miliar | E5: 2
B6: [C] Kurang dari Rp.3 Miliar | E6: 1
A7: [1.2] | B7: Total anggaran operasional tahunan yang dialokasikan untuk pengelolaan Sistem Elektronik
B8: [A] Lebih dari Rp.10 Miliar
B9: [B] Lebih dari Rp.1 Miliar s/d Rp.10 Miliar
B10: [C] Kurang dari Rp.1 Miliar
A11: [1.3] | B11: Memiliki kewajiban kepatuhan terhadap Peraturan atau Standar tertentu
B12: [A] Peraturan atau Standar nasional dan internasional
B13: [B] Peraturan atau Standar nasional
B14: [C] Tidak ada Peraturan khusus
A15: [1.4] | B15: Menggunakan teknik kriptografi khusus untuk keamanan informasi dalam Sistem Elektronik
B16: [A] Teknik kriptografi khusus yang disertifikasi oleh Negara
B17: [B] Teknik kriptografi sesuai standar industri, tersedia secara publik atau dikembangkan sendiri
B18: [C] Tidak ada penggunaan teknik kriptografi
A19: [1.5] | B19: Jumlah pengguna Sistem Elektronik
B20: [A] Lebih dari 5.000 pengguna
B21: [B] 1.000 sampai dengan 5.000 pengguna
B22: [C] Kurang dari 1.000 pengguna
A23: [1.6] | B23: Data pribadi yang dikelola Sistem Elektronik
B24: [A] Data pribadi yang memiliki hubungan dengan Data Pribadi lainnya
B25: [B] Data pribadi yang bersifat individu dan/atau data pribadi yang terkait dengan kepemilikan badan usaha
B26: [C] Tidak ada data pribadi
A27: [1.7] | B27: Tingkat klasifikasi/kekritisan Data yang ada dalam Sistem Elektronik, relatif terhadap ancaman upaya penyerangan atau penerobosan keamanan informasi
B28: [A] Sangat Rahasia
B29: [B] Rahasia dan/ atau Terbatas
B30: [C] Biasa
A31: [1.8] | B31: Tingkat kekritisan proses yang ada dalam Sistem Elektronik, relatif terhadap ancaman upaya penyerangan atau penerobosan keamanan informasi
B32: [A] Proses yang berisiko mengganggu hajat hidup orang banyak dan memberi dampak langsung pada layanan publik
B33: [B] Proses yang berisiko mengganggu hajat hidup orang banyak dan memberi dampak tidak langsung
B34: [C] Proses yang hanya berdampak pada bisnis perusahaan
A35: [1.9] | B35: Dampak dari kegagalan Sistem Elektronik
B36: [A] Tidak tersedianya layanan publik berskala nasional atau membahayakan pertahanan keamanan negara
B37: [B] Tidak tersedianya layanan publik dalam 1 propinsi atau lebih
B38: [C] Tidak tersedianya layanan publik dalam 1 kabupaten/kota atau lebih
A39: [1.10] | B39: Potensi kerugian atau dampak negatif dari insiden ditembusnya keamanan informasi Sistem Elektronik (sabotase, terorisme)
B40: [A] Menimbulkan korban jiwa
B41: [B] Terbatas pada kerugian finansial
B42: [C] Mengakibatkan gangguan operasional sementara (tidak membahayakan dan merugikan finansial)
...
