Workbook

Sheet Petunjuk Pengisian
B2: Keterangan Pertanyaan Lembar Inventarisasi Sistem Elektronik
B3: 1 | C3: No | D3: Nomor urut
B4: 2 | C4: Nama Sistem Elektronik | D4: Nama sistem elektronik yang dimiliki oleh perusahaan
B5: 3 | C5: Deskripsi Singkat | D5: Deskripsi sistem elektronik terkait definisi, fungsi, tujuan, dan data yang dikelola dari layanan sistem elektronik
B6: 4 | C6: Metode Akses | D6: Metode akses terhadap sistem elektronik dengan pilihan isian Publik atau Privat
B7: 5 | C7: Lokasi | D7: Lokasi penyimpanan sistem elektronik dengan pengisian co-location atau on-premise
B8: 6 | C8: Unit Pengelola | D8: Unit pengelola yang bertanggung jawab terhadap sistem elektronik

Sheet Invetarisasi Sistem Elektronik
A3: NAMA PERUSAHAAN
A4: Formulir Inventarisasi Sistem Elektronik
A7: NO | B7: Nama Sistem Elektronik | C7: Deskripsi Singkat | D7: Metode Akses | E7: Lokasi | F7: Unit Pengelola
A8: (1) | B8: (2) | C8: (3) | D8: (4) | E8: (5) | F8: (1)
A9: 1 | B9: Sistem ERP | C9: Sistem elektronik terintegrasi yang digunakan untuk mengelola dan mengotomatisasi berbagai proses bisnis utama dalam organisasi. ERP menghubungkan berbagai fungsi seperti keuangan, sumber daya manusia, produksi, logistik, pemasaran, dan layanan pelanggan ke dalam satu platform, sehingga memungkinkan pertukaran data secara real-time dan meningkatkan efisiensi operasional. Adapun data yang dikelola yaitu data keuangan & akuntansi, SDM, Produksi & Operasional, data logistic dan supply chain | D9: Privat | E9: On-premise | F9: Divisi TI
A62: 2
A64: 5

Sheet KSE
A3: [1.1] | B3: Nilai investasi sistem elektronik yang terpasang | E3: Nilai | J3: Nilai investasi sistem elektronik yang terpasang
B4: [A] Lebih dari Rp.30 Miliar | E4: 5 | J4: [B] Lebih dari Rp.3 Miliar s/d Rp.30 Miliar | K4: =IF(J4=B4,$E$4,IF(J4=B5,$E$5,IF(J4=B6,$E$6,0))) -> 2
B5: [B] Lebih dari Rp.3 Miliar s/d Rp.30 Miliar | E5: 2
B6: [C] Kurang dari Rp.3 Miliar | E6: 1
A7: [1.2] | B7: Total anggaran operasional tahunan yang dialokasikan untuk pengelolaan Sistem Elektronik
B8: [A] Lebih dari Rp.10 Miliar
B9: [B] Lebih dari Rp.1 Miliar s/d Rp.10 Miliar
B10: [C] Kurang dari Rp.1 Miliar
A11: [1.3] | B11: Memiliki kewajiban kepatuhan terhadap Peraturan atau Standar tertentu
B12: [A] Peraturan atau Standar nasional dan internasional
B13: [B] Peraturan atau Standar nasional
B14: [C] Tidak ada Peraturan khusus
A15: [1.4] | B15: Menggunakan teknik kriptografi khusus untuk keamanan informasi dalam Sistem Elektronik
B16: [A] Teknik kriptografi khusus yang disertifikasi oleh Negara
B17: [B] Teknik kriptografi sesuai standar industri, tersedia secara publik atau dikembangkan sendiri
B18: [C] Tidak ada penggunaan teknik kriptografi
A19: [1.5] | B19: Jumlah pengguna Sistem Elektronik
B20: [A] Lebih dari 5.000 pengguna
B21: [B] 1.000 sampai dengan 5.000 pengguna
B22: [C] Kurang dari 1.000 pengguna
A23: [1.6] | B23: Data pribadi yang dikelola Sistem Elektronik
B24: [A] Data pribadi yang memiliki hubungan dengan Data Pribadi lainnya
B25: [B] Data pribadi yang bersifat individu dan/atau data pribadi yang terkait dengan kepemilikan badan usaha
B26: [C] Tidak ada data pribadi
A27: [1.7] | B27: Tingkat klasifikasi/kekritisan Data yang ada dalam Sistem Elektronik, relatif terhadap ancaman upaya penyerangan atau penerobosan keamanan informasi
B28: [A] Sangat Rahasia
B29: [B] Rahasia dan/ atau Terbatas
B30: [C] Biasa
A31: [1.8] | B31: Tingkat kekritisan proses yang ada dalam Sistem Elektronik, relatif terhadap ancaman upaya penyerangan atau penerobosan keamanan informasi
B32: [A] Proses yang berisiko mengganggu hajat hidup orang banyak dan memberi dampak langsung pada layanan publik
B33: [B] Proses yang berisiko mengganggu hajat hidup orang banyak dan memberi dampak tidak langsung
B34: [C] Proses yang hanya berdampak pada bisnis perusahaan
A35: [1.9] | B35: Dampak dari kegagalan Sistem Elektronik
B36: [A] Tidak tersedianya layanan publik berskala nasional atau membahayakan pertahanan keamanan negara
B37: [B] Tidak tersedianya layanan publik dalam 1 propinsi atau lebih
B38: [C] Tidak tersedianya layanan publik dalam 1 kabupaten/kota atau lebih
A39: [1.10] | B39: Potensi kerugian atau dampak negatif dari insiden ditembusnya keamanan informasi Sistem Elektronik (sabotase, terorisme)
B40: [A] Menimbulkan korban jiwa
B41: [B] Terbatas pada kerugian finansial
B42: [C] Mengakibatkan gangguan operasional sementara (tidak membahayakan dan merugikan finansial)
A44: No | B44: Nama Sistem Elektronik | C44: Deskripsi | D44: Nilai investasi sistem elektronik yang terpasang | E44: Nilai | F44: Total anggaran operasional tahunan yang dialokasikan untuk pengelolaan Sistem Elektronik | G44: Nilai | H44: =B11 -> Memiliki kewajiban kepatuhan terhadap Peraturan atau Standar tertentu | I44: Nilai | J44: Menggunakan teknik kriptografi khusus untuk keamanan informasi dalam Sistem Elektronik | K44: Nilai | L44: Jumlah pengguna Sistem Elektronik | M44: Nilai | N44: Data pribadi yang dikelola Sistem Elektronik | O44: Nilai | P44: Tingkat klasifikasi/kekritisan Data yang ada dalam Sistem Elektronik, relatif terhadap ancaman upaya penyerangan atau penerobosan keamanan informasi | Q44: Nilai | R44: Tingkat kekritisan proses yang ada dalam Sistem Elektronik, relatif terhadap ancaman upaya penyerangan atau penerobosan keamanan informasi | S44: Nilai | T44: Dampak dari kegagalan Sistem Elektronik | U44: Nilai | V44: Potensi kerugian atau dampak negatif dari insiden ditembusnya keamanan informasi Sistem Elektronik (sabotase, terorisme) | W44: Nilai | X44: Total Nilai | Y44: Kategorisasi
A45: ='Invetarisasi Sistem Elektronik'!A9 -> 1 | B45: ='Invetarisasi Sistem Elektronik'!B9 -> Sistem ERP | C45: ='Invetarisasi Sistem Elektronik'!D9 -> Privat | D45: ='Invetarisasi Sistem Elektronik'!#REF! -> #REF! | E45: =IF(D45=$B$4,$E$4,IF(D45=$B$5,$E$5,IF(D45=$B$6,$E$6,0))) -> #REF! | F45: ='Invetarisasi Sistem Elektronik'!#REF! -> #REF! | G45: =IF(F45=$B$8,$E$4,IF(F45=$B$9,$E$5,IF(F45=$B$10,$E$6,0))) -> #REF! | H45: ='Invetarisasi Sistem Elektronik'!#REF! -> #REF! | I45: =IF(H45=$B$12,$E$4,IF(H45=$B$13,$E$5,IF(H45=$B$14,$E$6,0))) -> #REF! | J45: ='Invetarisasi Sistem Elektronik'!#REF! -> #REF! | K45: =IF(J45=$B$16,$E$4,IF(J45=$B$17,$E$5,IF(J45=$B$18,$E$6,0))) -> #REF! | L45: ='Invetarisasi Sistem Elektronik'!#REF! -> #REF! | M45: =IF(L45=$B$20,$E$4,IF(L45=$B$21,$E$5,IF(L45=$B$22,$E$6,0))) -> #REF! | N45: ='Invetarisasi Sistem Elektronik'!#REF! -> #REF! | O45: =IF(N45=$B$24,$E$4,IF(N45=$B$25,$E$5,IF(N45=$B$26,$E$6,0))) -> #REF! | P45: ='Invetarisasi Sistem Elektronik'!#REF! -> #REF! | Q45: =IF(P45=$B$28,$E$4,IF(P45=$B$29,$E$5,IF(P45=$B$30,$E$6,0))) -> #REF! | R45: ='Invetarisasi Sistem Elektronik'!#REF! -> #REF! | S45: =IF(R45=$B$32,$E$4,IF(R45=$B$33,$E$5,IF(R45=$B$34,$E$6,0))) -> #REF! | T45: ='Invetarisasi Sistem Elektronik'!#REF! -> #REF! | U45: =IF(T45=$B$36,$E$4,IF(T45=$B$37,$E$5,IF(T45=$B$38,$E$6,0))) -> #REF! | V45: ='Invetarisasi Sistem Elektronik'!#REF! -> #REF! | W45: =IF(V45=$B$40,$E$4,IF(V45=$B$41,$E$5,IF(V45=$B$42,$E$6,0))) -> #REF! | X45: =SUM(E45,G45,I45,K45,M45,O45,Q45,S45,U45,W45) -> #REF! | Y45: =IF(AND(X45>=35,X45<=50),"STRATEGIS",IF(AND(X45>=16,X45<=34),"TINGGI",IF(X45<=15,"RENDAH","ERROR"))) -> #REF! | Z45: =AND(X45>=35,X45<=50) -> #REF!
A46: ='Invetarisasi Sistem Elektronik'!A10 -> 0 | B46: ='Invetarisasi Sistem Elektronik'!B10 -> 0 | C46: ='Invetarisasi Sistem Elektronik'!D10 -> 0 | D46: ='Invetarisasi Sistem Elektronik'!#REF! -> #REF! | E46: =IF(D46=$B$4,$E$4,IF(D46=$B$5,$E$5,IF(D46=$B$6,$E$6,0))) -> #REF! | F46: ='Invetarisasi Sistem Elektronik'!#REF! -> #REF! | G46: =IF(F46=$B$8,$E$4,IF(F46=$B$9,$E$5,IF(F46=$B$10,$E$6,0))) -> #REF! | H46: ='Invetarisasi Sistem Elektronik'!#REF! -> #REF! | I46: =IF(H46=$B$12,$E$4,IF(H46=$B$13,$E$5,IF(H46=$B$14,$E$6,0))) -> #REF! | J46: ='Invetarisasi Sistem Elektronik'!#REF! -> #REF! | K46: =IF(J46=$B$16,$E$4,IF(J46=$B$17,$E$5,IF(J46=$B$18,$E$6,0))) -> #REF! | L46: ='Invetarisasi Sistem Elektronik'!#REF! -> #REF! | M46: =IF(L46=$B$20,$E$4,IF(L46=$B$21,$E$5,IF(L46=$B$22,$E$6,0))) -> #REF! | N46: ='Invetarisasi Sistem Elektronik'!#REF! -> #REF! | O46: =IF(N46=$B$24,$E$4,IF(N46=$B$25,$E$5,IF(N46=$B$26,$E$6,0))) -> #REF! | P46: ='Invetarisasi Sistem Elektronik'!#REF! -> #REF! | Q46: =IF(P46=$B$28,$E$4,IF(P46=$B$29,$E$5,IF(P46=$B$30,$E$6,0))) -> #REF! | R46: ='Invetarisasi Sistem Elektronik'!#REF! -> #REF! | S46: =IF(R46=$B$32,$E$4,IF(R46=$B$33,$E$5,IF(R46=$B$34,$E$6,0))) -> #REF! | T46: ='Invetarisasi Sistem Elektronik'!#REF! -> #REF! | U46: =IF(T46=$B$36,$E$4,IF(T46=$B$37,$E$5,IF(T46=$B$38,$E$6,0))) -> #REF! | V46: ='Invetarisasi Sistem Elektronik'!#REF! -> #REF! | W46: =IF(V46=$B$40,$E$4,IF(V46=$B$41,$E$5,IF(V46=$B$42,$E$6,0))) -> #REF! | X46: =SUM(E46,G46,I46,K46,M46,O46,Q46,S46,U46,W46) -> #REF! | Y46: =IF(AND(X46>=35,X46<=50),"STRATEGIS",IF(AND(X46>=16,X46<=34),"TINGGI",IF(X46<=15,"RENDAH","ERROR"))) -> #REF!
A47: ='Invetarisasi Sistem Elektronik'!A11 -> 0 | B47: ='Invetarisasi Sistem Elektronik'!B11 -> 0 | C47: ='Invetarisasi Sistem Elektronik'!D11 -> 0 | D47: ='Invetarisasi Sistem Elektronik'!#REF! -> #REF! | E47: =IF(D47=$B$4,$E$4,IF(D47=$B$5,$E$5,IF(D47=$B$6,$E$6,0))) -> #REF! | F47: ='Invetarisasi Sistem Elektronik'!#REF! -> #REF! | G47: =IF(F47=$B$8,$E$4,IF(F47=$B$9,$E$5,IF(F47=$B$10,$E$6,0))) -> #REF! | H47: ='Invetarisasi Sistem Elektronik'!#REF! -> #REF! | I47: =IF(H47=$B$12,$E$4,IF(H47=$B$13,$E$5,IF(H47=$B$14,$E$6,0))) -> #REF! | J47: ='Invetarisasi Sistem Elektronik'!#REF! -> #REF! | K47: =IF(J47=$B$16,$E$4,IF(J47=$B$17,$E$5,IF(J47=$B$18,$E$6,0))) -> #REF! | L47: ='Invetarisasi Sistem Elektronik'!#REF! -> #REF! | M47: =IF(L47=$B$20,$E$4,IF(L47=$B$21,$E$5,IF(L47=$B$22,$E$6,0))) -> #REF! | N47: ='Invetarisasi Sistem Elektronik'!#REF! -> #REF! | O47: =IF(N47=$B$24,$E$4,IF(N47=$B$25,$E$5,IF(N47=$B$26,$E$6,0))) -> #REF! | P47: ='Invetarisasi Sistem Elektronik'!#REF! -> #REF! | Q47: =IF(P47=$B$28,$E$4,IF(P47=$B$29,$E$5,IF(P47=$B$30,$E$6,0))) -> #REF! | R47: ='Invetarisasi Sistem Elektronik'!#REF! -> #REF! | S47: =IF(R47=$B$32,$E$4,IF(R47=$B$33,$E$5,IF(R47=$B$34,$E$6,0))) -> #REF! | T47: ='Invetarisasi Sistem Elektronik'!#REF! -> #REF! | U47: =IF(T47=$B$36,$E$4,IF(T47=$B$37,$E$5,IF(T47=$B$38,$E$6,0))) -> #REF! | V47: ='Invetarisasi Sistem Elektronik'!#REF! -> #REF! | W47: =IF(V47=$B$40,$E$4,IF(V47=$B$41,$E$5,IF(V47=$B$42,$E$6,0))) -> #REF! | X47: =SUM(E47,G47,I47,K47,M47,O47,Q47,S47,U47,W47) -> #REF! | Y47: =IF(AND(X47>=35,X47<=50),"STRATEGIS",IF(AND(X47>=16,X47<=34),"TINGGI",IF(X47<=15,"RENDAH","ERROR"))) -> #REF!
A48: ='Invetarisasi Sistem Elektronik'!A12 -> 0 | B48: ='Invetarisasi Sistem Elektronik'!B12 -> 0 | C48: ='Invetarisasi Sistem Elektronik'!D12 -> 0 | D48: ='Invetarisasi Sistem Elektronik'!#REF! -> #REF! | E48: =IF(D48=$B$4,$E$4,IF(D48=$B$5,$E$5,IF(D48=$B$6,$E$6,0))) -> #REF! | F48: ='Invetarisasi Sistem Elektronik'!#REF! -> #REF! | G48: =IF(F48=$B$8,$E$4,IF(F48=$B$9,$E$5,IF(F48=$B$10,$E$6,0))) -> #REF! | H48: ='Invetarisasi Sistem Elektronik'!#REF! -> #REF! | I48: =IF(H48=$B$12,$E$4,IF(H48=$B$13,$E$5,IF(H48=$B$14,$E$6,0))) -> #REF! | J48: ='Invetarisasi Sistem Elektronik'!#REF! -> #REF! | K48: =IF(J48=$B$16,$E$4,IF(J48=$B$17,$E$5,IF(J48=$B$18,$E$6,0))) -> #REF! | L48: ='Invetarisasi Sistem Elektronik'!#REF! -> #REF! | M48: =IF(L48=$B$20,$E$4,IF(L48=$B$21,$E$5,IF(L48=$B$22,$E$6,0))) -> #REF! | N48: ='Invetarisasi Sistem Elektronik'!#REF! -> #REF! | O48: =IF(N48=$B$24,$E$4,IF(N48=$B$25,$E$5,IF(N48=$B$26,$E$6,0))) -> #REF! | P48: ='Invetarisasi Sistem Elektronik'!#REF! -> #REF! | Q48: =IF(P48=$B$28,$E$4,IF(P48=$B$29,$E$5,IF(P48=$B$30,$E$6,0))) -> #REF! | R48: ='Invetarisasi Sistem Elektronik'!#REF! -> #REF! | S48: =IF(R48=$B$32,$E$4,IF(R48=$B$33,$E$5,IF(R48=$B$34,$E$6,0))) -> #REF! | T48: ='Invetarisasi Sistem Elektronik'!#REF! -> #REF! | U48: =IF(T48=$B$36,$E$4,IF(T48=$B$37,$E$5,IF(T48=$B$38,$E$6,0))) -> #REF! | V48: ='Invetarisasi Sistem Elektronik'!#REF! -> #REF! | W48: =IF(V48=$B$40,$E$4,IF(V48=$B$41,$E$5,IF(V48=$B$42,$E$6,0))) -> #REF! | X48: =SUM(E48,G48,I48,K48,M48,O48,Q48,S48,U48,W48) -> #REF! | Y48: =IF(AND(X48>=35,X48<=50),"STRATEGIS",IF(AND(X48>=16,X48<=34),"TINGGI",IF(X48<=15,"RENDAH","ERROR"))) -> #REF!
A49: ='Invetarisasi Sistem Elektronik'!A13 -> 0 | B49: ='Invetarisasi Sistem Elektronik'!B13 -> 0 | C49: ='Invetarisasi Sistem Elektronik'!D13 -> 0 | D49: ='Invetarisasi Sistem Elektronik'!#REF! -> #REF! | E49: =IF(D49=$B$4,$E$4,IF(D49=$B$5,$E$5,IF(D49=$B$6,$E$6,0))) -> #REF! | F49: ='Invetarisasi Sistem Elektronik'!#REF! -> #REF! | G49: =IF(F49=$B$8,$E$4,IF(F49=$B$9,$E$5,IF(F49=$B$10,$E$6,0))) -> #REF! | H49: ='Invetarisasi Sistem Elektronik'!#REF! -> #REF! | I49: =IF(H49=$B$12,$E$4,IF(H49=$B$13,$E$5,IF(H49=$B$14,$E$6,0))) -> #REF! | J49: ='Invetarisasi Sistem Elektronik'!#REF! -> #REF! | K49: =IF(J49=$B$16,$E$4,IF(J49=$B$17,$E$5,IF(J49=$B$18,$E$6,0))) -> #REF! | L49: ='Invetarisasi Sistem Elektronik'!#REF! -> #REF! | M49: =IF(L49=$B$20,$E$4,IF(L49=$B$21,$E$5,IF(L49=$B$22,$E$6,0))) -> #REF! | N49: ='Invetarisasi Sistem Elektronik'!#REF! -> #REF! | O49: =IF(N49=$B$24,$E$4,IF(N49=$B$25,$E$5,IF(N49=$B$26,$E$6,0))) -> #REF! | P49: ='Invetarisasi Sistem Elektronik'!#REF! -> #REF! | Q49: =IF(P49=$B$28,$E$4,IF(P49=$B$29,$E$5,IF(P49=$B$30,$E$6,0))) -> #REF! | R49: ='Invetarisasi Sistem Elektronik'!#REF! -> #REF! | S49: =IF(R49=$B$32,$E$4,IF(R49=$B$33,$E$5,IF(R49=$B$34,$E$6,0))) -> #REF! | T49: ='Invetarisasi Sistem Elektronik'!#REF! -> #REF! | U49: =IF(T49=$B$36,$E$4,IF(T49=$B$37,$E$5,IF(T49=$B$38,$E$6,0))) -> #REF! | V49: ='Invetarisasi Sistem Elektronik'!#REF! -> #REF! | W49: =IF(V49=$B$40,$E$4,IF(V49=$B$41,$E$5,IF(V49=$B$42,$E$6,0))) -> #REF! | X49: =SUM(E49,G49,I49,K49,M49,O49,Q49,S49,U49,W49) -> #REF! | Y49: =IF(AND(X49>=35,X49<=50),"STRATEGIS",IF(AND(X49>=16,X49<=34),"TINGGI",IF(X49<=15,"RENDAH","ERROR"))) -> #REF!
A50: ='Invetarisasi Sistem Elektronik'!A14 -> 0 | B50: ='Invetarisasi Sistem Elektronik'!B14 -> 0 | C50: ='Invetarisasi Sistem Elektronik'!D14 -> 0 | D50: ='Invetarisasi Sistem Elektronik'!#REF! -> #REF! | E50: =IF(D50=$B$4,$E$4,IF(D50=$B$5,$E$5,IF(D50=$B$6,$E$6,0))) -> #REF! | F50: ='Invetarisasi Sistem Elektronik'!#REF! -> #REF! | G50: =IF(F50=$B$8,$E$4,IF(F50=$B$9,$E$5,IF(F50=$B$10,$E$6,0))) -> #REF! | H50: ='Invetarisasi Sistem Elektronik'!#REF! -> #REF! | I50: =IF(H50=$B$12,$E$4,IF(H50=$B$13,$E$5,IF(H50=$B$14,$E$6,0))) -> #REF! | J50: ='Invetarisasi Sistem Elektronik'!#REF! -> #REF! | K50: =IF(J50=$B$16,$E$4,IF(J50=$B$17,$E$5,IF(J50=$B$18,$E$6,0))) -> #REF! | L50: ='Invetarisasi Sistem Elektronik'!#REF! -> #REF! | M50: =IF(L50=$B$20,$E$4,IF(L50=$B$21,$E$5,IF(L50=$B$22,$E$6,0))) -> #REF! | N50: ='Invetarisasi Sistem Elektronik'!#REF! -> #REF! | O50: =IF(N50=$B$24,$E$4,IF(N50=$B$25,$E$5,IF(N50=$B$26,$E$6,0))) -> #REF! | P50: ='Invetarisasi Sistem Elektronik'!#REF! -> #REF! | Q50: =IF(P50=$B$28,$E$4,IF(P50=$B$29,$E$5,IF(P50=$B$30,$E$6,0))) -> #REF! | R50: ='Invetarisasi Sistem Elektronik'!#REF! -> #REF! | S50: =IF(R50=$B$32,$E$4,IF(R50=$B$33,$E$5,IF(R50=$B$34,$E$6,0))) -> #REF! | T50: ='Invetarisasi Sistem Elektronik'!#REF! -> #REF! | U50: =IF(T50=$B$36,$E$4,IF(T50=$B$37,$E$5,IF(T50=$B$38,$E$6,0))) -> #REF! | V50: ='Invetarisasi Sistem Elektronik'!#REF! -> #REF! | W50: =IF(V50=$B$40,$E$4,IF(V50=$B$41,$E$5,IF(V50=$B$42,$E$6,0))) -> #REF! | X50: =SUM(E50,G50,I50,K50,M50,O50,Q50,S50,U50,W50) -> #REF! | Y50: =IF(AND(X50>=35,X50<=50),"STRATEGIS",IF(AND(X50>=16,X50<=34),"TINGGI",IF(X50<=15,"RENDAH","ERROR"))) -> #REF!
A51: ='Invetarisasi Sistem Elektronik'!A15 -> 0 | B51: ='Invetarisasi Sistem Elektronik'!B15 -> 0 | C51: ='Invetarisasi Sistem Elektronik'!D15 -> 0 | D51: ='Invetarisasi Sistem Elektronik'!#REF! -> #REF! | E51: =IF(D51=$B$4,$E$4,IF(D51=$B$5,$E$5,IF(D51=$B$6,$E$6,0))) -> #REF! | F51: ='Invetarisasi Sistem Elektronik'!#REF! -> #REF! | G51: =IF(F51=$B$8,$E$4,IF(F51=$B$9,$E$5,IF(F51=$B$10,$E$6,0))) -> #REF! | H51: ='Invetarisasi Sistem Elektronik'!#REF! -> #REF! | I51: =IF(H51=$B$12,$E$4,IF(H51=$B$13,$E$5,IF(H51=$B$14,$E$6,0))) -> #REF! | J51: ='Invetarisasi Sistem Elektronik'!#REF! -> #REF! | K51: =IF(J51=$B$16,$E$4,IF(J51=$B$17,$E$5,IF(J51=$B$18,$E$6,0))) -> #REF! | L51: ='Invetarisasi Sistem Elektronik'!#REF! -> #REF! | M51: =IF(L51=$B$20,$E$4,IF(L51=$B$21,$E$5,IF(L51=$B$22,$E$6,0))) -> #REF! | N51: ='Invetarisasi Sistem Elektronik'!#REF! -> #REF! | O51: =IF(N51=$B$24,$E$4,IF(N51=$B$25,$E$5,IF(N51=$B$26,$E$6,0))) -> #REF! | P51: ='Invetarisasi Sistem Elektronik'!#REF! -> #REF! | Q51: =IF(P51=$B$28,$E$4,IF(P51=$B$29,$E$5,IF(P51=$B$30,$E$6,0))) -> #REF! | R51: ='Invetarisasi Sistem Elektronik'!#REF! -> #REF! | S51: =IF(R51=$B$32,$E$4,IF(R51=$B$33,$E$5,IF(R51=$B$34,$E$6,0))) -> #REF! | T51: ='Invetarisasi Sistem Elektronik'!#REF! -> #REF! | U51: =IF(T51=$B$36,$E$4,IF(T51=$B$37,$E$5,IF(T51=$B$38,$E$6,0))) -> #REF! | V51: ='Invetarisasi Sistem Elektronik'!#REF! -> #REF! | W51: =IF(V51=$B$40,$E$4,IF(V51=$B$41,$E$5,IF(V51=$B$42,$E$6,0))) -> #REF! | X51: =SUM(E51,G51,I51,K51,M51,O51,Q51,S51,U51,W51) -> #REF! | Y51: =IF(AND(X51>=35,X51<=50),"STRATEGIS",IF(AND(X51>=16,X51<=34),"TINGGI",IF(X51<=15,"RENDAH","ERROR"))) -> #REF!
A52: ='Invetarisasi Sistem Elektronik'!A16 -> 0 | B52: ='Invetarisasi Sistem Elektronik'!B16 -> 0 | C52: ='Invetarisasi Sistem Elektronik'!D16 -> 0 | D52: ='Invetarisasi Sistem Elektronik'!#REF! -> #REF! | E52: =IF(D52=$B$4,$E$4,IF(D52=$B$5,$E$5,IF(D52=$B$6,$E$6,0))) -> #REF! | F52: ='Invetarisasi Sistem Elektronik'!#REF! -> #REF! | G52: =IF(F52=$B$8,$E$4,IF(F52=$B$9,$E$5,IF(F52=$B$10,$E$6,0))) -> #REF! | H52: ='Invetarisasi Sistem Elektronik'!#REF! -> #REF! | I52: =IF(H52=$B$12,$E$4,IF(H52=$B$13,$E$5,IF(H52=$B$14,$E$6,0))) -> #REF! | J52: ='Invetarisasi Sistem Elektronik'!#REF! -> #REF! | K52: =IF(J52=$B$16,$E$4,IF(J52=$B$17,$E$5,IF(J52=$B$18,$E$6,0))) -> #REF! | L52: ='Invetarisasi Sistem Elektronik'!#REF! -> #REF! | M52: =IF(L52=$B$20,$E$4,IF(L52=$B$21,$E$5,IF(L52=$B$22,$E$6,0))) -> #REF! | N52: ='Invetarisasi Sistem Elektronik'!#REF! -> #REF! | O52: =IF(N52=$B$24,$E$4,IF(N52=$B$25,$E$5,IF(N52=$B$26,$E$6,0))) -> #REF! | P52: ='Invetarisasi Sistem Elektronik'!#REF! -> #REF! | Q52: =IF(P52=$B$28,$E$4,IF(P52=$B$29,$E$5,IF(P52=$B$30,$E$6,0))) -> #REF! | R52: ='Invetarisasi Sistem Elektronik'!#REF! -> #REF! | S52: =IF(R52=$B$32,$E$4,IF(R52=$B$33,$E$5,IF(R52=$B$34,$E$6,0))) -> #REF! | T52: ='Invetarisasi Sistem Elektronik'!#REF! -> #REF! | U52: =IF(T52=$B$36,$E$4,IF(T52=$B$37,$E$5,IF(T52=$B$38,$E$6,0))) -> #REF! | V52: ='Invetarisasi Sistem Elektronik'!#REF! -> #REF! | W52: =IF(V52=$B$40,$E$4,IF(V52=$B$41,$E$5,IF(V52=$B$42,$E$6,0))) -> #REF! | X52: =SUM(E52,G52,I52,K52,M52,O52,Q52,S52,U52,W52) -> #REF! | Y52: =IF(AND(X52>=35,X52<=50),"STRATEGIS",IF(AND(X52>=16,X52<=34),"TINGGI",IF(X52<=15,"RENDAH","ERROR"))) -> #REF!
A53: ='Invetarisasi Sistem Elektronik'!A17 -> 0 | B53: ='Invetarisasi Sistem Elektronik'!B17 -> 0 | C53: ='Invetarisasi Sistem Elektronik'!D17 -> 0 | D53: ='Invetarisasi Sistem Elektronik'!#REF! -> #REF! | E53: =IF(D53=$B$4,$E$4,IF(D53=$B$5,$E$5,IF(D53=$B$6,$E$6,0))) -> #REF! | F53: ='Invetarisasi Sistem Elektronik'!#REF! -> #REF! | G53: =IF(F53=$B$8,$E$4,IF(F53=$B$9,$E$5,IF(F53=$B$10,$E$6,0))) -> #REF! | H53: ='Invetarisasi Sistem Elektronik'!#REF! -> #REF! | I53: =IF(H53=$B$12,$E$4,IF(H53=$B$13,$E$5,IF(H53=$B$14,$E$6,0))) -> #REF! | J53: ='Invetarisasi Sistem Elektronik'!#REF! -> #REF! | K53: =IF(J53=$B$16,$E$4,IF(J53=$B$17,$E$5,IF(J53=$B$18,$E$6,0))) -> #REF! | L53: ='Invetarisasi Sistem Elektronik'!#REF! -> #REF! | M53: =IF(L53=$B$20,$E$4,IF(L53=$B$21,$E$5,IF(L53=$B$22,$E$6,0))) -> #REF! | N53: ='Invetarisasi Sistem Elektronik'!#REF! -> #REF! | O53: =IF(N53=$B$24,$E$4,IF(N53=$B$25,$E$5,IF(N53=$B$26,$E$6,0))) -> #REF! | P53: ='Invetarisasi Sistem Elektronik'!#REF! -> #REF! | Q53: =IF(P53=$B$28,$E$4,IF(P53=$B$29,$E$5,IF(P53=$B$30,$E$6,0))) -> #REF! | R53: ='Invetarisasi Sistem Elektronik'!#REF! -> #REF! | S53: =IF(R53=$B$32,$E$4,IF(R53=$B$33,$E$5,IF(R53=$B$34,$E$6,0))) -> #REF! | T53: ='Invetarisasi Sistem Elektronik'!#REF! -> #REF! | U53: =IF(T53=$B$36,$E$4,IF(T53=$B$37,$E$5,IF(T53=$B$38,$E$6,0))) -> #REF! | V53: ='Invetarisasi Sistem Elektronik'!#REF! -> #REF! | W53: =IF(V53=$B$40,$E$4,IF(V53=$B$41,$E$5,IF(V53=$B$42,$E$6,0))) -> #REF! | X53: =SUM(E53,G53,I53,K53,M53,O53,Q53,S53,U53,W53) -> #REF! | Y53: =IF(AND(X53>=35,X53<=50),"STRATEGIS",IF(AND(X53>=16,X53<=34),"TINGGI",IF(X53<=15,"RENDAH","ERROR"))) -> #REF!
A54: ='Invetarisasi Sistem Elektronik'!A18 -> 0 | B54: ='Invetarisasi Sistem Elektronik'!B18 -> 0 | C54: ='Invetarisasi Sistem Elektronik'!D18 -> 0 | D54: ='Invetarisasi Sistem Elektronik'!#REF! -> #REF! | E54: =IF(D54=$B$4,$E$4,IF(D54=$B$5,$E$5,IF(D54=$B$6,$E$6,0))) -> #REF! | F54: ='Invetarisasi Sistem Elektronik'!#REF! -> #REF! | G54: =IF(F54=$B$8,$E$4,IF(F54=$B$9,$E$5,IF(F54=$B$10,$E$6,0))) -> #REF! | H54: ='Invetarisasi Sistem Elektronik'!#REF! -> #REF! | I54: =IF(H54=$B$12,$E$4,IF(H54=$B$13,$E$5,IF(H54=$B$14,$E$6,0))) -> #REF! | J54: ='Invetarisasi Sistem Elektronik'!#REF! -> #REF! | K54: =IF(J54=$B$16,$E$4,IF(J54=$B$17,$E$5,IF(J54=$B$18,$E$6,0))) -> #REF! | L54: ='Invetarisasi Sistem Elektronik'!#REF! -> #REF! | M54: =IF(L54=$B$20,$E$4,IF(L54=$B$21,$E$5,IF(L54=$B$22,$E$6,0))) -> #REF! | N54: ='Invetarisasi Sistem Elektronik'!#REF! -> #REF! | O54: =IF(N54=$B$24,$E$4,IF(N54=$B$25,$E$5,IF(N54=$B$26,$E$6,0))) -> #REF! | P54: ='Invetarisasi Sistem Elektronik'!#REF! -> #REF! | Q54: =IF(P54=$B$28,$E$4,IF(P54=$B$29,$E$5,IF(P54=$B$30,$E$6,0))) -> #REF! | R54: ='Invetarisasi Sistem Elektronik'!#REF! -> #REF! | S54: =IF(R54=$B$32,$E$4,IF(R54=$B$33,$E$5,IF(R54=$B$34,$E$6,0))) -> #REF! | T54: ='Invetarisasi Sistem Elektronik'!#REF! -> #REF! | U54: =IF(T54=$B$36,$E$4,IF(T54=$B$37,$E$5,IF(T54=$B$38,$E$6,0))) -> #REF! | V54: ='Invetarisasi Sistem Elektronik'!#REF! -> #REF! | W54: =IF(V54=$B$40,$E$4,IF(V54=$B$41,$E$5,IF(V54=$B$42,$E$6,0))) -> #REF! | X54: =SUM(E54,G54,I54,K54,M54,O54,Q54,S54,U54,W54) -> #REF! | Y54: =IF(AND(X54>=35,X54<=50),"STRATEGIS",IF(AND(X54>=16,X54<=34),"TINGGI",IF(X54<=15,"RENDAH","ERROR"))) -> #REF!
A55: ='Invetarisasi Sistem Elektronik'!A19 -> 0 | B55: ='Invetarisasi Sistem Elektronik'!B19 -> 0 | C55: ='Invetarisasi Sistem Elektronik'!D19 -> 0 | D55: ='Invetarisasi Sistem Elektronik'!#REF! -> #REF! | E55: =IF(D55=$B$4,$E$4,IF(D55=$B$5,$E$5,IF(D55=$B$6,$E$6,0))) -> #REF! | F55: ='Invetarisasi Sistem Elektronik'!#REF! -> #REF! | G55: =IF(F55=$B$8,$E$4,IF(F55=$B$9,$E$5,IF(F55=$B$10,$E$6,0))) -> #REF! | H55: ='Invetarisasi Sistem Elektronik'!#REF! -> #REF! | I55: =IF(H55=$B$12,$E$4,IF(H55=$B$13,$E$5,IF(H55=$B$14,$E$6,0))) -> #REF! | J55: ='Invetarisasi Sistem Elektronik'!#REF! -> #REF! | K55: =IF(J55=$B$16,$E$4,IF(J55=$B$17,$E$5,IF(J55=$B$18,$E$6,0))) -> #REF! | L55: ='Invetarisasi Sistem Elektronik'!#REF! -> #REF! | M55: =IF(L55=$B$20,$E$4,IF(L55=$B$21,$E$5,IF(L55=$B$22,$E$6,0))) -> #REF! | N55: ='Invetarisasi Sistem Elektronik'!#REF! -> #REF! | O55: =IF(N55=$B$24,$E$4,IF(N55=$B$25,$E$5,IF(N55=$B$26,$E$6,0))) -> #REF! | P55: ='Invetarisasi Sistem Elektronik'!#REF! -> #REF! | Q55: =IF(P55=$B$28,$E$4,IF(P55=$B$29,$E$5,IF(P55=$B$30,$E$6,0))) -> #REF! | R55: ='Invetarisasi Sistem Elektronik'!#REF! -> #REF! | S55: =IF(R55=$B$32,$E$4,IF(R55=$B$33,$E$5,IF(R55=$B$34,$E$6,0))) -> #REF! | T55: ='Invetarisasi Sistem Elektronik'!#REF! -> #REF! | U55: =IF(T55=$B$36,$E$4,IF(T55=$B$37,$E$5,IF(T55=$B$38,$E$6,0))) -> #REF! | V55: ='Invetarisasi Sistem Elektronik'!#REF! -> #REF! | W55: =IF(V55=$B$40,$E$4,IF(V55=$B$41,$E$5,IF(V55=$B$42,$E$6,0))) -> #REF! | X55: =SUM(E55,G55,I55,K55,M55,O55,Q55,S55,U55,W55) -> #REF! | Y55: =IF(AND(X55>=35,X55<=50),"STRATEGIS",IF(AND(X55>=16,X55<=34),"TINGGI",IF(X55<=15,"RENDAH","ERROR"))) -> #REF!
A56: ='Invetarisasi Sistem Elektronik'!A20 -> 0 | B56: ='Invetarisasi Sistem Elektronik'!B20 -> 0 | C56: ='Invetarisasi Sistem Elektronik'!D20 -> 0 | D56: ='Invetarisasi Sistem Elektronik'!#REF! -> #REF! | E56: =IF(D56=$B$4,$E$4,IF(D56=$B$5,$E$5,IF(D56=$B$6,$E$6,0))) -> #REF! | F56: ='Invetarisasi Sistem Elektronik'!#REF! -> #REF! | G56: =IF(F56=$B$8,$E$4,IF(F56=$B$9,$E$5,IF(F56=$B$10,$E$6,0))) -> #REF! | H56: ='Invetarisasi Sistem Elektronik'!#REF! -> #REF! | I56: =IF(H56=$B$12,$E$4,IF(H56=$B$13,$E$5,IF(H56=$B$14,$E$6,0))) -> #REF! | J56: ='Invetarisasi Sistem Elektronik'!#REF! -> #REF! | K56: =IF(J56=$B$16,$E$4,IF(J56=$B$17,$E$5,IF(J56=$B$18,$E$6,0))) -> #REF! | L56: ='Invetarisasi Sistem Elektronik'!#REF! -> #REF! | M56: =IF(L56=$B$20,$E$4,IF(L56=$B$21,$E$5,IF(L56=$B$22,$E$6,0))) -> #REF! | N56: ='Invetarisasi Sistem Elektronik'!#REF! -> #REF! | O56: =IF(N56=$B$24,$E$4,IF(N56=$B$25,$E$5,IF(N56=$B$26,$E$6,0))) -> #REF! | P56: ='Invetarisasi Sistem Elektronik'!#REF! -> #REF! | Q56: =IF(P56=$B$28,$E$4,IF(P56=$B$29,$E$5,IF(P56=$B$30,$E$6,0))) -> #REF! | R56: ='Invetarisasi Sistem Elektronik'!#REF! -> #REF! | S56: =IF(R56=$B$32,$E$4,IF(R56=$B$33,$E$5,IF(R56=$B$34,$E$6,0))) -> #REF! | T56: ='Invetarisasi Sistem Elektronik'!#REF! -> #REF! | U56: =IF(T56=$B$36,$E$4,IF(T56=$B$37,$E$5,IF(T56=$B$38,$E$6,0))) -> #REF! | V56: ='Invetarisasi Sistem Elektronik'!#REF! -> #REF! | W56: =IF(V56=$B$40,$E$4,IF(V56=$B$41,$E$5,IF(V56=$B$42,$E$6,0))) -> #REF! | X56: =SUM(E56,G56,I56,K56,M56,O56,Q56,S56,U56,W56) -> #REF! | Y56: =IF(AND(X56>=35,X56<=50),"STRATEGIS",IF(AND(X56>=16,X56<=34),"TINGGI",IF(X56<=15,"RENDAH","ERROR"))) -> #REF!
A57: ='Invetarisasi Sistem Elektronik'!A21 -> 0 | B57: ='Invetarisasi Sistem Elektronik'!B21 -> 0 | C57: ='Invetarisasi Sistem Elektronik'!D21 -> 0 | D57: ='Invetarisasi Sistem Elektronik'!#REF! -> #REF! | E57: =IF(D57=$B$4,$E$4,IF(D57=$B$5,$E$5,IF(D57=$B$6,$E$6,0))) -> #REF! | F57: ='Invetarisasi Sistem Elektronik'!#REF! -> #REF! | G57: =IF(F57=$B$8,$E$4,IF(F57=$B$9,$E$5,IF(F57=$B$10,$E$6,0))) -> #REF! | H57: ='Invetarisasi Sistem Elektronik'!#REF! -> #REF! | I57: =IF(H57=$B$12,$E$4,IF(H57=$B$13,$E$5,IF(H57=$B$14,$E$6,0))) -> #REF! | J57: ='Invetarisasi Sistem Elektronik'!#REF! -> #REF! | K57: =IF(J57=$B$16,$E$4,IF(J57=$B$17,$E$5,IF(J57=$B$18,$E$6,0))) -> #REF! | L57: ='Invetarisasi Sistem Elektronik'!#REF! -> #REF! | M57: =IF(L57=$B$20,$E$4,IF(L57=$B$21,$E$5,IF(L57=$B$22,$E$6,0))) -> #REF! | N57: ='Invetarisasi Sistem Elektronik'!#REF! -> #REF! | O57: =IF(N57=$B$24,$E$4,IF(N57=$B$25,$E$5,IF(N57=$B$26,$E$6,0))) -> #REF! | P57: ='Invetarisasi Sistem Elektronik'!#REF! -> #REF! | Q57: =IF(P57=$B$28,$E$4,IF(P57=$B$29,$E$5,IF(P57=$B$30,$E$6,0))) -> #REF! | R57: ='Invetarisasi Sistem Elektronik'!#REF! -> #REF! | S57: =IF(R57=$B$32,$E$4,IF(R57=$B$33,$E$5,IF(R57=$B$34,$E$6,0))) -> #REF! | T57: ='Invetarisasi Sistem Elektronik'!#REF! -> #REF! | U57: =IF(T57=$B$36,$E$4,IF(T57=$B$37,$E$5,IF(T57=$B$38,$E$6,0))) -> #REF! | V57: ='Invetarisasi Sistem Elektronik'!#REF! -> #REF! | W57: =IF(V57=$B$40,$E$4,IF(V57=$B$41,$E$5,IF(V57=$B$42,$E$6,0))) -> #REF! | X57: =SUM(E57,G57,I57,K57,M57,O57,Q57,S57,U57,W57) -> #REF! | Y57: =IF(AND(X57>=35,X57<=50),"STRATEGIS",IF(AND(X57>=16,X57<=34),"TINGGI",IF(X57<=15,"RENDAH","ERROR"))) -> #REF!
... A100: ='Invetarisasi Sistem Elektronik'!A64 -> 5 | B100: ='Invetarisasi Sistem Elektronik'!B64 -> 0 | C100: ='Invetarisasi Sistem Elektronik'!D64 -> 0 | D100: ='Invetarisasi Sistem Elektronik'!#REF! -> #REF! | E100: =IF(D100=$B$4,$E$4,IF(D100=$B$5,$E$5,IF(D100=$B$6,$E$6,0))) -> #REF! | F100: ='Invetarisasi Sistem Elektronik'!#REF! -> #REF! | G100: =IF(F100=$B$8,$E$4,IF(F100=$B$9,$E$5,IF(F100=$B$10,$E$6,0))) -> #REF! | H100: ='Invetarisasi Sistem Elektronik'!#REF! -> #REF! | I100: =IF(H100=$B$12,$E$4,IF(H100=$B$13,$E$5,IF(H100=$B$14,$E$6,0))) -> #REF! | J100: ='Invetarisasi Sistem Elektronik'!#REF! -> #REF! | K100: =IF(J100=$B$16,$E$4,IF(J100=$B$17,$E$5,IF(J100=$B$18,$E$6,0))) -> #REF! | L100: ='Invetarisasi Sistem Elektronik'!#REF! -> #REF! | M100: =IF(L100=$B$20,$E$4,IF(L100=$B$21,$E$5,IF(L100=$B$22,$E$6,0))) -> #REF! | N100: ='Invetarisasi Sistem Elektronik'!#REF! -> #REF! | O100: =IF(N100=$B$24,$E$4,IF(N100=$B$25,$E$5,IF(N100=$B$26,$E$6,0))) -> #REF! | P100: ='Invetarisasi Sistem Elektronik'!#REF! -> #REF! | Q100: =IF(P100=$B$28,$E$4,IF(P100=$B$29,$E$5,IF(P100=$B$30,$E$6,0))) -> #REF! | R100: ='Invetarisasi Sistem Elektronik'!#REF! -> #REF! | S100: =IF(R100=$B$32,$E$4,IF(R100=$B$33,$E$5,IF(R100=$B$34,$E$6,0))) -> #REF! | T100: ='Invetarisasi Sistem Elektronik'!#REF! -> #REF! | U100: =IF(T100=$B$36,$E$4,IF(T100=$B$37,$E$5,IF(T100=$B$38,$E$6,0))) -> #REF! | V100: ='Invetarisasi Sistem Elektronik'!#REF! -> #REF! | W100: =IF(V100=$B$40,$E$4,IF(V100=$B$41,$E$5,IF(V100=$B$42,$E$6,0))) -> #REF! | X100: =SUM(E100,G100,I100,K100,M100,O100,Q100,S100,U100,W100) -> #REF! | Y100: =IF(AND(X100>=35,X100<=50),"STRATEGIS",IF(AND(X100>=16,X100<=34),"TINGGI",IF(X100<=15,"RENDAH","ERROR"))) -> #REF!
