Workbook

Sheet Pengantar
B11: INDIKATOR EVALUASI PENERAPAN DOMAIN KERANGKA KERJA DAN KATEGORI KEGIATAN
B12: Kategori Tingkat Kematangan | E12: Kriteria
B13: Level 1 (satu) | C13: Level Awal | D13: Dengan nilai kematangan pada rentang indeks 0 (nol) - 1,50 (satu koma lima nol) | E13: Menggambarkan kondisi penerapan Keamanan Siber dalam tahap implementasi awal | F13: Penerapan Keamanan Siber belum memiliki prosedur yang terorganisir | G13: Penerapan Keamanan Siber bersifat informal | H13: Keamanan Siber tidak dilakukan secara konsisten dan berkelanjutan | I13: Dokumen manajemen risiko dan dokumen kontrol belum disusun
B14: Level 2 (dua) | C14: Level Berulang | D14: Dengan dengan nilai kematangan pada rentang indeks 1,51 (satu koma lima satu) - 2,50 (dua koma lima nol) | E14: Menggambarkan kondisi penerapan Keamanan Siber dalam tahap implementasi yang berulang | F14: Penerapan Keamanan Siber sudah memiliki prosedur yang terorganisir | G14: Penerapan Keamanan Siber bersifat informal | H14: Keamanan Siber dilakukan secara berulang namun belum konsisten dan belum berkelanjutan | I14: Dokumen manajemen risiko dan dokumen kontrol sudah disusun namun belum ditetapkan
B15: Level 3 (tiga) | C15: Level Terdefinisi | D15: Dengan nilai kematangan pada rentang indeks 2,51 (dua koma lima satu) - 3,50 (tiga koma lima nol) | E15: Menggambarkan kondisi penerapan Keamanan Siber dalam tahap implementasi yang telah terdefinisi dengan baik | F15: Penerapan Keamanan Siber telah terorganisir dengan jelas | G15: Penerapan Keamanan Siber bersifat formal | H15: Keamanan Siber dilakukan secara berulang dan konsisten serta direviu secara berkala | I15: Dokumen manajemen risiko dan dokumen kontrol sudah disusun dan sudah ditetapkan
B16: Level 4 (empat) | C16: Level Terkelola | D16: Dengan nilai kematangan pada rentang indeks 3,51 (tiga koma lima satu) - 4,50 (empat koma lima nol) | E16: Menggambarkan kondisi penerapan Keamanan Siber dalam tahap implementasi yang telah terkelola dengan baik | F16: Penerapan Keamanan Siber telah terorganisir dengan baik namun belum dilakukan proses otomatisasi | G16: Penerapan Keamanan Siber bersifat formal | H16: Keamanan Siber dilakukan secara berulang dan implementasi perbaikan dilakukan berkelanjutan | I16: Dokumen manajemen risiko dan dokumen kontrol sudah disusun dan sudah ditetapkan
B17: Level 5 (lima) | C17: Level Inovatif | D17: Dengan nilai kematangan pada rentang indeks 4,51 (empat koma lima satu) - 5,0 (lima koma nol) | E17: Menggambarkan kondisi penerapan Keamanan Siber telah diimplementasikan secara optimal | F17: Penerapan Keamanan Siber telah terorganisir dengan baik dan telah dilakukan proses otomatisasi | G17: Penerapan Keamanan Siber bersifat formal | H17: - Keamanan siber dilakukan secara berulang dan konsisten serta telah terintegrasi - keamanan siber menjadi bagian budaya organisasi secara menyeluruh | I17: Dokumen manajemen risiko dan dokumen kontrol sudah ditetapkan
B19: Petunjuk Penggunaan Instrumen
B20: 1. Instrumen ini dapat digunakan oleh Penyelenggara Sistem Elektronik untuk mendapatkan gambaran mengenai kematangan keamanan siber yang dijalankannya; 2. Instrumen ini dianjurkan untuk dilakukan oleh pejabat yang secara langsung bertanggung jawab dan berwenang mengelola keamanan siber di seluruh cakupan organisasinya; 3. Proses penilaian dilakukan melalui evaluasi kondisi penerapan kontrol kerangka kerja pada masing-masing domain; 4. Kondisi penerapan kontrol tersebut dibagi menjadi 6 rentang indeks Nilai Kematangan dari indeks 0 sampai dengan indeks 5 pada masing-masing kontrol; 5. Responden diminta untuk menentukan Target Level Kematangan dan Target Nilai Kematangan; 6. Selanjutnya, Responden diminta untuk mengisi Indeks Nilai Kematangan sesuai dengan kondisi penerapan kontrol pada cakupan organisasinya; 7. Kontrol tersebut dibagi ke dalam masing-masing domain dari domain identifikasi (sheet 'I Identifikasi'), proteksi (sheet 'II Proteksi'), deteksi (sheet 'III Deteksi'), sampai ke domain penanggulangan dan pemulihan (sheet 'IV Gulih'); 8. Hasil Pengisian Responden akan ditunjukkan pada sheet 'Kematangan Kamsiber'.
B22: Disclaimer
B23: Instrumen Penilaian Kematangan Keamanan Siber (IKAS) ini disediakan sebagai alat bantu untuk mengukur dan mengevaluasi tingkat kematangan keamanan siber organisasi Anda. Harap diperhatikan hal-hal berikut: a) Tidak Ada Jaminan: Meskipun kami telah berusaha untuk memastikan bahwa informasi yang terkandung dalam instrumen ini akurat dan terkini, kami tidak menjamin bahwa instrumen ini bebas dari kesalahan atau kelalaian. Hasil penilaian sebaiknya digunakan sebagai panduan umum dan tidak sebagai saran profesional atau keputusan akhir. b) Tidak Bertanggung Jawab atas Kerugian: Kami tidak bertanggung jawab atas kerugian, kerusakan, atau konsekuensi lain yang timbul dari penggunaan atau ketergantungan pada instrumen ini. Pengguna bertanggung jawab penuh atas penerapan hasil penilaian dan keputusan yang diambil berdasarkan hasil tersebut. c) Kustomisasi dan Penyesuaian: Instrumen ini mungkin memerlukan kustomisasi lebih lanjut agar sesuai dengan kebutuhan spesifik dan konteks organisasi Anda. Kami merekomendasikan untuk berkonsultasi dengan profesional keamanan siber yang berpengalaman untuk interpretasi dan implementasi hasil yang lebih akurat. d) Kepatuhan dan Regulasi: Penggunaan instrumen ini tidak menjamin kepatuhan terhadap standar keamanan siber yang berlaku. Organisasi tetap bertanggung jawab untuk memastikan kepatuhan terhadap standar industri yang relevan. e) Kerjasama Tim: Penilaian kematangan keamanan siber adalah upaya tim yang melibatkan berbagai pemangku kepentingan di seluruh organisasi. Kami menyarankan kolaborasi dan komunikasi yang baik di antara tim keamanan siber, manajemen, dan staf lainnya untuk hasil yang optimal. f) Kerahasiaan: Instrumen Penilaian Kematangan Keamanan Siber (IKAS) ini mengumpulkan data sensitif yang berkaitan dengan praktik keamanan siber Anda. Kami memahami pentingnya privasi dan kerahasiaan data tersebut. Oleh karena itu, kami berkomitmen untuk melindungi informasi yang Anda berikan dengan langkah-langkah keamanan yang sesuai. g) Penggunaan Terbatas: Data yang dikumpulkan tidak akan dibagikan kepada pihak ketiga tanpa persetujuan eksplisit dari Anda, kecuali jika diwajibkan oleh hukum. Dengan menggunakan instrumen ini, Anda mengakui bahwa Anda telah membaca, memahami, dan setuju dengan syarat dan ketentuan yang tercantum dalam disclaimer ini.

Sheet Responden
B1: INSTRUMEN PENILAIAN KEMATANGAN KEAMANAN SIBER
B2: BADAN SIBER DAN SANDI NEGARA
B4: Instansi/Penyelenggara Sistem Elektronik | C4: :
B5: Nama Sistem Elektronik | C5: :
B6: Jenis Sistem Elektronik | C6: : | D6: IT
B7: Sektor | C7: : | D7: sektor lain
B8: Alamat | C8: :
B9: Alamat Surel (e-mail) | C9: :
B10: Nomor Telepon | C10: :
B11: Nama Responden | C11: :
B12: Jabatan Responden | C12: :
B13: Tahun Pengukuran | C13: : | D13: 2025
B14: Target Level Kematangan | C14: : | D14: Level 3
B15: Target Nilai | C15: : | D15: 2.51 | E15: =H15 -> rentang target nilai/indeks 2,51 – 3,50 | H15: =IF(D14="Level 1","rentang target nilai/indeks 0 – 1,50",IF(D14="Level 2","rentang target nilai/indeks 1,51 – 2,50",IF(D14="Level 3","rentang target nilai/indeks 2,51 – 3,50", IF(D14="Level 4","rentang target nilai/indeks 3,51 – 4,50", IF(D14="Level 5","rentang target nilai/indeks 4,51 – 5,00", ""))))) -> rentang target nilai/indeks 2,51 – 3,50
B16: Acuan Manajemen Risiko yang Digunakan | C16: :
B17: Acuan Keamanan Siber yang Digunakan | C17: :
B18: Tanggal Pengisian | C18: :

Sheet I Identifikasi
A2: DOMAIN I: IDENTIFIKASI
A3: Kategori 1.1: | B3: Mengidentifikasi Peran dan tanggung jawab organisasi
A4: Sub Kategori 1.1.1 | B4: Menetapkan dan mengomunikasikan prioritas untuk misi, tujuan, dan kegiatan pengamanan sistem elektronik di organisasi | C4: Ruang Lingkup | D4: Indeks Nilai Kematangan | E4: Indeks 0 | F4: Indeks 1 | G4: Indeks 2 | H4: Indeks 3 | I4: Indeks 4 | J4: Indeks 5 | K4: Keterangan Validasi
A5: a | B5: Pimpinan organisasi menetapkan keamanan siber sebagai prioritas di organisasi dalam bentuk kebijakan atau komitmen pimpinan yang sesuai dengan kondisi bisnis/layanan dan operasional organisasi. | C5: Tata Kelola | E5: Belum ada penerapan kebijakan atau komitmen pimpinan terkait keamanan siber. | F5: Kebijakan Keamanan Siber diterapkan pada sebagian kecil aspek, namun belum ditetapkan secara formal | G5: Kebijakan Keamanan Siber diterapkan pada sebagian besar aspek, namun belum ditetapkan secara formal | H5: - Kebijakan terkait keamanan siber telah disusun dan ditetapkan - Pimpinan berkomitmen untuk memasukkan keamanan siber sebagai prioritas organisasi. | I5: - Kebijakan terkait keamanan siber telah disusun, ditetapkan, dimonitor, dan dilakukan review secara berkala - Pimpinan berkomitmen untuk memasukkan keamanan siber sebagai prioritas organisasi. | J5: - Kebijakan terkait keamanan siber telah disusun, ditetapkan, dimonitor, dan dilakukan review serta pembaruan secara berkala - Pimpinan berkomitmen untuk memasukkan keamanan siber sebagai prioritas organisasi.
A6: b | B6: Penyelenggara Sistem Elektronik mengomunikasikan perihal komitmen keamanan siber di organisasinya dengan pihak-pihak yang terkait dengan bisnis/layanan organisasi (termasuk kepada penyedia pihak ketiga). | C6: Tata Kelola | E6: Komitmen dan kebijakan keamanan siber yang harus dipatuhi pihak terkait belum dikomunikasikan | F6: Kebijakan keamanan siber yang harus dipatuhi pihak terkait sudah dikomunikasikan pada sebagian kecil aspek, namun belum ditetapkan secara formal | G6: Kebijakan keamanan siber yang harus dipatuhi pihak terkait sudah dikomunikasikan pada sebagian besar aspek, namun belum ditetapkan secara formal | H6: Kebijakan keamanan siber yang harus dipatuhi pihak terkait sudah dikomunikasikan pada seluruh aspek dan sudah ditetapkan secara formal | I6: Kebijakan keamanan siber yang harus dipatuhi pihak terkait sudah dikomunikasikan pada seluruh aspek dan sudah ditetapkan secara formal, dimonitor, dan dilakukan review secara berkala | J6: Kebijakan keamanan siber yang harus dipatuhi pihak terkait sudah dikomunikasikan pada seluruh aspek dan sudah ditetapkan secara formal, dimonitor, dan dilakukan review secara berkala, dan dilakukan perbaikan.
A7: Sub Kategori 1.1.2 | B7: Mengidentifikasi ketergantungan organisasi dengan pihak terkait lainnya | C7: Ruang Lingkup | D7: Indeks Nilai Kematangan | E7: Indeks 0 | F7: Indeks 1 | G7: Indeks 2 | H7: Indeks 3 | I7: Indeks 4 | J7: Indeks 5 | K7: Keterangan Validasi
A8: a | B8: Penyelenggara Sistem Elektronik mengidentifikasi unit kerja di internal organisasinya, maupun pihak lain di luar organisasinya yang memiliki ketergantungan, baik secara langsung maupun tidak langsung terhadap operasional layanan Sistem Elektronik di organisasinya. | C8: Tata Kelola | E8: - Belum dilakukan identifikasi unit kerja maupun pihak lain yang bergantung pada layanan Sistem Elektronik di organisasinya - Belum ada prosedur identifikasi ketergantungan | F8: - Organisasi mengetahui sebagian kecil unit kerja maupun pihak lain yang bergantung pada layanan Sistem Elektronik di organisasinya, namun prosedur identifikasi ketergantungan belum ditetapkan secara formal | G8: - Organisasi mengetahui sebagian besar unit kerja maupun pihak lain yang bergantung pada layanan Sistem Elektronik di organisasinya, namun prosedur identifikasi ketergantungan belum ditetapkan secara formal | H8: - Identifikasi unit kerja maupun pihak lain yang bergantung pada layanan SE di organisasinya telah dilakukan secara menyeluruh - Prosedur identifikasi ketergantungan sudah ditetapkan. | I8: - Identifikasi unit kerja maupun pihak lain yang bergantung pada layanan Sistem Elektronik di organisasinya telah dilakukan - Prosedur identifikasi ketergantungan sudah ditetapkan dan dievaluasi secara berkala - Daftar unit kerja atau pihak lain yang bergantung pada layanan Sistem Elektronik di organisasinya dimonitor dan dievaluasi secara berkala - Belum ada mekanisme/siklus pembaruan daftar unit kerja atau pihak lain yang bergantung pada layanan Sistem Elektronik di organisasinya | J8: - Identifikasi unit kerja maupun pihak lain yang bergantung pada layanan Sistem Elektronik di organisasinya telah dilakukan - Prosedur identifikasi ketergantungan sudah ditetapkan dan dievaluasi serta diperbarui secara berkala - Sudah ada mekanisme/siklus pembaruan daftar unit kerja atau pihak lain yang bergantung pada layanan Sistem Elektronik di organisasinya - Daftar unit kerja atau pihak lain yang bergantung pada layanan Sistem Elektronik di organisasinya dimonitor, dievaluasi, dan diperbarui secara berkala
A9: Sub Kategori 1.1.3 | B9: Mengidentifikasi dan mengomunikasikan peran organisasi di dalam sektor Sistem Elektronik | C9: Ruang Lingkup | D9: Indeks Nilai Kematangan | E9: Indeks 0 | F9: Indeks 1 | G9: Indeks 2 | H9: Indeks 3 | I9: Indeks 4 | J9: Indeks 5 | K9: Keterangan Validasi
A10: a | B10: Penyelenggara Sistem Elektronik mengidentifikasi dan menetapkan unit kerja atau fungsi yang memiliki tugas dan tanggung jawab dalam menerapkan pengamanan Sistem Elektronik di organisasinya. | C10: Tata Kelola | E10: Belum adanya rencana terkait identifikasi unit kerja atau fungsi yang memiliki tugas dan tanggung jawab dalam menerapkan pengamanan Sistem Elektronik di organisasinya. | F10: Sudah terdapat unit kerja yang menerapkan sebagian kecil fungsi pengamanan Sistem Elektronik di organisasinya, namun belum ditetapkan tugas dan tanggung jawab secara formal | G10: Sudah terdapat unit kerja yang menerapkan sebagian besar fungsi pengamanan Sistem Elektronik di organisasinya, namun belum ditetapkan tugas dan tanggung jawab secara formal | H10: Seluruh fungsi dalam menerapkan pengamanan Sistem Elektronik telah diidentifikasi dan unit kerja yang memiliki tugas dan tanggung jawab dalam menerapkan pengamanan Sistem Elektronik di organisasinya telah ditetapkan. | I10: - Seluruh fungsi dalam menerapkan penyelenggaraan SE telah diidentifikasi dan unit kerja yang memiliki tugas dan tanggung jawab dalam menerapkan pengamanan Sistem Elektronik di organisasinya telah ditetapkan. - Dilakukan evaluasi berkala terhadap fungsi, tugas, dan tanggung jawab unit kerja tersebut dalam menerapkan pengamanan Sistem Elektronik agar tetap inline dengan tujuan organisasi. | J10: - Seluruh fungsi dalam menerapkan penyelenggaraan SE telah diidentifikasi dan unit kerja yang memiliki tugas dan tanggung jawab dalam menerapkan pengamanan Sistem Elektronik di organisasinya telah ditetapkan. - Dilakukan evaluasi berkala terhadap fungsi, tugas, dan tanggung jawab unit kerja tersebut dalam menerapkan pengamanan Sistem Elektronik agar tetap inline dengan tujuan organisasi. - Dilakukan perbaikan berkelanjutan untuk memastikan proses binis yang dijalankan oleh unit kerja tersebut tetap efektif dan sesuai dengan kebutuhan dan kondisi terkini.
A11: b | B11: Penyelenggara Sistem Elektronik mengidentifikasi peran, aktivitas, proses, dan narahubung dari pemangku kepentingan yang mendukung ekosistem bisnis atau layanan Sistem Elektronik, baik di dalam atau di luar organisasi. | C11: Tata Kelola | E11: Peran, aktivitas, proses, dan narahubung pemangku kepentingan belum diidentifikasi. | F11: Organisasi mengetahui sebagian kecil peran, aktivitas, proses, dan narahubung pemangku kepentingan namun belum ditetapkan secara formal | G11: Organisasi mengetahui sebagian besar peran, aktivitas, proses, dan narahubung pemangku kepentingan namun belum ditetapkan secara formal | H11: Peran, aktivitas, proses, dan narahubung pemangku kepentingan telah diidentifikasi dan ditetapkan dalam sebuah dokumen formal. | I11: - Peran, aktivitas, proses, dan narahubung pemangku kepentingan telah diidentifikasi dan ditetapkan dalam sebuah dokumen formal. - Penetapan peran, aktivitas, proses, dan narahubung pemangku kepentingan dimonitor dan dievaluasi secara berkala. | J11: - Peran, aktivitas, proses, dan narahubung pemangku kepentingan telah diidentifikasi dan ditetapkan dalam sebuah dokumen formal. - Penetapan peran, aktivitas, proses, dan narahubung pemangku kepentingan dimonitor dan dievaluasi secara berkala. - Dilakukan pembaruan secara berkala terhadap penetapan peran, aktivitas, proses, dan narahubung pemangku kepentingan sebagai timbal balik dari evaluasi yang dilakukan.
A12: Kategori 1.2: | B12: Menyusun strategi, kebijakan, dan prosedur Keamanan Siber
A13: Sub Kategori 1.2.1 | B13: Menetapkan dan mengomunikasikan kebijakan keamanan siber di lingkungan Penyelenggara Sistem Elektronik | C13: Ruang Lingkup | D13: Indeks Nilai Kematangan | E13: Indeks 0 | F13: Indeks 1 | G13: Indeks 2 | H13: Indeks 3 | I13: Indeks 4 | J13: Indeks 5 | K13: Keterangan Validasi
A14: a | B14: Penyelenggara Sistem Elektronik menyusun, menetapkan, dan mengembangkan kebijakan tentang keamanan siber sesuai dengan standar yang berlaku di sektornya dan/atau peraturan perundang-undangan | C14: Tata Kelola | E14: Organisasi belum memiliki kebijakan tentang keamanan siber sesuai dengan standar yang berlaku di sektornya dan/atau peraturan perundang-undangan. | F14: Organisasi telah menyusun kebijakan tentang keamanan siber sesuai dengan standar yang berlaku di sektornya dan/atau peraturan perundang undangan dan sudah menerapkan pada sebagian kecil aspek, namun kebijakan tersebut belum ditetapkan. | G14: Organisasi telah menerapkan kebijakan keamanan siber pada sebagian besar aspek sesuai dengan standar yang berlaku di sektornya dan/atau peraturan perundang-undangan namun kebijakan tersebut belum ditetapkan. | H14: Organisasi tidak hanya telah menerapkan, tetapi juga telah menetapkan kebijakan keamanan siber sesuai dengan standar yang berlaku di sektornya dan/atau peraturan perundang-undangan. | I14: - Organisasi tidak hanya telah menerapkan dan menetapkan kebijakan keamanan siber, tetapi juga secara aktif mengelola dan meninjau kebijakan ini untuk memastikan bahwa mereka tetap relevan dan efektif. - Dilakukannya proses peninjauan dan pembaruan kebijakan yang terstruktur. | J14: - Organisasi telah berhasil menyusun, menetapkan, dan mengembangkan kebijakan keamanan siber yang komprehensif dan efektif yang sepenuhnya sesuai dengan standar dan regulasi yang berlaku. - Kebijakan tersebut dikelola dan ditinjau secara berkala, dan ada mekanisme umpan balik serta perbaikan berkelanjutan untuk memastikan bahwa kebijakan ini tetap relevan dan efektif.
A15: b | B15: Penyelenggara Sistem Elektronik mengomunikasikan kebijakan kepada seluruh personel yang relevan, serta mengoordinasikan dan menyepakati metode berbagi informasi mengenai kebijakan dan prosedur yang ada di organisasi dengan para pemangku kepentingan eksternal. | C15: Tata Kelola | E15: Organisasi belum mengomunikasikan dan mengoordinasikan kebijakan dan prosedur dengan personel dan pemangku kepentingan eksternal, dan belum memiliki mekanisme komunikasi terkait hal tersebut. | F15: Organisasi mulai mengomunikasikan dan mengoodinasikan kebijakan dan prosedur kepada sebagian kecil personel dan pemangku kepentingan eksternal, namun mekanisme komunikasi tersebut belum ditetapkan. | G15: Organisasi telah mengomunikasikan dan mengoodinasikan kebijakan dan prosedur kepada sebagian besar personel dan pemangku kepentingan eksternal, namun mekanisme komunikasi tersebut belum ditetapkan. | H15: Organisasi mengomunikasikan kebijakan kepada seluruh personel yang relevan, serta mengoordinasikan dan menyepakati metode berbagi informasi mengenai kebijakan dan prosedur yang ada di organisasi dengan para pemangku kepentingan eksternal secara efektif dan efisien. | I15: - Organisasi mengomunikasikan kebijakan kepada seluruh personel yang relevan, serta mengoordinasikan dan menyepakati metode berbagi informasi mengenai kebijakan dan prosedur yang ada di organisasi dengan para pemangku kepentingan eksternal secara efektif dan efisien. - Mekanisme komunikasi, koordinasi kebijakan dan prosedur dengan personel dan pemangku kepentingan eksternal yang telah disusun, dikelola dan ditinjau efektivitasnya secara berkala. | J15: - Organisasi mengomunikasikan kebijakan kepada seluruh personel yang relevan, serta mengoordinasikan dan menyepakati metode berbagi informasi mengenai kebijakan dan prosedur yang ada di organisasi dengan para pemangku kepentingan eksternal secara efektif dan efisien. - Mekanisme komunikasi, koordinasi kebijakan dan prosedur dengan personel dan pemangku kepentingan eksternal yang telah disusun, dikelola dan ditinjau efektivitasnya secara berkala dan ada mekanisme umpan balik serta perbaikan berkelanjutan untuk memastikan bahwa kebijakan ini tetap relevan dan efektif.
A16: c | B16: Penyelenggara Sistem Elektronik meninjau dan merevisi kebijakannya secara berkelanjutan sesuai dengan setiap perubahan dalam peraturan perundang-undangan yang relevan, standar dan/atau pedoman industri yang berlaku di sektornya. | C16: Tata Kelola | E16: Penyelenggara belum memiliki rencana untuk meninjau dan merevisi kebijakannya secara berkelanjutan sesuai dengan setiap perubahan dalam peraturan perundang-undangan yang relevan, standar dan/atau pedoman industri yang berlaku di sektornya | F16: Peninjauan dan revisi mulai dilakukan terhadap penerapan kebijakan pada sebagian kecil aspek secara berkelanjutan sesuai dengan setiap perubahan dalam peraturan perundang-undangan yang relevan, standar dan/atau pedoman industri yang berlaku di sektornya, namun mekanisme tersebut belum ditetapkan. | G16: Peninjauan dan revisi terhadap penerapan kebijakan pada sebagian besar aspek secara berkelanjutan sesuai dengan setiap perubahan dalam peraturan perundang-undangan yang relevan, standar dan/atau pedoman industri yang berlaku di sektornya, telah dilaksanakan namun mekanisme tersebut belum ditetapkan. | H16: Peninjauan dan revisi kebijakan yang telah diterapkan pada seluruh aspek secara berkelanjutan sesuai dengan setiap perubahan dalam peraturan perundang-undangan yang relevan, standar dan/atau pedoman industri yang berlaku di sektornya, telah dilaksanakan secara menyeluruh dan telah ditetapkan mekanismenya. | I16: Peninjauan dan revisi kebijakan yang telah diterapkan pada seluruh aspek secara berkelanjutan sesuai dengan setiap perubahan dalam peraturan perundang-undangan yang relevan, standar dan/atau pedoman industri yang berlaku di sektornya, telah dilaksanakan secara menyeluruh dan secara aktif mengelola dan meninjau efektivitasnya. | J16: Peninjauan dan revisi kebijakan yang telah diterapkan pada seluruh aspek secara berkelanjutan sesuai dengan setiap perubahan dalam peraturan perundang-undangan yang relevan, standar dan/atau pedoman industri yang berlaku di sektornya, telah dilaksanakan secara menyeluruh dan secara aktif mengelola dan meninjau efektivitasnya serta terdapat mekanisme perbaikan berkelanjutan untuk memastikan bahwa kebijakan ini tetap relevan dan efektif.
A17: Sub Kategori 1.2.2 | B17: Mengembangkan strategi untuk meningkatkan pengamanan terhadap Sistem Elektronik | C17: Ruang Lingkup | D17: Indeks Nilai Kematangan | E17: Indeks 0 | F17: Indeks 1 | G17: Indeks 2 | H17: Indeks 3 | I17: Indeks 4 | J17: Indeks 5 | K17: Keterangan Validasi
A18: a | B18: Penyelenggara Sistem Elektronik senantiasa mengembangkan strategi dalam melindungi aset informasi dengan mempertimbangkan manajemen risiko yang berlaku di organisasi. | C18: Tata Kelola | E18: Organisasi Belum memiliki strategi perlindungan aset informasi dan belum memiliki dokumen manajemen risiko organisasi | F18: Prosedur pengamanan aset informasi, manajemen risiko organisasi dan Strategi pengamanan aset informasi sudah diterapkan pada sebagian kecil aspek tapi belum diformalkan | G18: Prosedur pengamanan aset informasi, manajemen risiko organisasi dan Strategi pengamanan aset informasi sudah diterapkan pada sebagian besar aspek tapi belum diformalkan | H18: Prosedur pengamanan aset informasi, manajemen risiko organisasi dan Strategi pengamanan aset informasi sudah diterapkan pada seluruh aspek dan sudah diformalkan | I18: Prosedur pengamanan aset informasi, manajemen risiko organisasi dan Strategi pengamanan aset informasi sudah diterapkan pada seluruh aspek dan sudah diformalkan, dilakukan monitoring dan reviu secara berkala | J18: Prosedur pengamanan aset informasi, manajemen risiko organisasi dan Strategi pengamanan aset informasi sudah diterapkan pada seluruh aspek dan sudah diformalkan, dilakukan monitoring dan reviu secara berkala, dilakukan perbaikan berkelanjutan dan terintegrasi dalam sistem yang terotomatisasi.
A19: b | B19: Penyelenggara Sistem Elektronik harus menetapkan sasaran atau target penerapan keamanan siber pada fungsi dan tingkatan yang relevan. | C19: Tata Kelola | E19: Organisasi belum memiliki sasaran atau target penerapan keamanan siber pada fungsi dan tingkatan yang relevan. | F19: Sasaran atau target penerapan keamanan siber pada fungsi dan tingkatan yang relevan telah dijalankan pada sebagian kecil aspek namun belum ditetapkan. | G19: Sasaran atau target penerapan keamanan siber pada fungsi dan tingkatan yang relevan telah dijalankan pada sebagian besar aspek namun belum ditetapkan. | H19: Sasaran atau target penerapan keamanan siber pada fungsi dan tingkatan yang relevan telah ditetapkan dan dijalankan secara menyeluruh. | I19: Sasaran atau target penerapan keamanan siber pada fungsi dan tingkatan yang relevan telah ditetapkan dan dijalankan secara menyeluruh, dilakukan monitoring dan direview secara berkala. | J19: Sasaran atau target penerapan keamanan siber pada fungsi dan tingkatan yang relevan telah dtetapkan dan dijalankan secara menyeluruh, dilakukan monitoring dan direview secara berkala serta dievaluasi dan dilakukan perbaikan berkelanjutan.
A20: Sub Kategori 1.2.3 | B20: Menetapkan persyaratan yang dibutuhkan untuk mendukung operasional Sistem Elektronik pada semua keadaan | C20: Ruang Lingkup | D20: Indeks Nilai Kematangan | E20: Indeks 0 | F20: Indeks 1 | G20: Indeks 2 | H20: Indeks 3 | I20: Indeks 4 | J20: Indeks 5 | K20: Keterangan Validasi
A21: a | B21: Penyelenggara Sistem Elektronik menyusun kebijakan standar operasional prosedur terhadap setiap layanan yang mendukung Sistem Elektronik baik dalam kondisi normal, jika terjadi insiden siber, dan pasca insiden siber. | C21: Tata Kelola | E21: Organisasi belum memiliki Kebijakan standar operasional prosedur terhadap setiap layanan yang mendukung Sistem Elektronik baik dalam kondisi normal, jika terjadi insiden siber, dan pasca insiden siber. | F21: Kebijakan standar operasional prosedur terhadap setiap layanan yang mendukung Sistem Elektronik baik dalam kondisi normal, jika terjadi insiden siber, dan pasca insiden siber sudah diterapkan pada sebagian kecil aspek namun belum ditetapkan. | G21: Kebijakan standar operasional prosedur terhadap setiap layanan yang mendukung Sistem Elektronik baik dalam kondisi normal, jika terjadi insiden siber, dan pasca insiden siber sudah diterapkan pada sebagian besar aspek namun belum ditetapkan. | H21: Kebijakan standar operasional prosedur terhadap setiap layanan yang mendukung Sistem Elektronik baik dalam kondisi normal, jika terjadi insiden siber, dan pasca insiden siber sudah diterapkan pada seluruh aspek dan sudah ditetapkan. | I21: Kebijakan standar operasional prosedur terhadap setiap layanan yang mendukung Sistem Elektronik baik dalam kondisi normal, jika terjadi insiden siber, dan pasca insiden siber sudah diterapkan pada seluruh aspek dan sudah ditetapkan, dilakukan monitoring dan direview secara berkala. | J21: Kebijakan standar operasional prosedur terhadap setiap layanan yang mendukung Sistem Elektronik baik dalam kondisi normal, jika terjadi insiden siber, dan pasca insiden siber sudah diterapkan pada seluruh aspek dan sudah ditetapkan, dilakukan monitoring dan direview secara berkala serta dievaluasi dan dilakukan perbaikan berkelanjutan.
A22: Sub Kategori 1.2.4 | B22: Menetapkan kebijakan penggunaan aset informasi bagi pegawai dan pihak ketiga | C22: Ruang Lingkup | D22: Indeks Nilai Kematangan | E22: Indeks 0 | F22: Indeks 1 | G22: Indeks 2 | H22: Indeks 3 | I22: Indeks 4 | J22: Indeks 5 | K22: Keterangan Validasi
A23: a | B23: Penyelenggara Sistem Elektronik menyusun kebijakan yang diperlukan untuk menjaga ketersediaan aset informasi, seperti kebijakan penggunaan perangkat pribadi di kantor (bring your own devices), kebijakan instalasi perangkat lunak pada perangkat kantor, kebijakan klasifikasi informasi, dsb. | C23: Tata Kelola | E23: Organisasi belum menyusun kebijakan yang diperlukan untuk menjaga ketersediaan aset informasi, seperti kebijakan penggunaan perangkat pribadi di kantor (bring your own devices), kebijakan instalasi perangkat lunak pada perangkat kantor, kebijakan klasifikasi informasi, dsb | F23: Kebijakan yang diperlukan untuk menjaga ketersediaan aset informasi, seperti kebijakan penggunaan perangkat pribadi di kantor (bring your own devices), kebijakan instalasi perangkat lunak pada perangkat kantor, kebijakan klasifikasi informasi sudah diterapkan pada sebagian kecil aspek, namun belum ditetapkan. | G23: Kebijakan yang diperlukan untuk menjaga ketersediaan aset informasi, seperti kebijakan penggunaan perangkat pribadi di kantor (bring your own devices), kebijakan instalasi perangkat lunak pada perangkat kantor, kebijakan klasifikasi informasi sudah diterapkan pada sebagian besar aspek, namun belum ditetapkan. | H23: Kebijakan yang diperlukan untuk menjaga ketersediaan aset informasi, seperti kebijakan penggunaan perangkat pribadi di kantor (bring your own devices), kebijakan instalasi perangkat lunak pada perangkat kantor, kebijakan klasifikasi informasi sudah diterapkan pada seluruh aspek dan sudah ditetapkan. | I23: Kebijakan yang diperlukan untuk menjaga ketersediaan aset informasi, seperti kebijakan penggunaan perangkat pribadi di kantor (bring your own devices), kebijakan instalasi perangkat lunak pada perangkat kantor, kebijakan klasifikasi informasi sudah diterapkan pada seluruh aspek dan sudah ditetapkan, dilakukan monitoring dan direview secara berkala. | J23: Kebijakan yang diperlukan untuk menjaga ketersediaan aset informasi, seperti kebijakan penggunaan perangkat pribadi di kantor (bring your own devices), kebijakan instalasi perangkat lunak pada perangkat kantor, kebijakan klasifikasi informasi sudah diterapkan pada seluruh aspek dan sudah ditetapkan, dilakukan monitoring dan direview secara berkala serta dievaluasi dan dilakukan perbaikan berkelanjutan.
A24: Kategori 1.3: | B24: Mengelola aset informasi
A25: Sub Kategori 1.3.1 | B25: Mengelola daftar inventaris aset informasi | C25: Ruang Lingkup | D25: Indeks Nilai Kematangan | E25: Indeks 0 | F25: Indeks 1 | G25: Indeks 2 | H25: Indeks 3 | I25: Indeks 4 | J25: Indeks 5 | K25: Keterangan Validasi
A26: a | B26: Dokumentasikan dan kelola dengan tepat daftar inventaris aset informasi seperti perangkat keras, perangkat lunak, data, dan layanan TIK yang akan dilindungi, beserta informasi manajemennya (misalnya nama aset, versi, alamat jaringan, nama penanggungjawab, informasi lisensi, dsb). | C26: Tata Kelola & Teknologi | E26: Organisasi belum menyusun daftar inventaris aset informasi seperti perangkat keras, perangkat lunak, data, dan layanan TIK yang akan dilindungi, beserta informasi manajemennya (misalnya nama aset, versi, alamat jaringan, nama penanggungjawab, informasi lisensi, dsb), belum mendokumentasikan dan mengelolanya. | F26: Organisasi telah melakukan dokumentasi dan pengelolaan pada sebagian kecil daftar inventaris aset informasi seperti perangkat keras, perangkat lunak, data, dan layanan TIK yang akan dilindungi, beserta informasi manajemennya (misalnya nama aset, versi, alamat jaringan, nama penanggungjawab, informasi lisensi, dsb) namun belum diformalkan | G26: Organisasi telah melakukan dokumentasi dan pengelolaan pada sebagian besar daftar inventaris aset informasi seperti perangkat keras, perangkat lunak, data, dan layanan TIK yang akan dilindungi, beserta informasi manajemennya (misalnya nama aset, versi, alamat jaringan, nama penanggungjawab, informasi lisensi, dsb) namun belum diformalkan | H26: Organisasi telah melakukan dokumentasi dan pengelolaan pada seluruh daftar inventaris aset informasi seperti perangkat keras, perangkat lunak, data, dan layanan TIK yang akan dilindungi, beserta informasi manajemennya (misalnya nama aset, versi, alamat jaringan, nama penanggungjawab, informasi lisensi, dsb) dan sudah diformalkan | I26: Organisasi telah melakukan dokumentasi dan pengelolaan pada seluruh daftar inventaris aset informasi seperti perangkat keras, perangkat lunak, data, dan layanan TIK yang akan dilindungi, beserta informasi manajemennya (misalnya nama aset, versi, alamat jaringan, nama penanggungjawab, informasi lisensi, dsb) dan sudah diformalkan, dilakukan monitoring dan direview secara berkala | J26: Organisasi telah melakukan dokumentasi dan pengelolaan pada seluruh daftar inventaris aset informasi seperti perangkat keras, perangkat lunak, data, dan layanan TIK yang akan dilindungi, beserta informasi manajemennya (misalnya nama aset, versi, alamat jaringan, nama penanggungjawab, informasi lisensi, dsb) dan sudah diformalkan, dilakukan monitoring dan direview secara berkala serta dievaluasi dan dilakukan perbaikan berkelanjutan.
A27: b | B27: Penyelenggara Sistem Elektronik memastikan pemberian label pada perangkat aset informasi oleh pihak yang berwenang di organisasi | C27: Tata Kelola | E27: Organisasi belum memiliki prosedur dan belum memastikan pemberian label pada perangkat aset informasi oleh pihak yang berwenang di organisasi | F27: Organisasi telah menerapkan prosedur pemberian label pada sebagian kecil aspek perangkat aset informasi oleh pihak yang berwenang di organisasi dan belum diformalkan | G27: Organisasi telah menerapkan prosedur pemberian label pada sebagian besar aspek perangkat aset informasi oleh pihak yang berwenang di organisasi namun belum diformalkan | H27: Organisasi telah menerapkan prosedur pemberian label pada seluruh aspek perangkat aset informasi oleh pihak yang berwenang di organisasi dan sudah diformalkan | I27: Organisasi telah menerapkan prosedur pemberian label pada seluruh aspek perangkat aset informasi oleh pihak yang berwenang di organisasi dan sudah diformalkan, dilakukan monitoring dan direview secara berkala. | J27: Organisasi telah menerapkan prosedur pemberian label pada seluruh aspek perangkat aset informasi oleh pihak yang berwenang di organisasi dan sudah diformalkan, dilakukan monitoring dan direview secara berkala, serta dievaluasi dan dilakukan perbaikan berkelanjutan.
A28: Sub Kategori 1.3.2 | B28: Memetakan jalur komunikasi dan alur data pada organisasi | C28: Ruang Lingkup | D28: Indeks Nilai Kematangan | E28: Indeks 0 | F28: Indeks 1 | G28: Indeks 2 | H28: Indeks 3 | I28: Indeks 4 | J28: Indeks 5 | K28: Keterangan Validasi
A29: a | B29: Penyelenggara Sistem Elektronik menyusun dokumentasi dan mengelola diagram jalur komunikasi jaringan dan aliran data dengan tepat dalam organisasi. | C29: Teknologi | E29: - Organisasi belum dapat menunjukan dokumentasi diagram jalur komunikasi jaringan (network architecture) dan aliran data (document data flow) yang berhubungan dengan layanan Sistem Elektronik. - Organisasi belum dapat menunjukan bahwa jalur komunikasi jaringan dan aliran data yang berhubungan dengan layanan Sistem Elektronik telah dikelola sesuai dengan persyaratan keamanan. | F29: Organisasi telah menyusun dokumentasi diagram jalur komunikasi jaringan dan aliran data dalam bentuk rancangan, atau dokumen diagram jalur komunikasi jaringan dan aliran data, namun baru diterapkan pada sebagian kecil aspek dan belum diformalkan | G29: Organisasi telah menyusun dokumentasi diagram jalur komunikasi jaringan dan aliran data dalam bentuk rancangan, atau dokumen diagram jalur komunikasi jaringan dan aliran data, namun baru diterapkan pada sebagian besar aspek dan belum diformalkan | H29: Organisasi telah menyusun dokumentasi diagram jalur komunikasi jaringan dan aliran data dalam bentuk rancangan, atau dokumen diagram jalur komunikasi jaringan dan aliran data, sudah diterapkan pada seluruh aspek dan sudah diformalkan | I29: Organisasi telah menyusun dokumentasi diagram jalur komunikasi jaringan dan aliran data dalam bentuk rancangan, atau dokumen diagram jalur komunikasi jaringan dan aliran data, sudah diterapkan pada seluruh aspek dan sudah diformalkan, dilakukan monitoring dan direview secara berkala | J29: Organisasi telah menyusun dokumentasi diagram jalur komunikasi jaringan dan aliran data dalam bentuk rancangan, atau dokumen diagram jalur komunikasi jaringan dan aliran data, sudah diterapkan pada seluruh aspek dan sudah diformalkan, dilakukan monitoring dan direview secara berkala, dilakukan evaluasi dan perbaikan secara berkelanjutan
A30: Sub Kategori 1.3.3 | B30: Menyusun katalog sistem informasi eksternal yang menggunakan data milik organisasi | C30: Ruang Lingkup | D30: Indeks Nilai Kematangan | E30: Indeks 0 | F30: Indeks 1 | G30: Indeks 2 | H30: Indeks 3 | I30: Indeks 4 | J30: Indeks 5 | K30: Keterangan Validasi
A31: a | B31: Dokumentasikan dan kelola dengan tepat daftar sistem informasi eksternal yang menggunakan data atau layanan Sistem Elektronik | C31: Tata Kelola | E31: Organisasi belum memiliki daftar sistem informasi stakeholder dan pihak eksternal yang menggunakan data atau layanan Sistem Elektronik | F31: Organisasi telah melaksanakan dokumentasi dan pengelolaan terhadap sebagian kecil aspek dari daftar sistem informasi stakeholder dan pihak eksternal yang menggunakan data atau layanan Sistem Elektronik namun belum diformalkan | G31: Organisasi telah melaksanakan dokumentasi dan pengelolaan terhadap sebagian besar daftar sistem informasi stakeholder dan pihak eksternal yang menggunakan data atau layanan Sistem Elektronik namun belum diformalkan | H31: Organisasi telah melaksanakan dokumentasi dan pengelolaan terhadap seluruh daftar sistem informasi stakeholder dan pihak eksternal yang menggunakan data atau layanan Sistem Elektronik dan sudah diformalkan | I31: Organisasi telah melaksanakan dokumentasi dan pengelolaan terhadap seluruh daftar sistem informasi stakeholder dan pihak eksternal yang menggunakan data atau layanan IIV dan sudah diformalkan, dilakukan monitoring dan direview secara berkala | J31: Organisasi telah melaksanakan dokumentasi dan pengelolaan terhadap seluruh daftar sistem informasi stakeholder dan pihak eksternal yang menggunakan data atau layanan Sistem Elektronik dan sudah diformalkan, dilakukan monitoring dan direview secara berkala, dievaluasi dan dilakukan perbaikan secara berkelanjutan
A32: b | B32: Dokumentasikan dan kelola dengan tepat daftar sistem informasi eksternal yang digunakan oleh Penyelenggara Sistem Elektronik. | C32: Tata Kelola | E32: Organisasi belum memiliki daftar sistem informasi eksternal apa saja yang digunakan untuk mendukung Penyelenggara Sistem Elektronik dalam menjalankan layanan Sistem Elektronik | F32: Organisasi telah melaksanakan dokumentasi dan pengelolaan yang tepat terhadap sebagian kecil aspek dari daftar sistem informasi eksternal yang digunakan untuk mendukung penyelenggara Sistem Elektronik dalam menjalankan layanan Sistem Elektronik, tapi belum diformalkan | G32: Organisasi telah melaksanakan dokumentasi dan pengelolaan yang tepat terhadap sebagian besar aspek dari daftar sistem informasi eksternal yang digunakan untuk mendukung penyelenggara Sistem Elektronik dalam menjalankan layanan Sistem Elektronik, tapi belum diformalkan | H32: Organisasi telah melaksanakan dokumentasi dan pengelolaan yang tepat terhadap seluruh aspek dari daftar sistem informasi eksternal yang digunakan untuk mendukung penyelenggara Sistem Elektronik dalam menjalankan layanan Sistem Elektronik, dan sudah diformalkan | I32: Organisasi telah melaksanakan dokumentasi dan pengelolaan yang tepat terhadap seluruh aspek dari daftar sistem informasi eksternal yang digunakan untuk mendukung penyelenggara Sistem Elektronik dalam menjalankan layanan Sistem Elektronik, dan sudah diformalkan, sudah dilakukan monitoring dan direview secara berkala | J32: Organisasi telah melaksanakan dokumentasi dan pengelolaan yang tepat terhadap seluruh aspek dari daftar sistem informasi eksternal yang digunakan untuk mendukung penyelenggara Sistem Elektronik dalam menjalankan layanan Sistem Elektronik, dan sudah diformalkan, sudah dilakukan monitoring dan direview secara berkala, dilakukan evaluasi dan perbaikan secara berkelanjutan dan mekanisme otomatisasi diterapkan
A33: Sub Kategori 1.3.4 | B33: Menyusun prioritas aset informasi berdasarkan klasifikasi, kekritisan, dan nilai bisnisnya | C33: Ruang Lingkup | D33: Indeks Nilai Kematangan | E33: Indeks 0 | F33: Indeks 1 | G33: Indeks 2 | H33: Indeks 3 | I33: Indeks 4 | J33: Indeks 5 | K33: Keterangan Validasi
A34: a | B34: Mengklasifikasikan dan memprioritaskan aset informasi seperti, perangkat keras, perangkat lunak, data, dan layanan TIK lainnya berdasarkan fungsi, kekritisan, dan nilai bisnis | C34: Tata Kelola | E34: Organisasi belum memiliki daftar aset informasi seperti, perangkat keras, perangkat lunak, data, dan layanan TIK lainnya | F34: Organisasi telah melaksanakan klasifikasi dan menyusun prioritas terhadap sebagian kecil aset informasi seperti, perangkat keras, perangkat lunak, data, dan layanan TIK lainnya berdasarkan fungsi, kekritisan, dan nilai bisnis, tapi belum diformalkan | G34: Organisasi telah melaksanakan klasifikasi dan menyusun prioritas terhadap sebagian besar aset informasi seperti, perangkat keras, perangkat lunak, data, dan layanan TIK lainnya berdasarkan fungsi, kekritisan, dan nilai bisnis, tapi belum diformalkan | H34: Organisasi telah melaksanakan klasifikasi dan menyusun prioritas terhadap seluruh aset informasi seperti, perangkat keras, perangkat lunak, data, dan layanan TIK lainnya berdasarkan fungsi, kekritisan, dan nilai bisnis, dan sudah diformalkan | I34: Organisasi telah melaksanakan klasifikasi dan menyusun prioritas terhadap seluruh aset informasi seperti, perangkat keras, perangkat lunak, data, dan layanan TIK lainnya berdasarkan fungsi, kekritisan, dan nilai bisnis, dan sudah diformalkan, dilakukan monitoring dan direview secara berkala | J34: Organisasi telah melaksanakan klasifikasi dan menyusun prioritas terhadap seluruh aset informasi seperti, perangkat keras, perangkat lunak, data, dan layanan TIK lainnya berdasarkan fungsi, kekritisan, dan nilai bisnis, dan sudah diformalkan, dilakukan monitoring dan direview secara berkala, dilakukan evaluasi dan perbaikan berkelanjutan serta mekanisme otomatisasi diterapkan
A35: Sub Kategori 1.3.5 | B35: Mengendalikan aset informasi milik organisasi | C35: Ruang Lingkup | D35: Indeks Nilai Kematangan | E35: Indeks 0 | F35: Indeks 1 | G35: Indeks 2 | H35: Indeks 3 | I35: Indeks 4 | J35: Indeks 5 | K35: Keterangan Validasi
A36: a | B36: Menentukan metode untuk memastikan ketertelusuran aset informasi seperti membuat catatan mengenai tanggal produksi atau pengadaan aset, kondisi aset, catatan pemakaian, dan pelaporan kepada unit kerja terkait. | C36: Tata Kelola & Teknologi | E36: Organisasi belum memiliki metode penelusuran aset informasi | F36: Organisasi telah menerapkan metode pada sebagian kecil aspek untuk memastikan ketertelusuran aset informasi seperti membuat catatan mengenai tanggal produksi atau pengadaan aset, kondisi aset, catatan pemakaian, dan pelaporan kepada unit kerja terkait, tapi belum diformalkan | G36: Organisasi telah menerapkan metode pada sebagian besar aspek untuk memastikan ketertelusuran aset informasi seperti membuat catatan mengenai tanggal produksi atau pengadaan aset, kondisi aset, catatan pemakaian, dan pelaporan kepada unit kerja terkait, dan belum diformalkan | H36: Organisasi telah menerapkan metode pada seluruh aspek untuk memastikan ketertelusuran aset informasi seperti membuat catatan mengenai tanggal produksi atau pengadaan aset, kondisi aset, catatan pemakaian, dan pelaporan kepada unit kerja terkait, dan telah diformalkan | I36: Organisasi telah menerapkan metode pada seluruh aspek untuk memastikan ketertelusuran aset informasi seperti membuat catatan mengenai tanggal produksi atau pengadaan aset, kondisi aset, catatan pemakaian, dan pelaporan kepada unit kerja terkait, dan telah diformalkan, dilakukan monitoring dan direview secara berkala | J36: Organisasi telah menerapkan metode pada seluruh aspek untuk memastikan ketertelusuran aset informasi seperti membuat catatan mengenai tanggal produksi atau pengadaan aset, kondisi aset, catatan pemakaian, dan pelaporan kepada unit kerja terkait, dan telah diformalkan, dilakukan monitoring dan direview secara berkala, dilaksanakan evaluasi dan perbaikan berkelanjutan serta diterapkan mekanisme otomatisasi
A37: b | B37: Secara aktif memeriksa keterbaharuan dan memperbaharui dari setiap versi perangkat lunak dan perangkat keras yang digunakan oleh organisasi. | C37: Teknologi | E37: Organisasi belum pernah memeriksa versi perangkat lunak dan perangkat keras, serta keterbaharuan dari perangkat lunak dan perangkat keras tersebut. | F37: Organisasi telah memeriksa versi pada sebagian kecil perangkat lunak dan perangkat keras, serta keterbaharuannya dari sebagian kecil perangkat-perangkat tersebut yang digunakan oleh organisasi, namun belum diformalkan | G37: Organisasi telah memeriksa versi pada sebagian besar perangkat lunak dan perangkat keras, serta keterbaharuannya dari sebagian besar perangkat-perangkat tersebut yang digunakan oleh organisasi, namun belum diformalkan | H37: Organisasi telah memeriksa versi pada seluruh perangkat lunak dan perangkat keras, serta keterbaharuannya dari seluruh perangkat-perangkat tersebut yang digunakan oleh organisasi, dan telah diformalkan | I37: Organisasi telah memeriksa versi pada seluruh perangkat lunak dan perangkat keras, serta keterbaharuannya dari seluruh perangkat-perangkat tersebut yang digunakan oleh organisasi, dan telah diformalkan, dilakukan monitoring dan direview secara berkala | J37: Organisasi telah memeriksa versi pada seluruh perangkat lunak dan perangkat keras, serta keterbaharuannya dari seluruh perangkat-perangkat tersebut yang digunakan oleh organisasi, dan telah diformalkan, dilakukan monitoring dan direview secara berkala, dilakukan evaluasi dan perbaikan berkelanjutan serta menerapkan mekanisme otomatisasi
A38: Kategori 1.4: | B38: Menilai dan mengelola risiko Keamanan Siber
A39: Sub Kategori 1.4.1 | B39: Mengidentifikasi dan mendokumentasikan kerentanan terhadap aset informasi | C39: Ruang Lingkup | D39: Indeks Nilai Kematangan | E39: Indeks 0 | F39: Indeks 1 | G39: Indeks 2 | H39: Indeks 3 | I39: Indeks 4 | J39: Indeks 5 | K39: Keterangan Validasi
A40: a | B40: Identifikasi kerentanan terhadap seluruh aset informasi di organisasi, misalnya melalui penetration testing dan vulnerability assessment, serta dokumentasikan daftar kerentanan yang teridentifikasi tersebut bersama dengan daftar aset terkait. | C40: Teknologi | E40: Organisasi belum melaksanakan identifikasi kerentanan terhadap seluruh aset informasi di organisasi, misalnya melalui penetration testing dan vulnerability assessment, serta belum memiliki daftar kerentanan yang teridentifikasi tersebut bersama dengan daftar aset terkait. | F40: Organisasi telah melaksanakan identifikasi kerentanan terhadap sebagian kecil aset informasi di organisasi, dan melaksanakan dokumentasi terhadap sebagian kecil kerentanan yang teridentifikasi tersebut bersama dengan daftar aset terkait, tapi belum diformalkan | G40: Organisasi telah melaksanakan identifikasi kerentanan terhadap sebagian besar aset informasi di organisasi, dan melaksanakan dokumentasi terhadap sebagian besar kerentanan yang teridentifikasi tersebut bersama dengan daftar aset terkait, namun belum diformalkan | H40: Organisasi telah melaksanakan identifikasi kerentanan terhadap seluruh aset informasi di organisasi, misalnya melalui penetration testing dan vulnerability assessment, dan melaksanakan dokumentasi terhadap seluruh daftar kerentanan yang teridentifikasi tersebut bersama dengan daftar aset terkait, dan telah diformalkan | I40: Organisasi telah melaksanakan identifikasi kerentanan terhadap seluruh aset informasi di organisasi, misalnya melalui penetration testing dan vulnerability assessment, dan melaksanakan dokumentasi terhadap seluruh daftar kerentanan yang teridentifikasi tersebut bersama dengan daftar aset terkait, dan telah diformalkan, dilakukan monitoring dan direview secara berkala | J40: Organisasi telah melaksanakan identifikasi kerentanan terhadap seluruh aset informasi di organisasi, misalnya melalui penetration testing dan vulnerability assessment, dan melaksanakan dokumentasi terhadap seluruh daftar kerentanan yang teridentifikasi tersebut bersama dengan daftar aset terkait, dan telah diformalkan, dilakukan monitoring dan direview secara berkala, dilakukan evaluasi dan perbaikan berkelanjutan serta menerapkan mekanisme otomatisasi
A41: Sub Kategori 1.4.2 | B41: Mengidentifikasi dan mendokumentasikan informasi terkait ancaman dan kerentanan yang diperoleh dari internal maupun eksternal | C41: Ruang Lingkup | D41: Indeks Nilai Kematangan | E41: Indeks 0 | F41: Indeks 1 | G41: Indeks 2 | H41: Indeks 3 | I41: Indeks 4 | J41: Indeks 5 | K41: Keterangan Validasi
...

Sheet II Proteksi
A2: DOMAIN II: PROTEKSI
A3: Kategori 2.1: | B3: Mengelola identitas, autentikasi, dan kendali akses
A4: Sub Kategori 2.1.1 | B4: Mengelola identitas dan kredensial yang menggunakan layanan Sistem Elektronik | C4: Ruang Lingkup | D4: Indeks Nilai Kematangan | E4: Indeks 0 | F4: Indeks 1 | G4: Indeks 2 | H4: Indeks 3 | I4: Indeks 4 | J4: Indeks 5 | K4: Keterangan Validasi
A5: a | B5: Menetapkan dan menerapkan prosedur untuk menerbitkan, mengelola, memeriksa, membatalkan, dan memantau informasi tentang identitas dan kredensial terhadap aset informasi dan personel yang menggunakan Sistem Elektronik. | C5: Tata Kelola & Teknologi | E5: Belum memiliki prosedur pengelolaan aset informasi dan personel yang menggunakan Sistem Elektronik | F5: Prosedur pengelolaan aset informasi dan personel yang menggunakan Sistem Elektronik sudah diterapkan pada sebagian kecil aspek namun belum diformalkan | G5: Prosedur pengelolaan aset informasi dan personel yang menggunakan Sistem Elektronik sudah diterapkan pada sebagian besar aspek namun belum diformalkan | H5: Prosedur pengelolaan aset informasi dan personel yang menggunakan Sistem Elektronik sudah diformalkan dan diterapkan pada seluruh aspek | I5: - Prosedur pengelolaan aset informasi dan personel yang menggunakan Sistem Elektronik sudah diformalkan dan diterapkan pada seluruh aspek. - Prosedur tersebut dimonitor pelaksanaanya dan direview secara berkala. | J5: - Prosedur pengelolaan aset informasi dan personel yang menggunakan Sistem Elektronik sudah diformalkan dan diterapkan pada seluruh aspek. - Prosedur tersebut dimonitor pelaksanaanya dan direview secara berkala, serta dilakukan perbaikan secara berkelanjutan.
A6: Sub Kategori 2.1.2 | B6: Mengelola akses jarak jauh terhadap layanan Sistem Elektronik | C6: Ruang Lingkup | D6: Indeks Nilai Kematangan | E6: Indeks 0 | F6: Indeks 1 | G6: Indeks 2 | H6: Indeks 3 | I6: Indeks 4 | J6: Indeks 5 | K6: Keterangan Validasi
A7: a | B7: Penyelenggara Sistem Elektronik menyusun prosedur tentang mekanisme identifikasi pengguna layanan, pemberian akses, dan otorisasi terhadap layanan, termasuk pemberian koneksi terhadap pengguna, perangkat IoT, dan/atau server. | C7: Tata Kelola & Teknologi | E7: Belum memiliki prosedur mekanisme identifikasi pengguna layanan, pemberian akses, dan otorisasi terhadap layanan | F7: Prosedur mekanisme identifikasi pengguna layanan, pemberian akses, dan otorisasi terhadap layanan sudah diterapkan pada sebagian kecil aspek namun belum diformalkan | G7: Prosedur mekanisme identifikasi pengguna layanan, pemberian akses, dan otorisasi terhadap layanan sudah diterapkan pada sebagian besar aspek namun belum diformalkan | H7: Prosedur mekanisme identifikasi pengguna layanan, pemberian akses, dan otorisasi terhadap layanan sudah diformalkan dan diterapkan pada seluruh aspek | I7: - Prosedur mekanisme identifikasi pengguna layanan, pemberian akses, dan otorisasi terhadap layanan sudah diformalkan dan diterapkan pada seluruh aspek. - Prosedur tersebut dimonitor pelaksanaanya dan direview secara berkala. | J7: - Prosedur mekanisme identifikasi pengguna layanan, pemberian akses, dan otorisasi terhadap layanan sudah diformalkan dan diterapkan pada seluruh aspek. - Prosedur tersebut dimonitor pelaksanaanya dan direview secara berkala, serta dilakukan perbaikan secara berkelanjutan.
A8: b | B8: Tersedianya dan diterapkannya prosedur pencegahan terhadap upaya memasuki perangkat atau jaringan secara tidak sah, dengan menerapkan langkah-langkah seperti menerapkan fungsi untuk penguncian setelah sejumlah upaya masuk yang gagal dan memberikan interval waktu hingga keamanannya dipastikan. | C8: Teknologi | E8: Belum memiliki prosedur pencegahan terhadap upaya serangan melalui perangkat atau jaringan | F8: Prosedur pencegahan terhadap upaya serangan melalui perangkat atau jaringan sudah diterapkan pada sebagian kecil aspek namun belum diformalkan | G8: Prosedur pencegahan terhadap upaya serangan melalui perangkat atau jaringan sudah diterapkan pada sebagian besar aspek namun belum diformalkan | H8: Prosedur pencegahan terhadap upaya serangan melalui perangkat atau jaringan sudah diformalkan dan diterapkan pada seluruh aspek | I8: - Prosedur pencegahan terhadap upaya serangan melalui perangkat atau jaringan sudah diformalkan dan diterapkan pada seluruh aspek - Prosedur tersebut dimonitor pelaksanaanya dan direview secara berkala | J8: - Prosedur pencegahan terhadap upaya serangan melalui perangkat atau jaringan sudah diformalkan dan diterapkan pada seluruh aspek - Prosedur tersebut dimonitor pelaksanaanya dan direview secara berkala, serta dilakukan perbaikan secara berkelanjutan
A9: Sub Kategori 2.1.3 | B9: Mengelola izin akses dan otorisasi layanan Sistem Elektronik | C9: Ruang Lingkup | D9: Indeks Nilai Kematangan | E9: Indeks 0 | F9: Indeks 1 | G9: Indeks 2 | H9: Indeks 3 | I9: Indeks 4 | J9: Indeks 5 | K9: Keterangan Validasi
A10: a | B10: Menyusun dan menerapkan prosedur untuk memisahkan hak akses sesuai tugas dan area tanggung jawab (misalnya, pisahkan fungsi untuk pengguna dari fungsi untuk administrator sistem) | C10: Tata Kelola & Teknologi | E10: Belum memiliki prosedur pemisahan hak akses | F10: Prosedur pemisahan hak akses sudah diterapkan pada sebagian kecil aspek namun belum diformalkan | G10: Prosedur pemisahan hak akses sudah diterapkan pada sebagian besar aspek namun belum diformalkan | H10: Prosedur pemisahan hak akses sudah diformalkan dan diterapkan pada seluruh aspek | I10: - Prosedur pemisahan hak akses sudah diformalkan dan diterapkan pada seluruh aspek - Prosedur tersebut dimonitor pelaksanaanya dan direview secara berkala | J10: - Prosedur pemisahan hak akses sudah diformalkan dan diterapkan pada seluruh aspek - Prosedur tersebut dimonitor pelaksanaanya dan direview secara berkala, serta dilakukan perbaikan secara berkelanjutan
A11: b | B11: Tersedianya prosedur pembatasan komunikasi oleh perangkat dan server kepada pengguna sesuai dengan tingkat risikonya. | C11: Teknologi | E11: Belum memiliki prosedur pembatasan komunikasi perangkat dan server | F11: Prosedur pembatasan komunikasi perangkat dan server sudah diterapkan pada sebagian kecil aspek namun belum diformalkan | G11: Prosedur pembatasan komunikasi perangkat dan server sudah diterapkan pada sebagian besar aspek namun belum diformalkan | H11: Prosedur pembatasan komunikasi perangkat dan server sudah diformalkan diterapkan pada seluruh aspek | I11: - Prosedur pembatasan komunikasi perangkat dan server sudah diformalkan diterapkan pada seluruh aspek - Prosedur tersebut dimonitor pelaksanaanya dan direview secara berkala | J11: - Prosedur pembatasan komunikasi perangkat dan server sudah diformalkan diterapkan pada seluruh aspek - Prosedur tersebut dimonitor pelaksanaanya dan direview secara berkala, serta dilakukan perbaikan secara berkelanjutan
A12: Sub Kategori 2.1.4 | B12: Memastikan penerapan sistem autentikasi terhadap pengguna, perangkat, dan aset informasi sesuai tingkat risikonya | C12: Ruang Lingkup | D12: Indeks Nilai Kematangan | E12: Indeks 0 | F12: Indeks 1 | G12: Indeks 2 | H12: Indeks 3 | I12: Indeks 4 | J12: Indeks 5 | K12: Keterangan Validasi
A13: a | B13: Perangkat, pengguna, dan aset informasi lainnya menggunakan sistem otentikasi tertentu (misalnya, multi-factor authentication) sesuai dengan tingkat risiko nya terhadap sistem. | C13: Tata Kelola & Teknologi | E13: Belum memiliki sistem otentikasi untuk perangkat, pengguna, dan aset informasi lainnya | F13: Sistem otentikasi untuk perangkat, pengguna, dan aset informasi lainnya sudah diterapkan pada sebagian kecil aspek tapi belum diformalkan | G13: Sistem otentikasi untuk perangkat, pengguna, dan aset informasi lainnya sudah diterapkan pada sebagian besar aspek tapi belum diformalkan | H13: Sistem otentikasi untuk perangkat, pengguna, dan aset informasi lainnya sudah diformalkan dan diterapkan pada seluruh aspek | I13: - Sistem otentikasi untuk perangkat, pengguna, dan aset informasi lainnya sudah diformalkan dan diterapkan pada seluruh aspek - Sistem tersebut dimonitor pelaksanaanya dan direview secara berkala | J13: - Sistem otentikasi untuk perangkat, pengguna, dan aset informasi lainnya sudah diformalkan dan diterapkan pada seluruh aspek, serta dilakukan otomatisasi - Sistem tersebut dimonitor pelaksanaanya dan direview secara berkala
A14: Kategori 2.2: | B14: Melindungi aset fisik
A15: Sub Kategori 2.2.1 | B15: Menyediakan prosedur operasional pelindungan terhadap aset fisik yang mendukung layanan Sistem Elektronik | C15: Ruang Lingkup | D15: Indeks Nilai Kematangan | E15: Indeks 0 | F15: Indeks 1 | G15: Indeks 2 | H15: Indeks 3 | I15: Indeks 4 | J15: Indeks 5 | K15: Keterangan Validasi
A16: a | B16: Menetapkan dan menerapkan prosedur keamanan fisik terhadap akses kontrol yang sesuai seperti mengunci dan membatasi akses ke area tempat perangkat dan server dipasang, menggunakan kontrol masuk dan keluar, otentikasi biometrik, memasang kamera pengintai, dan/atau memeriksa barang bawaan. | C16: Tata Kelola & Teknologi | E16: Belum memiliki prosedur keamanan fisik terhadap akses kontrol | F16: Prosedur keamanan fisik terhadap akses kontrol sudah diterapkan pada sebagian kecil aspek namun belum diformalkan | G16: Prosedur keamanan fisik terhadap akses kontrol sudah diterapkan pada sebagian besar aspek namun belum diformalkan | H16: Prosedur keamanan fisik terhadap akses kontrol sudah diformalkan dan diterapkan pada seluruh aspek | I16: - Prosedur keamanan fisik terhadap akses kontrol sudah diformalkan dan diterapkan pada seluruh aspek - Prosedur tersebut dimonitor pelaksanaanya dan direview secara berkala | J16: - Prosedur keamanan fisik terhadap akses kontrol sudah diformalkan dan diterapkan pada seluruh aspek - Prosedur tersebut dimonitor pelaksanaanya dan direview secara berkala, serta dilakukan perbaikan secara berkelanjutan
