Workbook

Sheet Pengantar
B11: INDIKATOR EVALUASI PENERAPAN DOMAIN KERANGKA KERJA DAN KATEGORI KEGIATAN
B12: Kategori Tingkat Kematangan | E12: Kriteria
B13: Level 1 (satu) | C13: Level Awal | D13: Dengan nilai kematangan pada rentang indeks 0 (nol) - 1,50 (satu koma lima nol) | E13: Menggambarkan kondisi penerapan Keamanan Siber dalam tahap implementasi awal | F13: Penerapan Keamanan Siber belum memiliki prosedur yang terorganisir | G13: Penerapan Keamanan Siber bersifat informal | H13: Keamanan Siber tidak dilakukan secara konsisten dan berkelanjutan | I13: Dokumen manajemen risiko dan dokumen kontrol belum disusun
B14: Level 2 (dua) | C14: Level Berulang | D14: Dengan dengan nilai kematangan pada rentang indeks 1,51 (satu koma lima satu) - 2,50 (dua koma lima nol) | E14: Menggambarkan kondisi penerapan Keamanan Siber dalam tahap implementasi yang berulang | F14: Penerapan Keamanan Siber sudah memiliki prosedur yang terorganisir | G14: Penerapan Keamanan Siber bersifat informal | H14: Keamanan Siber dilakukan secara berulang namun belum konsisten dan belum berkelanjutan | I14: Dokumen manajemen risiko dan dokumen kontrol sudah disusun namun belum ditetapkan
B15: Level 3 (tiga) | C15: Level Terdefinisi | D15: Dengan nilai kematangan pada rentang indeks 2,51 (dua koma lima satu) - 3,50 (tiga koma lima nol) | E15: Menggambarkan kondisi penerapan Keamanan Siber dalam tahap implementasi yang telah terdefinisi dengan baik | F15: Penerapan Keamanan Siber telah terorganisir dengan jelas | G15: Penerapan Keamanan Siber bersifat formal | H15: Keamanan Siber dilakukan secara berulang dan konsisten serta direviu secara berkala | I15: Dokumen manajemen risiko dan dokumen kontrol sudah disusun dan sudah ditetapkan
B16: Level 4 (empat) | C16: Level Terkelola | D16: Dengan nilai kematangan pada rentang indeks 3,51 (tiga koma lima satu) - 4,50 (empat koma lima nol) | E16: Menggambarkan kondisi penerapan Keamanan Siber dalam tahap implementasi yang telah terkelola dengan baik | F16: Penerapan Keamanan Siber telah terorganisir dengan baik namun belum dilakukan proses otomatisasi | G16: Penerapan Keamanan Siber bersifat formal | H16: Keamanan Siber dilakukan secara berulang dan implementasi perbaikan dilakukan berkelanjutan | I16: Dokumen manajemen risiko dan dokumen kontrol sudah disusun dan sudah ditetapkan
B17: Level 5 (lima) | C17: Level Inovatif | D17: Dengan nilai kematangan pada rentang indeks 4,51 (empat koma lima satu) - 5,0 (lima koma nol) | E17: Menggambarkan kondisi penerapan Keamanan Siber telah diimplementasikan secara optimal | F17: Penerapan Keamanan Siber telah terorganisir dengan baik dan telah dilakukan proses otomatisasi | G17: Penerapan Keamanan Siber bersifat formal | H17: - Keamanan siber dilakukan secara berulang dan konsisten serta telah terintegrasi - keamanan siber menjadi bagian budaya organisasi secara menyeluruh | I17: Dokumen manajemen risiko dan dokumen kontrol sudah ditetapkan
B19: Petunjuk Penggunaan Instrumen
B20: 1. Instrumen ini dapat digunakan oleh Penyelenggara Sistem Elektronik untuk mendapatkan gambaran mengenai kematangan keamanan siber yang dijalankannya; 2. Instrumen ini dianjurkan untuk dilakukan oleh pejabat yang secara langsung bertanggung jawab dan berwenang mengelola keamanan siber di seluruh cakupan organisasinya; 3. Proses penilaian dilakukan melalui evaluasi kondisi penerapan kontrol kerangka kerja pada masing-masing domain; 4. Kondisi penerapan kontrol tersebut dibagi menjadi 6 rentang indeks Nilai Kematangan dari indeks 0 sampai dengan indeks 5 pada masing-masing kontrol; 5. Responden diminta untuk menentukan Target Level Kematangan dan Target Nilai Kematangan; 6. Selanjutnya, Responden diminta untuk mengisi Indeks Nilai Kematangan sesuai dengan kondisi penerapan kontrol pada cakupan organisasinya; 7. Kontrol tersebut dibagi ke dalam masing-masing domain dari domain identifikasi (sheet 'I Identifikasi'), proteksi (sheet 'II Proteksi'), deteksi (sheet 'III Deteksi'), sampai ke domain penanggulangan dan pemulihan (sheet 'IV Gulih'); 8. Hasil Pengisian Responden akan ditunjukkan pada sheet 'Kematangan Kamsiber'.
B22: Disclaimer
B23: Instrumen Penilaian Kematangan Keamanan Siber (IKAS) ini disediakan sebagai alat bantu untuk mengukur dan mengevaluasi tingkat kematangan keamanan siber organisasi Anda. Harap diperhatikan hal-hal berikut: a) Tidak Ada Jaminan: Meskipun kami telah berusaha untuk memastikan bahwa informasi yang terkandung dalam instrumen ini akurat dan terkini, kami tidak menjamin bahwa instrumen ini bebas dari kesalahan atau kelalaian. Hasil penilaian sebaiknya digunakan sebagai panduan umum dan tidak sebagai saran profesional atau keputusan akhir. b) Tidak Bertanggung Jawab atas Kerugian: Kami tidak bertanggung jawab atas kerugian, kerusakan, atau konsekuensi lain yang timbul dari penggunaan atau ketergantungan pada instrumen ini. Pengguna bertanggung jawab penuh atas penerapan hasil penilaian dan keputusan yang diambil berdasarkan hasil tersebut. c) Kustomisasi dan Penyesuaian: Instrumen ini mungkin memerlukan kustomisasi lebih lanjut agar sesuai dengan kebutuhan spesifik dan konteks organisasi Anda. Kami merekomendasikan untuk berkonsultasi dengan profesional keamanan siber yang berpengalaman untuk interpretasi dan implementasi hasil yang lebih akurat. d) Kepatuhan dan Regulasi: Penggunaan instrumen ini tidak menjamin kepatuhan terhadap standar keamanan siber yang berlaku. Organisasi tetap bertanggung jawab untuk memastikan kepatuhan terhadap standar industri yang relevan. e) Kerjasama Tim: Penilaian kematangan keamanan siber adalah upaya tim yang melibatkan berbagai pemangku kepentingan di seluruh organisasi. Kami menyarankan kolaborasi dan komunikasi yang baik di antara tim keamanan siber, manajemen, dan staf lainnya untuk hasil yang optimal. f) Kerahasiaan: Instrumen Penilaian Kematangan Keamanan Siber (IKAS) ini mengumpulkan data sensitif yang berkaitan dengan praktik keamanan siber Anda. Kami memahami pentingnya privasi dan kerahasiaan data tersebut. Oleh karena itu, kami berkomitmen untuk melindungi informasi yang Anda berikan dengan langkah-langkah keamanan yang sesuai. g) Penggunaan Terbatas: Data yang dikumpulkan tidak akan dibagikan kepada pihak ketiga tanpa persetujuan eksplisit dari Anda, kecuali jika diwajibkan oleh hukum. Dengan menggunakan instrumen ini, Anda mengakui bahwa Anda telah membaca, memahami, dan setuju dengan syarat dan ketentuan yang tercantum dalam disclaimer ini.

Sheet Responden
B1: INSTRUMEN PENILAIAN KEMATANGAN KEAMANAN SIBER
B2: BADAN SIBER DAN SANDI NEGARA
B4: Instansi/Penyelenggara Sistem Elektronik | C4: :
B5: Nama Sistem Elektronik | C5: :
B6: Jenis Sistem Elektronik | C6: : | D6: IT
B7: Sektor | C7: : | D7: sektor lain
B8: Alamat | C8: :
B9: Alamat Surel (e-mail) | C9: :
B10: Nomor Telepon | C10: :
B11: Nama Responden | C11: :
B12: Jabatan Responden | C12: :
B13: Tahun Pengukuran | C13: : | D13: 2025
B14: Target Level Kematangan | C14: : | D14: Level 3
B15: Target Nilai | C15: : | D15: 2.51 | E15: =H15 -> rentang target nilai/indeks 2,51 – 3,50 | H15: =IF(D14="Level 1","rentang target nilai/indeks 0 – 1,50",IF(D14="Level 2","rentang target nilai/indeks 1,51 – 2,50",IF(D14="Level 3","rentang target nilai/indeks 2,51 – 3,50", IF(D14="Level 4","rentang target nilai/indeks 3,51 – 4,50", IF(D14="Level 5","rentang target nilai/indeks 4,51 – 5,00", ""))))) -> rentang target nilai/indeks 2,51 – 3,50
B16: Acuan Manajemen Risiko yang Digunakan | C16: :
B17: Acuan Keamanan Siber yang Digunakan | C17: :
B18: Tanggal Pengisian | C18: :

Sheet I Identifikasi
A2: DOMAIN I: IDENTIFIKASI
A3: Kategori 1.1: | B3: Mengidentifikasi Peran dan tanggung jawab organisasi
A4: Sub Kategori 1.1.1 | B4: Menetapkan dan mengomunikasikan prioritas untuk misi, tujuan, dan kegiatan pengamanan sistem elektronik di organisasi | C4: Ruang Lingkup | D4: Indeks Nilai Kematangan | E4: Indeks 0 | F4: Indeks 1 | G4: Indeks 2 | H4: Indeks 3 | I4: Indeks 4 | J4: Indeks 5 | K4: Keterangan Validasi
A5: a | B5: Pimpinan organisasi menetapkan keamanan siber sebagai prioritas di organisasi dalam bentuk kebijakan atau komitmen pimpinan yang sesuai dengan kondisi bisnis/layanan dan operasional organisasi. | C5: Tata Kelola | E5: Belum ada penerapan kebijakan atau komitmen pimpinan terkait keamanan siber. | F5: Kebijakan Keamanan Siber diterapkan pada sebagian kecil aspek, namun belum ditetapkan secara formal | G5: Kebijakan Keamanan Siber diterapkan pada sebagian besar aspek, namun belum ditetapkan secara formal | H5: - Kebijakan terkait keamanan siber telah disusun dan ditetapkan - Pimpinan berkomitmen untuk memasukkan keamanan siber sebagai prioritas organisasi. | I5: - Kebijakan terkait keamanan siber telah disusun, ditetapkan, dimonitor, dan dilakukan review secara berkala - Pimpinan berkomitmen untuk memasukkan keamanan siber sebagai prioritas organisasi. | J5: - Kebijakan terkait keamanan siber telah disusun, ditetapkan, dimonitor, dan dilakukan review serta pembaruan secara berkala - Pimpinan berkomitmen untuk memasukkan keamanan siber sebagai prioritas organisasi.
A6: b | B6: Penyelenggara Sistem Elektronik mengomunikasikan perihal komitmen keamanan siber di organisasinya dengan pihak-pihak yang terkait dengan bisnis/layanan organisasi (termasuk kepada penyedia pihak ketiga). | C6: Tata Kelola | E6: Komitmen dan kebijakan keamanan siber yang harus dipatuhi pihak terkait belum dikomunikasikan | F6: Kebijakan keamanan siber yang harus dipatuhi pihak terkait sudah dikomunikasikan pada sebagian kecil aspek, namun belum ditetapkan secara formal | G6: Kebijakan keamanan siber yang harus dipatuhi pihak terkait sudah dikomunikasikan pada sebagian besar aspek, namun belum ditetapkan secara formal | H6: Kebijakan keamanan siber yang harus dipatuhi pihak terkait sudah dikomunikasikan pada seluruh aspek dan sudah ditetapkan secara formal | I6: Kebijakan keamanan siber yang harus dipatuhi pihak terkait sudah dikomunikasikan pada seluruh aspek dan sudah ditetapkan secara formal, dimonitor, dan dilakukan review secara berkala | J6: Kebijakan keamanan siber yang harus dipatuhi pihak terkait sudah dikomunikasikan pada seluruh aspek dan sudah ditetapkan secara formal, dimonitor, dan dilakukan review secara berkala, dan dilakukan perbaikan.
A7: Sub Kategori 1.1.2 | B7: Mengidentifikasi ketergantungan organisasi dengan pihak terkait lainnya | C7: Ruang Lingkup | D7: Indeks Nilai Kematangan | E7: Indeks 0 | F7: Indeks 1 | G7: Indeks 2 | H7: Indeks 3 | I7: Indeks 4 | J7: Indeks 5 | K7: Keterangan Validasi
A8: a | B8: Penyelenggara Sistem Elektronik mengidentifikasi unit kerja di internal organisasinya, maupun pihak lain di luar organisasinya yang memiliki ketergantungan, baik secara langsung maupun tidak langsung terhadap operasional layanan Sistem Elektronik di organisasinya. | C8: Tata Kelola | E8: - Belum dilakukan identifikasi unit kerja maupun pihak lain yang bergantung pada layanan Sistem Elektronik di organisasinya - Belum ada prosedur identifikasi ketergantungan | F8: - Organisasi mengetahui sebagian kecil unit kerja maupun pihak lain yang bergantung pada layanan Sistem Elektronik di organisasinya, namun prosedur identifikasi ketergantungan belum ditetapkan secara formal | G8: - Organisasi mengetahui sebagian besar unit kerja maupun pihak lain yang bergantung pada layanan Sistem Elektronik di organisasinya, namun prosedur identifikasi ketergantungan belum ditetapkan secara formal | H8: - Identifikasi unit kerja maupun pihak lain yang bergantung pada layanan SE di organisasinya telah dilakukan secara menyeluruh - Prosedur identifikasi ketergantungan sudah ditetapkan. | I8: - Identifikasi unit kerja maupun pihak lain yang bergantung pada layanan Sistem Elektronik di organisasinya telah dilakukan - Prosedur identifikasi ketergantungan sudah ditetapkan dan dievaluasi secara berkala - Daftar unit kerja atau pihak lain yang bergantung pada layanan Sistem Elektronik di organisasinya dimonitor dan dievaluasi secara berkala - Belum ada mekanisme/siklus pembaruan daftar unit kerja atau pihak lain yang bergantung pada layanan Sistem Elektronik di organisasinya | J8: - Identifikasi unit kerja maupun pihak lain yang bergantung pada layanan Sistem Elektronik di organisasinya telah dilakukan - Prosedur identifikasi ketergantungan sudah ditetapkan dan dievaluasi serta diperbarui secara berkala - Sudah ada mekanisme/siklus pembaruan daftar unit kerja atau pihak lain yang bergantung pada layanan Sistem Elektronik di organisasinya - Daftar unit kerja atau pihak lain yang bergantung pada layanan Sistem Elektronik di organisasinya dimonitor, dievaluasi, dan diperbarui secara berkala
A9: Sub Kategori 1.1.3 | B9: Mengidentifikasi dan mengomunikasikan peran organisasi di dalam sektor Sistem Elektronik | C9: Ruang Lingkup | D9: Indeks Nilai Kematangan | E9: Indeks 0 | F9: Indeks 1 | G9: Indeks 2 | H9: Indeks 3 | I9: Indeks 4 | J9: Indeks 5 | K9: Keterangan Validasi
A10: a | B10: Penyelenggara Sistem Elektronik mengidentifikasi dan menetapkan unit kerja atau fungsi yang memiliki tugas dan tanggung jawab dalam menerapkan pengamanan Sistem Elektronik di organisasinya. | C10: Tata Kelola | E10: Belum adanya rencana terkait identifikasi unit kerja atau fungsi yang memiliki tugas dan tanggung jawab dalam menerapkan pengamanan Sistem Elektronik di organisasinya. | F10: Sudah terdapat unit kerja yang menerapkan sebagian kecil fungsi pengamanan Sistem Elektronik di organisasinya, namun belum ditetapkan tugas dan tanggung jawab secara formal | G10: Sudah terdapat unit kerja yang menerapkan sebagian besar fungsi pengamanan Sistem Elektronik di organisasinya, namun belum ditetapkan tugas dan tanggung jawab secara formal | H10: Seluruh fungsi dalam menerapkan pengamanan Sistem Elektronik telah diidentifikasi dan unit kerja yang memiliki tugas dan tanggung jawab dalam menerapkan pengamanan Sistem Elektronik di organisasinya telah ditetapkan. | I10: - Seluruh fungsi dalam menerapkan penyelenggaraan SE telah diidentifikasi dan unit kerja yang memiliki tugas dan tanggung jawab dalam menerapkan pengamanan Sistem Elektronik di organisasinya telah ditetapkan. - Dilakukan evaluasi berkala terhadap fungsi, tugas, dan tanggung jawab unit kerja tersebut dalam menerapkan pengamanan Sistem Elektronik agar tetap inline dengan tujuan organisasi. | J10: - Seluruh fungsi dalam menerapkan penyelenggaraan SE telah diidentifikasi dan unit kerja yang memiliki tugas dan tanggung jawab dalam menerapkan pengamanan Sistem Elektronik di organisasinya telah ditetapkan. - Dilakukan evaluasi berkala terhadap fungsi, tugas, dan tanggung jawab unit kerja tersebut dalam menerapkan pengamanan Sistem Elektronik agar tetap inline dengan tujuan organisasi. - Dilakukan perbaikan berkelanjutan untuk memastikan proses binis yang dijalankan oleh unit kerja tersebut tetap efektif dan sesuai dengan kebutuhan dan kondisi terkini.
A11: b | B11: Penyelenggara Sistem Elektronik mengidentifikasi peran, aktivitas, proses, dan narahubung dari pemangku kepentingan yang mendukung ekosistem bisnis atau layanan Sistem Elektronik, baik di dalam atau di luar organisasi. | C11: Tata Kelola | E11: Peran, aktivitas, proses, dan narahubung pemangku kepentingan belum diidentifikasi. | F11: Organisasi mengetahui sebagian kecil peran, aktivitas, proses, dan narahubung pemangku kepentingan namun belum ditetapkan secara formal | G11: Organisasi mengetahui sebagian besar peran, aktivitas, proses, dan narahubung pemangku kepentingan namun belum ditetapkan secara formal | H11: Peran, aktivitas, proses, dan narahubung pemangku kepentingan telah diidentifikasi dan ditetapkan dalam sebuah dokumen formal. | I11: - Peran, aktivitas, proses, dan narahubung pemangku kepentingan telah diidentifikasi dan ditetapkan dalam sebuah dokumen formal. - Penetapan peran, aktivitas, proses, dan narahubung pemangku kepentingan dimonitor dan dievaluasi secara berkala. | J11: - Peran, aktivitas, proses, dan narahubung pemangku kepentingan telah diidentifikasi dan ditetapkan dalam sebuah dokumen formal. - Penetapan peran, aktivitas, proses, dan narahubung pemangku kepentingan dimonitor dan dievaluasi secara berkala. - Dilakukan pembaruan secara berkala terhadap penetapan peran, aktivitas, proses, dan narahubung pemangku kepentingan sebagai timbal balik dari evaluasi yang dilakukan.
A12: Kategori 1.2: | B12: Menyusun strategi, kebijakan, dan prosedur Keamanan Siber
A13: Sub Kategori 1.2.1 | B13: Menetapkan dan mengomunikasikan kebijakan keamanan siber di lingkungan Penyelenggara Sistem Elektronik | C13: Ruang Lingkup | D13: Indeks Nilai Kematangan | E13: Indeks 0 | F13: Indeks 1 | G13: Indeks 2 | H13: Indeks 3 | I13: Indeks 4 | J13: Indeks 5 | K13: Keterangan Validasi
A14: a | B14: Penyelenggara Sistem Elektronik menyusun, menetapkan, dan mengembangkan kebijakan tentang keamanan siber sesuai dengan standar yang berlaku di sektornya dan/atau peraturan perundang-undangan | C14: Tata Kelola | E14: Organisasi belum memiliki kebijakan tentang keamanan siber sesuai dengan standar yang berlaku di sektornya dan/atau peraturan perundang-undangan. | F14: Organisasi telah menyusun kebijakan tentang keamanan siber sesuai dengan standar yang berlaku di sektornya dan/atau peraturan perundang undangan dan sudah menerapkan pada sebagian kecil aspek, namun kebijakan tersebut belum ditetapkan. | G14: Organisasi telah menerapkan kebijakan keamanan siber pada sebagian besar aspek sesuai dengan standar yang berlaku di sektornya dan/atau peraturan perundang-undangan namun kebijakan tersebut belum ditetapkan. | H14: Organisasi tidak hanya telah menerapkan, tetapi juga telah menetapkan kebijakan keamanan siber sesuai dengan standar yang berlaku di sektornya dan/atau peraturan perundang-undangan. | I14: - Organisasi tidak hanya telah menerapkan dan menetapkan kebijakan keamanan siber, tetapi juga secara aktif mengelola dan meninjau kebijakan ini untuk memastikan bahwa mereka tetap relevan dan efektif. - Dilakukannya proses peninjauan dan pembaruan kebijakan yang terstruktur. | J14: - Organisasi telah berhasil menyusun, menetapkan, dan mengembangkan kebijakan keamanan siber yang komprehensif dan efektif yang sepenuhnya sesuai dengan standar dan regulasi yang berlaku. - Kebijakan tersebut dikelola dan ditinjau secara berkala, dan ada mekanisme umpan balik serta perbaikan berkelanjutan untuk memastikan bahwa kebijakan ini tetap relevan dan efektif.
A15: b | B15: Penyelenggara Sistem Elektronik mengomunikasikan kebijakan kepada seluruh personel yang relevan, serta mengoordinasikan dan menyepakati metode berbagi informasi mengenai kebijakan dan prosedur yang ada di organisasi dengan para pemangku kepentingan eksternal. | C15: Tata Kelola | E15: Organisasi belum mengomunikasikan dan mengoordinasikan kebijakan dan prosedur dengan personel dan pemangku kepentingan eksternal, dan belum memiliki mekanisme komunikasi terkait hal tersebut. | F15: Organisasi mulai mengomunikasikan dan mengoodinasikan kebijakan dan prosedur kepada sebagian kecil personel dan pemangku kepentingan eksternal, namun mekanisme komunikasi tersebut belum ditetapkan. | G15: Organisasi telah mengomunikasikan dan mengoodinasikan kebijakan dan prosedur kepada sebagian besar personel dan pemangku kepentingan eksternal, namun mekanisme komunikasi tersebut belum ditetapkan. | H15: Organisasi mengomunikasikan kebijakan kepada seluruh personel yang relevan, serta mengoordinasikan dan menyepakati metode berbagi informasi mengenai kebijakan dan prosedur yang ada di organisasi dengan para pemangku kepentingan eksternal secara efektif dan efisien. | I15: - Organisasi mengomunikasikan kebijakan kepada seluruh personel yang relevan, serta mengoordinasikan dan menyepakati metode berbagi informasi mengenai kebijakan dan prosedur yang ada di organisasi dengan para pemangku kepentingan eksternal secara efektif dan efisien. - Mekanisme komunikasi, koordinasi kebijakan dan prosedur dengan personel dan pemangku kepentingan eksternal yang telah disusun, dikelola dan ditinjau efektivitasnya secara berkala. | J15: - Organisasi mengomunikasikan kebijakan kepada seluruh personel yang relevan, serta mengoordinasikan dan menyepakati metode berbagi informasi mengenai kebijakan dan prosedur yang ada di organisasi dengan para pemangku kepentingan eksternal secara efektif dan efisien. - Mekanisme komunikasi, koordinasi kebijakan dan prosedur dengan personel dan pemangku kepentingan eksternal yang telah disusun, dikelola dan ditinjau efektivitasnya secara berkala dan ada mekanisme umpan balik serta perbaikan berkelanjutan untuk memastikan bahwa kebijakan ini tetap relevan dan efektif.
A16: c | B16: Penyelenggara Sistem Elektronik meninjau dan merevisi kebijakannya secara berkelanjutan sesuai dengan setiap perubahan dalam peraturan perundang-undangan yang relevan, standar dan/atau pedoman industri yang berlaku di sektornya. | C16: Tata Kelola | E16: Penyelenggara belum memiliki rencana untuk meninjau dan merevisi kebijakannya secara berkelanjutan sesuai dengan setiap perubahan dalam peraturan perundang-undangan yang relevan, standar dan/atau pedoman industri yang berlaku di sektornya | F16: Peninjauan dan revisi mulai dilakukan terhadap penerapan kebijakan pada sebagian kecil aspek secara berkelanjutan sesuai dengan setiap perubahan dalam peraturan perundang-undangan yang relevan, standar dan/atau pedoman industri yang berlaku di sektornya, namun mekanisme tersebut belum ditetapkan. | G16: Peninjauan dan revisi terhadap penerapan kebijakan pada sebagian besar aspek secara berkelanjutan sesuai dengan setiap perubahan dalam peraturan perundang-undangan yang relevan, standar dan/atau pedoman industri yang berlaku di sektornya, telah dilaksanakan namun mekanisme tersebut belum ditetapkan. | H16: Peninjauan dan revisi kebijakan yang telah diterapkan pada seluruh aspek secara berkelanjutan sesuai dengan setiap perubahan dalam peraturan perundang-undangan yang relevan, standar dan/atau pedoman industri yang berlaku di sektornya, telah dilaksanakan secara menyeluruh dan telah ditetapkan mekanismenya. | I16: Peninjauan dan revisi kebijakan yang telah diterapkan pada seluruh aspek secara berkelanjutan sesuai dengan setiap perubahan dalam peraturan perundang-undangan yang relevan, standar dan/atau pedoman industri yang berlaku di sektornya, telah dilaksanakan secara menyeluruh dan secara aktif mengelola dan meninjau efektivitasnya. | J16: Peninjauan dan revisi kebijakan yang telah diterapkan pada seluruh aspek secara berkelanjutan sesuai dengan setiap perubahan dalam peraturan perundang-undangan yang relevan, standar dan/atau pedoman industri yang berlaku di sektornya, telah dilaksanakan secara menyeluruh dan secara aktif mengelola dan meninjau efektivitasnya serta terdapat mekanisme perbaikan berkelanjutan untuk memastikan bahwa kebijakan ini tetap relevan dan efektif.
A17: Sub Kategori 1.2.2 | B17: Mengembangkan strategi untuk meningkatkan pengamanan terhadap Sistem Elektronik | C17: Ruang Lingkup | D17: Indeks Nilai Kematangan | E17: Indeks 0 | F17: Indeks 1 | G17: Indeks 2 | H17: Indeks 3 | I17: Indeks 4 | J17: Indeks 5 | K17: Keterangan Validasi
A18: a | B18: Penyelenggara Sistem Elektronik senantiasa mengembangkan strategi dalam melindungi aset informasi dengan mempertimbangkan manajemen risiko yang berlaku di organisasi. | C18: Tata Kelola | E18: Organisasi Belum memiliki strategi perlindungan aset informasi dan belum memiliki dokumen manajemen risiko organisasi | F18: Prosedur pengamanan aset informasi, manajemen risiko organisasi dan Strategi pengamanan aset informasi sudah diterapkan pada sebagian kecil aspek tapi belum diformalkan | G18: Prosedur pengamanan aset informasi, manajemen risiko organisasi dan Strategi pengamanan aset informasi sudah diterapkan pada sebagian besar aspek tapi belum diformalkan | H18: Prosedur pengamanan aset informasi, manajemen risiko organisasi dan Strategi pengamanan aset informasi sudah diterapkan pada seluruh aspek dan sudah diformalkan | I18: Prosedur pengamanan aset informasi, manajemen risiko organisasi dan Strategi pengamanan aset informasi sudah diterapkan pada seluruh aspek dan sudah diformalkan, dilakukan monitoring dan reviu secara berkala | J18: Prosedur pengamanan aset informasi, manajemen risiko organisasi dan Strategi pengamanan aset informasi sudah diterapkan pada seluruh aspek dan sudah diformalkan, dilakukan monitoring dan reviu secara berkala, dilakukan perbaikan berkelanjutan dan terintegrasi dalam sistem yang terotomatisasi.
A19: b | B19: Penyelenggara Sistem Elektronik harus menetapkan sasaran atau target penerapan keamanan siber pada fungsi dan tingkatan yang relevan. | C19: Tata Kelola | E19: Organisasi belum memiliki sasaran atau target penerapan keamanan siber pada fungsi dan tingkatan yang relevan. | F19: Sasaran atau target penerapan keamanan siber pada fungsi dan tingkatan yang relevan telah dijalankan pada sebagian kecil aspek namun belum ditetapkan. | G19: Sasaran atau target penerapan keamanan siber pada fungsi dan tingkatan yang relevan telah dijalankan pada sebagian besar aspek namun belum ditetapkan. | H19: Sasaran atau target penerapan keamanan siber pada fungsi dan tingkatan yang relevan telah ditetapkan dan dijalankan secara menyeluruh. | I19: Sasaran atau target penerapan keamanan siber pada fungsi dan tingkatan yang relevan telah ditetapkan dan dijalankan secara menyeluruh, dilakukan monitoring dan direview secara berkala. | J19: Sasaran atau target penerapan keamanan siber pada fungsi dan tingkatan yang relevan telah dtetapkan dan dijalankan secara menyeluruh, dilakukan monitoring dan direview secara berkala serta dievaluasi dan dilakukan perbaikan berkelanjutan.
A20: Sub Kategori 1.2.3 | B20: Menetapkan persyaratan yang dibutuhkan untuk mendukung operasional Sistem Elektronik pada semua keadaan | C20: Ruang Lingkup | D20: Indeks Nilai Kematangan | E20: Indeks 0 | F20: Indeks 1 | G20: Indeks 2 | H20: Indeks 3 | I20: Indeks 4 | J20: Indeks 5 | K20: Keterangan Validasi
A21: a | B21: Penyelenggara Sistem Elektronik menyusun kebijakan standar operasional prosedur terhadap setiap layanan yang mendukung Sistem Elektronik baik dalam kondisi normal, jika terjadi insiden siber, dan pasca insiden siber. | C21: Tata Kelola | E21: Organisasi belum memiliki Kebijakan standar operasional prosedur terhadap setiap layanan yang mendukung Sistem Elektronik baik dalam kondisi normal, jika terjadi insiden siber, dan pasca insiden siber. | F21: Kebijakan standar operasional prosedur terhadap setiap layanan yang mendukung Sistem Elektronik baik dalam kondisi normal, jika terjadi insiden siber, dan pasca insiden siber sudah diterapkan pada sebagian kecil aspek namun belum ditetapkan. | G21: Kebijakan standar operasional prosedur terhadap setiap layanan yang mendukung Sistem Elektronik baik dalam kondisi normal, jika terjadi insiden siber, dan pasca insiden siber sudah diterapkan pada sebagian besar aspek namun belum ditetapkan. | H21: Kebijakan standar operasional prosedur terhadap setiap layanan yang mendukung Sistem Elektronik baik dalam kondisi normal, jika terjadi insiden siber, dan pasca insiden siber sudah diterapkan pada seluruh aspek dan sudah ditetapkan. | I21: Kebijakan standar operasional prosedur terhadap setiap layanan yang mendukung Sistem Elektronik baik dalam kondisi normal, jika terjadi insiden siber, dan pasca insiden siber sudah diterapkan pada seluruh aspek dan sudah ditetapkan, dilakukan monitoring dan direview secara berkala. | J21: Kebijakan standar operasional prosedur terhadap setiap layanan yang mendukung Sistem Elektronik baik dalam kondisi normal, jika terjadi insiden siber, dan pasca insiden siber sudah diterapkan pada seluruh aspek dan sudah ditetapkan, dilakukan monitoring dan direview secara berkala serta dievaluasi dan dilakukan perbaikan berkelanjutan.
A22: Sub Kategori 1.2.4 | B22: Menetapkan kebijakan penggunaan aset informasi bagi pegawai dan pihak ketiga | C22: Ruang Lingkup | D22: Indeks Nilai Kematangan | E22: Indeks 0 | F22: Indeks 1 | G22: Indeks 2 | H22: Indeks 3 | I22: Indeks 4 | J22: Indeks 5 | K22: Keterangan Validasi
A23: a | B23: Penyelenggara Sistem Elektronik menyusun kebijakan yang diperlukan untuk menjaga ketersediaan aset informasi, seperti kebijakan penggunaan perangkat pribadi di kantor (bring your own devices), kebijakan instalasi perangkat lunak pada perangkat kantor, kebijakan klasifikasi informasi, dsb. | C23: Tata Kelola | E23: Organisasi belum menyusun kebijakan yang diperlukan untuk menjaga ketersediaan aset informasi, seperti kebijakan penggunaan perangkat pribadi di kantor (bring your own devices), kebijakan instalasi perangkat lunak pada perangkat kantor, kebijakan klasifikasi informasi, dsb | F23: Kebijakan yang diperlukan untuk menjaga ketersediaan aset informasi, seperti kebijakan penggunaan perangkat pribadi di kantor (bring your own devices), kebijakan instalasi perangkat lunak pada perangkat kantor, kebijakan klasifikasi informasi sudah diterapkan pada sebagian kecil aspek, namun belum ditetapkan. | G23: Kebijakan yang diperlukan untuk menjaga ketersediaan aset informasi, seperti kebijakan penggunaan perangkat pribadi di kantor (bring your own devices), kebijakan instalasi perangkat lunak pada perangkat kantor, kebijakan klasifikasi informasi sudah diterapkan pada sebagian besar aspek, namun belum ditetapkan. | H23: Kebijakan yang diperlukan untuk menjaga ketersediaan aset informasi, seperti kebijakan penggunaan perangkat pribadi di kantor (bring your own devices), kebijakan instalasi perangkat lunak pada perangkat kantor, kebijakan klasifikasi informasi sudah diterapkan pada seluruh aspek dan sudah ditetapkan. | I23: Kebijakan yang diperlukan untuk menjaga ketersediaan aset informasi, seperti kebijakan penggunaan perangkat pribadi di kantor (bring your own devices), kebijakan instalasi perangkat lunak pada perangkat kantor, kebijakan klasifikasi informasi sudah diterapkan pada seluruh aspek dan sudah ditetapkan, dilakukan monitoring dan direview secara berkala. | J23: Kebijakan yang diperlukan untuk menjaga ketersediaan aset informasi, seperti kebijakan penggunaan perangkat pribadi di kantor (bring your own devices), kebijakan instalasi perangkat lunak pada perangkat kantor, kebijakan klasifikasi informasi sudah diterapkan pada seluruh aspek dan sudah ditetapkan, dilakukan monitoring dan direview secara berkala serta dievaluasi dan dilakukan perbaikan berkelanjutan.
A24: Kategori 1.3: | B24: Mengelola aset informasi
A25: Sub Kategori 1.3.1 | B25: Mengelola daftar inventaris aset informasi | C25: Ruang Lingkup | D25: Indeks Nilai Kematangan | E25: Indeks 0 | F25: Indeks 1 | G25: Indeks 2 | H25: Indeks 3 | I25: Indeks 4 | J25: Indeks 5 | K25: Keterangan Validasi
A26: a | B26: Dokumentasikan dan kelola dengan tepat daftar inventaris aset informasi seperti perangkat keras, perangkat lunak, data, dan layanan TIK yang akan dilindungi, beserta informasi manajemennya (misalnya nama aset, versi, alamat jaringan, nama penanggungjawab, informasi lisensi, dsb). | C26: Tata Kelola & Teknologi | E26: Organisasi belum menyusun daftar inventaris aset informasi seperti perangkat keras, perangkat lunak, data, dan layanan TIK yang akan dilindungi, beserta informasi manajemennya (misalnya nama aset, versi, alamat jaringan, nama penanggungjawab, informasi lisensi, dsb), belum mendokumentasikan dan mengelolanya. | F26: Organisasi telah melakukan dokumentasi dan pengelolaan pada sebagian kecil daftar inventaris aset informasi seperti perangkat keras, perangkat lunak, data, dan layanan TIK yang akan dilindungi, beserta informasi manajemennya (misalnya nama aset, versi, alamat jaringan, nama penanggungjawab, informasi lisensi, dsb) namun belum diformalkan | G26: Organisasi telah melakukan dokumentasi dan pengelolaan pada sebagian besar daftar inventaris aset informasi seperti perangkat keras, perangkat lunak, data, dan layanan TIK yang akan dilindungi, beserta informasi manajemennya (misalnya nama aset, versi, alamat jaringan, nama penanggungjawab, informasi lisensi, dsb) namun belum diformalkan | H26: Organisasi telah melakukan dokumentasi dan pengelolaan pada seluruh daftar inventaris aset informasi seperti perangkat keras, perangkat lunak, data, dan layanan TIK yang akan dilindungi, beserta informasi manajemennya (misalnya nama aset, versi, alamat jaringan, nama penanggungjawab, informasi lisensi, dsb) dan sudah diformalkan | I26: Organisasi telah melakukan dokumentasi dan pengelolaan pada seluruh daftar inventaris aset informasi seperti perangkat keras, perangkat lunak, data, dan layanan TIK yang akan dilindungi, beserta informasi manajemennya (misalnya nama aset, versi, alamat jaringan, nama penanggungjawab, informasi lisensi, dsb) dan sudah diformalkan, dilakukan monitoring dan direview secara berkala | J26: Organisasi telah melakukan dokumentasi dan pengelolaan pada seluruh daftar inventaris aset informasi seperti perangkat keras, perangkat lunak, data, dan layanan TIK yang akan dilindungi, beserta informasi manajemennya (misalnya nama aset, versi, alamat jaringan, nama penanggungjawab, informasi lisensi, dsb) dan sudah diformalkan, dilakukan monitoring dan direview secara berkala serta dievaluasi dan dilakukan perbaikan berkelanjutan.
A27: b | B27: Penyelenggara Sistem Elektronik memastikan pemberian label pada perangkat aset informasi oleh pihak yang berwenang di organisasi | C27: Tata Kelola | E27: Organisasi belum memiliki prosedur dan belum memastikan pemberian label pada perangkat aset informasi oleh pihak yang berwenang di organisasi | F27: Organisasi telah menerapkan prosedur pemberian label pada sebagian kecil aspek perangkat aset informasi oleh pihak yang berwenang di organisasi dan belum diformalkan | G27: Organisasi telah menerapkan prosedur pemberian label pada sebagian besar aspek perangkat aset informasi oleh pihak yang berwenang di organisasi namun belum diformalkan | H27: Organisasi telah menerapkan prosedur pemberian label pada seluruh aspek perangkat aset informasi oleh pihak yang berwenang di organisasi dan sudah diformalkan | I27: Organisasi telah menerapkan prosedur pemberian label pada seluruh aspek perangkat aset informasi oleh pihak yang berwenang di organisasi dan sudah diformalkan, dilakukan monitoring dan direview secara berkala. | J27: Organisasi telah menerapkan prosedur pemberian label pada seluruh aspek perangkat aset informasi oleh pihak yang berwenang di organisasi dan sudah diformalkan, dilakukan monitoring dan direview secara berkala, serta dievaluasi dan dilakukan perbaikan berkelanjutan.
A28: Sub Kategori 1.3.2 | B28: Memetakan jalur komunikasi dan alur data pada organisasi | C28: Ruang Lingkup | D28: Indeks Nilai Kematangan | E28: Indeks 0 | F28: Indeks 1 | G28: Indeks 2 | H28: Indeks 3 | I28: Indeks 4 | J28: Indeks 5 | K28: Keterangan Validasi
A29: a | B29: Penyelenggara Sistem Elektronik menyusun dokumentasi dan mengelola diagram jalur komunikasi jaringan dan aliran data dengan tepat dalam organisasi. | C29: Teknologi | E29: - Organisasi belum dapat menunjukan dokumentasi diagram jalur komunikasi jaringan (network architecture) dan aliran data (document data flow) yang berhubungan dengan layanan Sistem Elektronik. - Organisasi belum dapat menunjukan bahwa jalur komunikasi jaringan dan aliran data yang berhubungan dengan layanan Sistem Elektronik telah dikelola sesuai dengan persyaratan keamanan. | F29: Organisasi telah menyusun dokumentasi diagram jalur komunikasi jaringan dan aliran data dalam bentuk rancangan, atau dokumen diagram jalur komunikasi jaringan dan aliran data, namun baru diterapkan pada sebagian kecil aspek dan belum diformalkan | G29: Organisasi telah menyusun dokumentasi diagram jalur komunikasi jaringan dan aliran data dalam bentuk rancangan, atau dokumen diagram jalur komunikasi jaringan dan aliran data, namun baru diterapkan pada sebagian besar aspek dan belum diformalkan | H29: Organisasi telah menyusun dokumentasi diagram jalur komunikasi jaringan dan aliran data dalam bentuk rancangan, atau dokumen diagram jalur komunikasi jaringan dan aliran data, sudah diterapkan pada seluruh aspek dan sudah diformalkan | I29: Organisasi telah menyusun dokumentasi diagram jalur komunikasi jaringan dan aliran data dalam bentuk rancangan, atau dokumen diagram jalur komunikasi jaringan dan aliran data, sudah diterapkan pada seluruh aspek dan sudah diformalkan, dilakukan monitoring dan direview secara berkala | J29: Organisasi telah menyusun dokumentasi diagram jalur komunikasi jaringan dan aliran data dalam bentuk rancangan, atau dokumen diagram jalur komunikasi jaringan dan aliran data, sudah diterapkan pada seluruh aspek dan sudah diformalkan, dilakukan monitoring dan direview secara berkala, dilakukan evaluasi dan perbaikan secara berkelanjutan
A30: Sub Kategori 1.3.3 | B30: Menyusun katalog sistem informasi eksternal yang menggunakan data milik organisasi | C30: Ruang Lingkup | D30: Indeks Nilai Kematangan | E30: Indeks 0 | F30: Indeks 1 | G30: Indeks 2 | H30: Indeks 3 | I30: Indeks 4 | J30: Indeks 5 | K30: Keterangan Validasi
A31: a | B31: Dokumentasikan dan kelola dengan tepat daftar sistem informasi eksternal yang menggunakan data atau layanan Sistem Elektronik | C31: Tata Kelola | E31: Organisasi belum memiliki daftar sistem informasi stakeholder dan pihak eksternal yang menggunakan data atau layanan Sistem Elektronik | F31: Organisasi telah melaksanakan dokumentasi dan pengelolaan terhadap sebagian kecil aspek dari daftar sistem informasi stakeholder dan pihak eksternal yang menggunakan data atau layanan Sistem Elektronik namun belum diformalkan | G31: Organisasi telah melaksanakan dokumentasi dan pengelolaan terhadap sebagian besar daftar sistem informasi stakeholder dan pihak eksternal yang menggunakan data atau layanan Sistem Elektronik namun belum diformalkan | H31: Organisasi telah melaksanakan dokumentasi dan pengelolaan terhadap seluruh daftar sistem informasi stakeholder dan pihak eksternal yang menggunakan data atau layanan Sistem Elektronik dan sudah diformalkan | I31: Organisasi telah melaksanakan dokumentasi dan pengelolaan terhadap seluruh daftar sistem informasi stakeholder dan pihak eksternal yang menggunakan data atau layanan IIV dan sudah diformalkan, dilakukan monitoring dan direview secara berkala | J31: Organisasi telah melaksanakan dokumentasi dan pengelolaan terhadap seluruh daftar sistem informasi stakeholder dan pihak eksternal yang menggunakan data atau layanan Sistem Elektronik dan sudah diformalkan, dilakukan monitoring dan direview secara berkala, dievaluasi dan dilakukan perbaikan secara berkelanjutan
A32: b | B32: Dokumentasikan dan kelola dengan tepat daftar sistem informasi eksternal yang digunakan oleh Penyelenggara Sistem Elektronik. | C32: Tata Kelola | E32: Organisasi belum memiliki daftar sistem informasi eksternal apa saja yang digunakan untuk mendukung Penyelenggara Sistem Elektronik dalam menjalankan layanan Sistem Elektronik | F32: Organisasi telah melaksanakan dokumentasi dan pengelolaan yang tepat terhadap sebagian kecil aspek dari daftar sistem informasi eksternal yang digunakan untuk mendukung penyelenggara Sistem Elektronik dalam menjalankan layanan Sistem Elektronik, tapi belum diformalkan | G32: Organisasi telah melaksanakan dokumentasi dan pengelolaan yang tepat terhadap sebagian besar aspek dari daftar sistem informasi eksternal yang digunakan untuk mendukung penyelenggara Sistem Elektronik dalam menjalankan layanan Sistem Elektronik, tapi belum diformalkan | H32: Organisasi telah melaksanakan dokumentasi dan pengelolaan yang tepat terhadap seluruh aspek dari daftar sistem informasi eksternal yang digunakan untuk mendukung penyelenggara Sistem Elektronik dalam menjalankan layanan Sistem Elektronik, dan sudah diformalkan | I32: Organisasi telah melaksanakan dokumentasi dan pengelolaan yang tepat terhadap seluruh aspek dari daftar sistem informasi eksternal yang digunakan untuk mendukung penyelenggara Sistem Elektronik dalam menjalankan layanan Sistem Elektronik, dan sudah diformalkan, sudah dilakukan monitoring dan direview secara berkala | J32: Organisasi telah melaksanakan dokumentasi dan pengelolaan yang tepat terhadap seluruh aspek dari daftar sistem informasi eksternal yang digunakan untuk mendukung penyelenggara Sistem Elektronik dalam menjalankan layanan Sistem Elektronik, dan sudah diformalkan, sudah dilakukan monitoring dan direview secara berkala, dilakukan evaluasi dan perbaikan secara berkelanjutan dan mekanisme otomatisasi diterapkan
A33: Sub Kategori 1.3.4 | B33: Menyusun prioritas aset informasi berdasarkan klasifikasi, kekritisan, dan nilai bisnisnya | C33: Ruang Lingkup | D33: Indeks Nilai Kematangan | E33: Indeks 0 | F33: Indeks 1 | G33: Indeks 2 | H33: Indeks 3 | I33: Indeks 4 | J33: Indeks 5 | K33: Keterangan Validasi
A34: a | B34: Mengklasifikasikan dan memprioritaskan aset informasi seperti, perangkat keras, perangkat lunak, data, dan layanan TIK lainnya berdasarkan fungsi, kekritisan, dan nilai bisnis | C34: Tata Kelola | E34: Organisasi belum memiliki daftar aset informasi seperti, perangkat keras, perangkat lunak, data, dan layanan TIK lainnya | F34: Organisasi telah melaksanakan klasifikasi dan menyusun prioritas terhadap sebagian kecil aset informasi seperti, perangkat keras, perangkat lunak, data, dan layanan TIK lainnya berdasarkan fungsi, kekritisan, dan nilai bisnis, tapi belum diformalkan | G34: Organisasi telah melaksanakan klasifikasi dan menyusun prioritas terhadap sebagian besar aset informasi seperti, perangkat keras, perangkat lunak, data, dan layanan TIK lainnya berdasarkan fungsi, kekritisan, dan nilai bisnis, tapi belum diformalkan | H34: Organisasi telah melaksanakan klasifikasi dan menyusun prioritas terhadap seluruh aset informasi seperti, perangkat keras, perangkat lunak, data, dan layanan TIK lainnya berdasarkan fungsi, kekritisan, dan nilai bisnis, dan sudah diformalkan | I34: Organisasi telah melaksanakan klasifikasi dan menyusun prioritas terhadap seluruh aset informasi seperti, perangkat keras, perangkat lunak, data, dan layanan TIK lainnya berdasarkan fungsi, kekritisan, dan nilai bisnis, dan sudah diformalkan, dilakukan monitoring dan direview secara berkala | J34: Organisasi telah melaksanakan klasifikasi dan menyusun prioritas terhadap seluruh aset informasi seperti, perangkat keras, perangkat lunak, data, dan layanan TIK lainnya berdasarkan fungsi, kekritisan, dan nilai bisnis, dan sudah diformalkan, dilakukan monitoring dan direview secara berkala, dilakukan evaluasi dan perbaikan berkelanjutan serta mekanisme otomatisasi diterapkan
A35: Sub Kategori 1.3.5 | B35: Mengendalikan aset informasi milik organisasi | C35: Ruang Lingkup | D35: Indeks Nilai Kematangan | E35: Indeks 0 | F35: Indeks 1 | G35: Indeks 2 | H35: Indeks 3 | I35: Indeks 4 | J35: Indeks 5 | K35: Keterangan Validasi
A36: a | B36: Menentukan metode untuk memastikan ketertelusuran aset informasi seperti membuat catatan mengenai tanggal produksi atau pengadaan aset, kondisi aset, catatan pemakaian, dan pelaporan kepada unit kerja terkait. | C36: Tata Kelola & Teknologi | E36: Organisasi belum memiliki metode penelusuran aset informasi | F36: Organisasi telah menerapkan metode pada sebagian kecil aspek untuk memastikan ketertelusuran aset informasi seperti membuat catatan mengenai tanggal produksi atau pengadaan aset, kondisi aset, catatan pemakaian, dan pelaporan kepada unit kerja terkait, tapi belum diformalkan | G36: Organisasi telah menerapkan metode pada sebagian besar aspek untuk memastikan ketertelusuran aset informasi seperti membuat catatan mengenai tanggal produksi atau pengadaan aset, kondisi aset, catatan pemakaian, dan pelaporan kepada unit kerja terkait, dan belum diformalkan | H36: Organisasi telah menerapkan metode pada seluruh aspek untuk memastikan ketertelusuran aset informasi seperti membuat catatan mengenai tanggal produksi atau pengadaan aset, kondisi aset, catatan pemakaian, dan pelaporan kepada unit kerja terkait, dan telah diformalkan | I36: Organisasi telah menerapkan metode pada seluruh aspek untuk memastikan ketertelusuran aset informasi seperti membuat catatan mengenai tanggal produksi atau pengadaan aset, kondisi aset, catatan pemakaian, dan pelaporan kepada unit kerja terkait, dan telah diformalkan, dilakukan monitoring dan direview secara berkala | J36: Organisasi telah menerapkan metode pada seluruh aspek untuk memastikan ketertelusuran aset informasi seperti membuat catatan mengenai tanggal produksi atau pengadaan aset, kondisi aset, catatan pemakaian, dan pelaporan kepada unit kerja terkait, dan telah diformalkan, dilakukan monitoring dan direview secara berkala, dilaksanakan evaluasi dan perbaikan berkelanjutan serta diterapkan mekanisme otomatisasi
A37: b | B37: Secara aktif memeriksa keterbaharuan dan memperbaharui dari setiap versi perangkat lunak dan perangkat keras yang digunakan oleh organisasi. | C37: Teknologi | E37: Organisasi belum pernah memeriksa versi perangkat lunak dan perangkat keras, serta keterbaharuan dari perangkat lunak dan perangkat keras tersebut. | F37: Organisasi telah memeriksa versi pada sebagian kecil perangkat lunak dan perangkat keras, serta keterbaharuannya dari sebagian kecil perangkat-perangkat tersebut yang digunakan oleh organisasi, namun belum diformalkan | G37: Organisasi telah memeriksa versi pada sebagian besar perangkat lunak dan perangkat keras, serta keterbaharuannya dari sebagian besar perangkat-perangkat tersebut yang digunakan oleh organisasi, namun belum diformalkan | H37: Organisasi telah memeriksa versi pada seluruh perangkat lunak dan perangkat keras, serta keterbaharuannya dari seluruh perangkat-perangkat tersebut yang digunakan oleh organisasi, dan telah diformalkan | I37: Organisasi telah memeriksa versi pada seluruh perangkat lunak dan perangkat keras, serta keterbaharuannya dari seluruh perangkat-perangkat tersebut yang digunakan oleh organisasi, dan telah diformalkan, dilakukan monitoring dan direview secara berkala | J37: Organisasi telah memeriksa versi pada seluruh perangkat lunak dan perangkat keras, serta keterbaharuannya dari seluruh perangkat-perangkat tersebut yang digunakan oleh organisasi, dan telah diformalkan, dilakukan monitoring dan direview secara berkala, dilakukan evaluasi dan perbaikan berkelanjutan serta menerapkan mekanisme otomatisasi
A38: Kategori 1.4: | B38: Menilai dan mengelola risiko Keamanan Siber
A39: Sub Kategori 1.4.1 | B39: Mengidentifikasi dan mendokumentasikan kerentanan terhadap aset informasi | C39: Ruang Lingkup | D39: Indeks Nilai Kematangan | E39: Indeks 0 | F39: Indeks 1 | G39: Indeks 2 | H39: Indeks 3 | I39: Indeks 4 | J39: Indeks 5 | K39: Keterangan Validasi
A40: a | B40: Identifikasi kerentanan terhadap seluruh aset informasi di organisasi, misalnya melalui penetration testing dan vulnerability assessment, serta dokumentasikan daftar kerentanan yang teridentifikasi tersebut bersama dengan daftar aset terkait. | C40: Teknologi | E40: Organisasi belum melaksanakan identifikasi kerentanan terhadap seluruh aset informasi di organisasi, misalnya melalui penetration testing dan vulnerability assessment, serta belum memiliki daftar kerentanan yang teridentifikasi tersebut bersama dengan daftar aset terkait. | F40: Organisasi telah melaksanakan identifikasi kerentanan terhadap sebagian kecil aset informasi di organisasi, dan melaksanakan dokumentasi terhadap sebagian kecil kerentanan yang teridentifikasi tersebut bersama dengan daftar aset terkait, tapi belum diformalkan | G40: Organisasi telah melaksanakan identifikasi kerentanan terhadap sebagian besar aset informasi di organisasi, dan melaksanakan dokumentasi terhadap sebagian besar kerentanan yang teridentifikasi tersebut bersama dengan daftar aset terkait, namun belum diformalkan | H40: Organisasi telah melaksanakan identifikasi kerentanan terhadap seluruh aset informasi di organisasi, misalnya melalui penetration testing dan vulnerability assessment, dan melaksanakan dokumentasi terhadap seluruh daftar kerentanan yang teridentifikasi tersebut bersama dengan daftar aset terkait, dan telah diformalkan | I40: Organisasi telah melaksanakan identifikasi kerentanan terhadap seluruh aset informasi di organisasi, misalnya melalui penetration testing dan vulnerability assessment, dan melaksanakan dokumentasi terhadap seluruh daftar kerentanan yang teridentifikasi tersebut bersama dengan daftar aset terkait, dan telah diformalkan, dilakukan monitoring dan direview secara berkala | J40: Organisasi telah melaksanakan identifikasi kerentanan terhadap seluruh aset informasi di organisasi, misalnya melalui penetration testing dan vulnerability assessment, dan melaksanakan dokumentasi terhadap seluruh daftar kerentanan yang teridentifikasi tersebut bersama dengan daftar aset terkait, dan telah diformalkan, dilakukan monitoring dan direview secara berkala, dilakukan evaluasi dan perbaikan berkelanjutan serta menerapkan mekanisme otomatisasi
A41: Sub Kategori 1.4.2 | B41: Mengidentifikasi dan mendokumentasikan informasi terkait ancaman dan kerentanan yang diperoleh dari internal maupun eksternal | C41: Ruang Lingkup | D41: Indeks Nilai Kematangan | E41: Indeks 0 | F41: Indeks 1 | G41: Indeks 2 | H41: Indeks 3 | I41: Indeks 4 | J41: Indeks 5 | K41: Keterangan Validasi
A42: a | B42: Penyelenggara Sistem Elektronik mengumpulkan informasi termasuk kerentanan dan ancaman dari sumber internal dan eksternal (melalui pengujian internal, informasi dari pihak berwajib, hasil penelitian keamanan, dll.) | C42: Tata Kelola & Teknologi | E42: Organisasi belum memiliki rencana atau proses untuk mengumpulkan informasi tentang kerentanan dan ancaman dari sumber internal dan eksternal. Tidak ada upaya yang dilakukan untuk merencanakan atau mengimplementasikan aktivitas tersebut. | F42: Organisasi telah melaksanakan pengumpulan informasi termasuk kerentanan dan ancaman pada sebagian kecil aspek dari sumber internal dan eksternal (melalui pengujian internal, informasi dari pihak berwajib, hasil penelitian keamanan, dll.), namun belum diformalkan | G42: Organisasi telah melaksanakan pengumpulan informasi termasuk kerentanan dan ancaman pada sebagian besar aspek dari sumber internal dan eksternal (melalui pengujian internal, informasi dari pihak berwajib, hasil penelitian keamanan, dll.), namun belum diformalkan | H42: Organisasi secara aktif telah melaksanakan pengumpulan informasi tentang kerentanan dan ancaman pada seluruh aspek dari sumber internal dan eksternal (melalui pengujian internal, informasi dari pihak berwajib, hasil penelitian keamanan, dll.). Proses ini telah dijalankan secara menyeluruh dan mencakup berbagai sumber informasi yang relevan dan telah diformalkan | I42: Organisasi secara aktif telah melaksanakan pengumpulan informasi tentang kerentanan dan ancaman pada seluruh aspek dari sumber internal dan eksternal (melalui pengujian internal, informasi dari pihak berwajib, hasil penelitian keamanan, dll.). Proses ini telah dijalankan secara menyeluruh dan mencakup berbagai sumber informasi yang relevan dan telah diformalkan, dilakukan monitoring dan direview secara berkala | J42: Organisasi secara aktif telah melaksanakan pengumpulan informasi tentang kerentanan dan ancaman pada seluruh aspek dari sumber internal dan eksternal (melalui pengujian internal, informasi dari pihak berwajib, hasil penelitian keamanan, dll.). Proses ini telah dijalankan secara menyeluruh dan mencakup berbagai sumber informasi yang relevan dan telah diformalkan, dilakukan monitoring dan direview secara berkala, dilakukan evaluasi dan perbaikan berkelanjutan serta penerapan mekanisme otomatisasi
A43: b | B43: Menganalisis informasi tersebut apakah termasuk kedalam konteks risiko terhadap aset informasi, dan mendokumentasikannya. | C43: Tata Kelola | E43: Organisasi belum melaksanakan analisis informasi kerentanan dan ancaman dalam konteks risiko terhadap aset informasi dan belum mendokumentasikannya | F43: Organisasi telah melaksanakan analisis informasi pada sebagian kecil aspek kerentanan dan ancaman dalam konteks risiko terhadap aset informasi, namun belum didokumentasikan dan diformalkan | G43: Organisasi telah melaksanakan analisis informasi dan dokumentasi pada sebagian besar aspek kerentanan dan ancaman dalam konteks risiko terhadap aset informasi, namun belum diformalkan | H43: Organisasi secara aktif melakukan analisis informasi kerentanan dan ancaman dalam konteks risiko terhadap aset informasi mereka. Proses ini telah dijalankan secara menyeluruh dan mencakup berbagai aspek risiko yang relevan. Hasil analisis didokumentasikan dengan baik dan sudah diformalkan | I43: Organisasi secara aktif melakukan analisis informasi kerentanan dan ancaman dalam konteks risiko terhadap aset informasi mereka. Proses ini telah dijalankan secara menyeluruh dan mencakup berbagai aspek risiko yang relevan. Hasil analisis didokumentasikan dengan baik dan sudah diformalkan, dilakukan monitoring dan direview secara periodik untuk memastikan keakuratan dan keterkinian informasi. | J43: Organisasi secara aktif melakukan analisis informasi kerentanan dan ancaman dalam konteks risiko terhadap aset informasi mereka. Proses ini telah dijalankan secara menyeluruh dan mencakup berbagai aspek risiko yang relevan. Hasil analisis didokumentasikan dengan baik dan sudah diformalkan, dilakukan monitoring dan direview secara periodik untuk memastikan keakuratan dan keterkinian informasi, dilakukan evaluasi dan perbaikan berkelanjutan, serta penerapan mekanisme otomatisasi
A44: Sub Kategori 1.4.3 | B44: Mengidentifikasi potensi dampak terhadap layanan Sistem Elektronik dan kemungkinan terjadinya dampak tersebut | C44: Ruang Lingkup | D44: Indeks Nilai Kematangan | E44: Indeks 0 | F44: Indeks 1 | G44: Indeks 2 | H44: Indeks 3 | I44: Indeks 4 | J44: Indeks 5 | K44: Keterangan Validasi
A45: a | B45: Penyelenggara Sistem Elektronik perlu memeriksa pada setiap fungsi penting organisasi apakah ada risiko keamanan yang diketahui termasuk kedalam kategori membahayakan keselamatan, menimbulkan kerugian, dan mengancam keamanan negara. | C45: Tata Kelola | E45: Organisasi belum memiliki rencana atau proses untuk melakukan pemeriksaan potensi dampak keamanan terhadap setiap fungsi penting yang perlu diketahui. | F45: Organisasi telah melakukan pemeriksaan potensi dampak keamanan terhadap sebagian kecil fungsi penting organisasi yang perlu diketahui, seperti risiko keamanan, namun belum diformalkan | G45: Organisasi telah melakukan pemeriksaan potensi dampak keamanan terhadap sebagian besar fungsi penting organisasi yang perlu diketahui, seperti risiko keamanan, namun belum diformalkan | H45: Organisasi telah melakukan pemeriksaan potensi dampak keamanan terhadap seluruh fungsi penting organisasi, apakah ada risiko keamanan yang diketahui termasuk kedalam kategori membahayakan keselamatan, menimbulkan kerugian, dan mengancam keamanan negara, dan telah diformalkan | I45: Organisasi telah melakukan pemeriksaan potensi dampak keamanan terhadap seluruh fungsi penting organisasi, apakah ada risiko keamanan yang diketahui termasuk kedalam kategori membahayakan keselamatan, menimbulkan kerugian, dan mengancam keamanan negara, dan telah diformalkan, dilakukan monitoring pelaksanaannya dan direviiew secara berkala | J45: Organisasi telah melakukan pemeriksaan potensi dampak keamanan terhadap seluruh fungsi penting organisasi, apakah ada risiko keamanan yang diketahui termasuk kedalam kategori membahayakan keselamatan, menimbulkan kerugian, dan mengancam keamanan negara, dan telah diformalkan, dilakukan monitoring pelaksanaannya dan direviiew secara berkala, serta penerapan mekanisme otomatisasi
A46: Sub Kategori 1.4.4 | B46: Menganalisis nilai risiko terhadap Sistem Elektronik | C46: Ruang Lingkup | D46: Indeks Nilai Kematangan | E46: Indeks 0 | F46: Indeks 1 | G46: Indeks 2 | H46: Indeks 3 | I46: Indeks 4 | J46: Indeks 5 | K46: Keterangan Validasi
A47: a | B47: Pertimbangkan ancaman, kerentanan, kemungkinan, dan dampak saat menganalisis risiko | C47: Tata Kelola | E47: Organisasi belum mempertimbangkan ancaman, kerentanan, kemungkinan, dan dampak saat menganalisis risiko. | F47: Organisasi telah melaksanakan analisis nilai risiko pada sebagian kecil aspek Sistem Elektronik dengan mempertimbangkan ancaman, kerentanan, kemungkinan, dan dampak, namun belum diformalkan | G47: Organisasi telah melaksanakan analisis nilai risiko pada sebagian besar aspek Sistem Elektronik dengan mempertimbangkan ancaman, kerentanan, kemungkinan, dan dampak, namun belum diformalkan | H47: Organisasi telah melaksanakan analisis nilai risiko pada seluruh aspek Sistem Elektronik dengan mempertimbangkan ancaman, kerentanan, kemungkinan, dan dampak. dan telah diformalkan | I47: Organisasi telah melaksanakan analisis nilai risiko pada seluruh aspek Sistem Elektronik dengan mempertimbangkan ancaman, kerentanan, kemungkinan, dan dampak. dan telah diformalkan, dilakukan monitoring dan di review secara berkala untuk memastikan bahwa proses ini tetap relevan dan efisien seiring waktu. | J47: Organisasi telah melaksanakan analisis nilai risiko pada seluruh aspek Sistem Elektronik dengan mempertimbangkan ancaman, kerentanan, kemungkinan, dan dampak. dan telah diformalkan, dilakukan monitoring dan di review secara berkala, dilakukan evaluasi dan perbaikan berkelanjutan serta penerapan mekanisme otomatisasi
A48: b | B48: Penyelenggara Sistem Elektronik menentukan level risiko dan prioritas mitigasinya | C48: Tata Kelola | E48: Organisasi belum memiliki level risiko dan prioritas mitigasinya. | F48: Organisasi telah menerapkan level risiko dan prioritas mitigasinya pada sebagian kecil aspek, tetapi belum diformalkan | G48: Organisasi telah menerapkan level risiko dan prioritas mitigasinya pada sebagian besar aspek, tetapi belum diformalkan | H48: Organisasi telah menerapkan level risiko dan prioritas mitigasinya pada seluruh aspek, dan telah diformalkan. Risiko dievaluasi dengan memperhitungkan dampak potensial dan kemungkinan terjadinya. | I48: Organisasi telah menentukan level risiko dan prioritas mitigasinya pada seluruh aspek, dan telah diformalkan, dilakukan monitoring dan direview secara berkala | J48: Organisasi telah menentukan level risiko dan prioritas mitigasinya pada seluruh aspek, dan telah diformalkan, dilakukan monitoring dan direview secara berkala, dilakukan evaluasi dan perbaikan berkelanjutan serta penerapan mekanisme otomatisasi
A49: c | B49: Penyelenggara Sistem Elektronik memiliki kriteria yang jelas dan konsisten untuk menentukan tingkat risiko siber dan toleransi risiko untuk setiap aset informasi Sistem Elektronik | C49: Tata Kelola | E49: Organisasi belum memiliki rencana atau proses untuk menetapkan kriteria yang jelas dan konsisten untuk menentukan tingkat risiko siber dan toleransi risiko untuk setiap aset informasi Sistem Elektronik. | F49: Organisasi telah menerapkan kriteria yang jelas dan konsisten untuk menentukan tingkat risiko siber dan toleransi risiko untuk sebagian kecil aset informasi Sistem Elektronik, dan belum diformalkan | G49: Organisasi telah menerapkan kriteria yang jelas dan konsisten untuk menentukan tingkat risiko siber dan toleransi risiko untuk sebagian besar aset informasi Sistem Elektronik, dan belum diformalkan | H49: Organisasi telah menetapkan kriteria yang jelas dan konsisten untuk menentukan tingkat risiko siber dan toleransi risiko untuk seluruh aset informasi Sistem Elektronik, dan telah diformalkan | I49: Organisasi telah menetapkan kriteria yang jelas dan konsisten untuk menentukan tingkat risiko siber dan toleransi risiko untuk seluruh aset informasi Sistem Elektronik, dan telah diformalkan, dilakukan monitoring dan direview secara berkala | J49: Organisasi telah menetapkan kriteria yang jelas dan konsisten untuk menentukan tingkat risiko siber dan toleransi risiko untuk seluruh aset informasi Sistem Elektronik, dan telah diformalkan, dilakukan monitoring dan direview secara berkelanjutan, dilakukan evaluasi dan perbaikan berkelanjutan serta penerapan mekanisme otomatisasi
A50: d | B50: Penyelenggara Sistem Elektronik melakukan penilaian risiko siber secara berkala dan menyeluruh, dengan melibatkan semua pemangku kepentingan yang relevan. | C50: Tata Kelola | E50: Organisasi belum memiliki rencana atau proses untuk melakukan penilaian risiko siber secara berkala dan menyeluruh. | F50: Organisasi telah melakukan penilaian risiko siber namun belum secara rutin dan hanya sebagian kecil aspek saja serta belum diformalkan | G50: Organisasi telah melakukan penilaian risiko siber pada sebagian besar aspek tapi belum diformalkan dan belum secara rutin berkala, cakupannya masih terbatas dan mungkin belum melibatkan semua pemangku kepentingan yang relevan. | H50: Organisasi telah melakukan penilaian risiko siber pada seluruh aspek secara rutin berkala,dan telah diformalkan, cakupannya telah melibatkan semua pemangku kepentingan yang relevan. | I50: Organisasi telah melakukan penilaian risiko siber pada seluruh aspek secara rutin berkala,dan telah diformalkan, cakupannya telah melibatkan semua pemangku kepentingan yang relevan, dilakukan monitoring dan direview secara berkala | J50: Organisasi telah melakukan penilaian risiko siber pada seluruh aspek secara rutin berkala,dan telah diformalkan, cakupannya telah melibatkan semua pemangku kepentingan yang relevan, dilakukan monitoring dan direview secara berkala, dilakukan evaluasi dan perbaikan berkelanjutan serta memastikan bahwa organisasi tetap adaptif terhadap perubahan lingkungan dan ancaman keamanan dan menerapkan mekanisme otomatisasi
A51: e | B51: Penyelenggara Sistem Elektronik menentukan tingkat risiko terkait keamanan siber yang dapat diterima | C51: Tata Kelola | E51: Organisasi belum memiliki rencana atau proses untuk menentukan tingkat risiko terkait keamanan siber yang dapat diterima. | F51: Organisasi telah merencanakan untuk menentukan tingkat risiko terkait keamanan siber yang dapat diterima pada sebagian kecil aspek, tetapi langkah-langkah konkret belum diambil. Kesadaran akan pentingnya kegiatan ini ada, tetapi belum ada tindakan yang diambil untuk melaksanakannya secara aktif. | G51: Organisasi telah memulai proses untuk menentukan tingkat risiko terkait keamanan siber yang dapat diterima, pada sebagian besar aspek meskipun masih dalam tahap awal atau sebagian besar aspek. Beberapa aspek mungkin telah dipertimbangkan, tetapi cakupannya masih terbatas. | H51: Organisasi telah menentukan tingkat risiko terkait keamanan siber yang dapat diterima pada seluruh aspek. Proses ini telah dijalankan secara menyeluruh dan mencakup semua aspek yang relevan. Organisasi telah menetapkan kriteria yang jelas dan terukur untuk menentukan tingkat risiko yang dapat diterima. | I51: Organisasi telah menentukan tingkat risiko terkait keamanan siber yang dapat diterima pada seluruh aspek. Proses ini telah dijalankan secara menyeluruh dan mencakup semua aspek yang relevan. Organisasi telah menetapkan kriteria yang jelas dan terukur untuk menentukan tingkat risiko yang dapat diterima, dilakukan monitoring dan direview secara berkala untuk memastikan bahwa proses ini tetap relevan dan efisien seiring waktu. | J51: Organisasi telah menentukan tingkat risiko terkait keamanan siber yang dapat diterima pada seluruh aspek. Proses ini telah dijalankan secara menyeluruh dan mencakup semua aspek yang relevan. Organisasi telah menetapkan kriteria yang jelas dan terukur untuk menentukan tingkat risiko yang dapat diterima, dilakukan monitoring dan direview secara berkala untuk memastikan bahwa proses ini tetap relevan dan efisien seiring waktu, dilakukan evaluasi dan perbaikan berkelanjutan.
A52: f | B52: Penyelenggara Sistem Elektronik memiliki proses untuk menganalisis dan mengevaluasi data dan informasi yang terkait dengan risiko siber, termasuk penyebab, dampak, dan peluang | C52: Tata Kelola | E52: Organisasi belum memiliki rencana atau proses untuk menganalisis dan mengevaluasi data dan informasi terkait dengan risiko siber, termasuk penyebab, dampak, dan peluang. | F52: Organisasi telah menjalankan proses untuk menganalisis dan mengevaluasi data dan informasi pada sebagian kecil aspek yang terkait dengan risiko siber, termasuk penyebab, dampak, dan peluang, tapi belum diformalkan | G52: Organisasi telah menjalankan proses untuk menganalisis dan mengevaluasi data dan informasi pada sebagian besar aspek yang terkait dengan risiko siber, termasuk penyebab, dampak, dan peluang, tapi belum diformalkan. Beberapa aspek mungkin telah dipertimbangkan, tetapi cakupannya masih terbatas. | H52: - Organisasi telah menjalankan proses untuk menganalisis dan mengevaluasi data dan informasi pada seluruh aspek yang terkait dengan risiko siber, termasuk penyebab, dampak, dan peluang, dan telah diformalkan. - Organisasi telah memiliki metode yang terstruktur untuk melakukan analisis risiko. | I52: - Organisasi telah memiliki proses untuk menganalisis dan mengevaluasi data dan informasi pada seluruh aspek yang terkait dengan risiko siber, termasuk penyebab, dampak, dan peluang, dan telah diformalkan. - Organisasi telah memiliki metode yang terstruktur untuk melakukan analisis risiko, dilakukan monitoring dan direview secara berkala | J52: - Organisasi telah memiliki proses untuk menganalisis dan mengevaluasi data dan informasi pada seluruh aspek yang terkait dengan risiko siber, termasuk penyebab, dampak, dan peluang, dan telah diformalkan. - Organisasi telah memiliki metode yang terstruktur untuk melakukan analisis risiko, dilakukan monitoring dan direview secara berkala. Berdasarkan hasil review dan umpan balik, ada tindakan yang diambil untuk memperbaiki proses ini secara terus-menerus, memastikan bahwa Organisasi tetap adaptif terhadap perubahan lingkungan dan ancaman keamanan.
A53: g | B53: Penyelenggara Sistem Elektronik memiliki kebijakan dan prosedur yang efektif untuk mengurangi, menghindari, mentransfer, atau menerima risiko siber sesuai dengan tingkat risiko dan toleransi risiko yang ditetapkan | C53: Tata Kelola | E53: Organisasi belum memiliki kebijakan dan prosedur yang efektif untuk mengelola risiko siber. Tidak ada upaya yang dilakukan untuk merencanakan atau mengimplementasikan aktivitas tersebut. | F53: Organisasi telah menerapkan kebijakan dan prosedur untuk mengurangi, menghindari, mentransfer, atau menerima risiko siber pada sebagian kecil aspek, sesuai dengan tingkat risiko dan toleransi risiko yang ditetapkan. tetapi belum ada penetapan secara formal | G53: Organisasi telah menerapkan kebijakan dan prosedur untuk mengurangi, menghindari, mentransfer, atau menerima risiko siber pada sebagian besar aspek, sesuai dengan tingkat risiko dan toleransi risiko yang ditetapkan. tetapi belum ada penetapan secara formal | H53: Organisasi telah menerapkan kebijakan dan prosedur untuk mengurangi, menghindari, mentransfer, atau menerima risiko siber pada seluruh aspek, sesuai dengan tingkat risiko dan toleransi risiko yang ditetapkan. dan telah ada penetapan secara formal | I53: Organisasi telah menerapkan kebijakan dan prosedur untuk mengurangi, menghindari, mentransfer, atau menerima risiko siber pada seluruh aspek, sesuai dengan tingkat risiko dan toleransi risiko yang ditetapkan. dan telah ada penetapan secara formal, dilakukan monitoring pelaksanaan kebijakan ini dan direview secara berkala | J53: Organisasi telah menerapkan kebijakan dan prosedur untuk mengurangi, menghindari, mentransfer, atau menerima risiko siber pada seluruh aspek, sesuai dengan tingkat risiko dan toleransi risiko yang ditetapkan. dan telah ada penetapan secara formal, dilakukan monitoring pelaksanaan kebijakan ini dan direview secara berkala, dilakukan evaluasi dan perbaikan berkelanjutan serta penerapan mekanisme otomatisasi
A54: Sub Kategori 1.4.5 | B54: Mengidentifikasi dan menyusun prioritas mitigasi terhadap risiko | C54: Ruang Lingkup | D54: Indeks Nilai Kematangan | E54: Indeks 0 | F54: Indeks 1 | G54: Indeks 2 | H54: Indeks 3 | I54: Indeks 4 | J54: Indeks 5 | K54: Keterangan Validasi
A55: a | B55: Berdasarkan hasil penilaian risiko, tentukan dengan jelas rincian tindakan untuk mencegah kemungkinan risiko keamanan, dan dokumentasikan hasil yang terorganisir dari ruang lingkup dan prioritas tindakan. | C55: Tata Kelola | E55: Organisasi belum menentukan dengan jelas rincian tindakan untuk mencegah kemungkinan risiko keamanan, dan belum mendokumentasikan hasil yang terorganisir dari ruang lingkup dan prioritas tindakan berdasarkan hasil penilaian risiko. | F55: Organisasi telah menentukan dengan jelas rincian tindakan pada sebagian kecil aspek untuk mencegah kemungkinan risiko keamanan, dan mendokumentasikan hasil yang terorganisir dari ruang lingkup dan prioritas tindakan berdasarkan hasil penilaian risiko, namun belum diformalkan | G55: Organisasi telah menentukan dengan jelas rincian tindakan pada sebagian besar aspek untuk mencegah kemungkinan risiko keamanan, dan mendokumentasikan hasil yang terorganisir dari ruang lingkup dan prioritas tindakan berdasarkan hasil penilaian risiko, namun belum diformalkan | H55: Organisasi telah menentukan dengan jelas rincian tindakan pada seluruh aspek untuk mencegah kemungkinan risiko keamanan, dan mendokumentasikan hasil yang terorganisir dari ruang lingkup dan prioritas tindakan berdasarkan hasil penilaian risiko, dan telah diformalkan | I55: Organisasi telah menentukan dengan jelas rincian tindakan untuk mencegah kemungkinan risiko keamanan, dan dokumentasikan hasil yang terorganisir dari ruang lingkup dan prioritas tindakan berdasarkan hasil penilaian risiko dan telah dilakukan secara menyeluruh terhadap setiap aset informasi baik yang mendukung secara langsung fungsi vital, maupun tidak langsung selama masih dikelola oleh Organisasi dan telah diformalkan, dilakukan monitoring dan direview secara berkala | J55: Organisasi telah menentukan dengan jelas rincian tindakan untuk mencegah kemungkinan risiko keamanan, dan dokumentasikan hasil yang terorganisir dari ruang lingkup dan prioritas tindakan berdasarkan hasil penilaian risiko dan telah dilakukan secara menyeluruh terhadap setiap aset informasi baik yang mendukung secara langsung fungsi vital, maupun tidak langsung selama masih dikelola oleh Organisasi dan telah diformalkan, dilakukan monitoring dan direview secara berkala, serta selalu melakukan pebaikan bekelanjutan
A56: b | B56: Evaluasi hasil penerapan respon risiko secara berkelanjutan. | C56: Tata Kelola | E56: Organisasi belum melakukan evaluasi terhadap hasil penerapan respon risiko secara berkelanjutan. | F56: Organisasi telah melakukan evaluasi pada sebagian kecil aspek terhadap hasil penerapan respon risiko secara berkelanjutan, namun masih belum melakukan tindakan kongkrit, dan belum diformalkan | G56: Organisasi telah melakukan evaluasi pada sebagian besar aspek terhadap hasil penerapan respon risiko secara berkelanjutan, dan belum diformalkan | H56: Organisasi telah melakukan evaluasi pada seluruh aspek terhadap hasil penerapan respon risiko secara berkelanjutan, dan telah diformalkan | I56: Organisasi telah melakukan evaluasi pada seluruh aspek terhadap hasil penerapan respon risiko secara berkelanjutan, dan telah diformalkan, dilakukan monitoring dan direview secara berkala | J56: Organisasi telah melakukan evaluasi pada seluruh aspek terhadap hasil penerapan respon risiko secara berkelanjutan, dan telah diformalkan, dilakukan monitoring dan direview secara berkala, dilakukan evaluasi dan perbaikan berkelanjutan dan menerapkan mekanisme otomatisasi
A57: Sub Kategori 1.4.6 | B57: Menentukan dan mengomunikasikan toleransi risiko organisasi | C57: Ruang Lingkup | D57: Indeks Nilai Kematangan | E57: Indeks 0 | F57: Indeks 1 | G57: Indeks 2 | H57: Indeks 3 | I57: Indeks 4 | J57: Indeks 5 | K57: Keterangan Validasi
A58: a | B58: Menentukan tingkat toleransi risiko organisasi berdasarkan hasil penilaian risiko dan kebijakan yang berlaku. | C58: Tata Kelola | E58: Organisasi belum menentukan tingkat toleransi risiko organisasi berdasarkan hasil penilaian risiko dan kebijakan yang berlaku. | F58: Organisasi telah menentukan tingkat toleransi risiko organisasi berdasarkan hasil penilaian risiko dan kebijakan yang berlaku pada sebagian kecil aspek, tetapi belum ada tindakan yang diambil untuk melaksanakannya secara aktif dan belum diformalkan | G58: Organisasi telah menentukan tingkat toleransi risiko organisasi berdasarkan hasil penilaian risiko dan kebijakan yang berlaku pada sebagian besar aspek, dan belum diformalkan | H58: Organisasi telah menentukan tingkat toleransi risiko organisasi berdasarkan hasil penilaian risiko dan kebijakan yang berlaku secara menyeluruh terhadap aspek yang relevan dan telah disahkan pimpinan dalam bentuk formal | I58: Organisasi telah menentukan tingkat toleransi risiko organisasi berdasarkan hasil penilaian risiko dan kebijakan yang berlaku secara menyeluruh terhadap aspek yang relevan dan telah disahkan pimpinan dalam bentuk formal, dilakukan monitoring dan direview secara berkala | J58: Organisasi telah menentukan tingkat toleransi risiko organisasi berdasarkan hasil penilaian risiko dan kebijakan yang berlaku secara menyeluruh terhadap aspek yang relevan dan telah disahkan pimpinan dalam bentuk formal, dilakukan monitoring dan direview secara berkala, dilakukan evaluasi dan perbaikan berkelanjutan serta menerapkan mekanisme otomatisasi
A59: b | B59: Penyelenggara Sistem Elektronik memiliki mekanisme untuk mengomunikasikan hasil dan rekomendasi dari proses manajemen risiko kepada pihak-pihak yang berwenang dan relevan | C59: Tata Kelola | E59: Organisasi belum memiliki mekanisme untuk mengomunikasikan hasil dan rekomendasi dari proses manajemen risiko kepada pihak-pihak yang berwenang dan relevan. Tidak ada upaya yang dilakukan untuk merencanakan atau mengimplementasikan aktivitas tersebut. | F59: Organisasi telah memiliki mekanisme untuk mengomunikasikan hasil dan rekomendasi dari proses manajemen risiko kepada pihak-pihak yang berwenang dan relevan, dan menerapkannya pada sebagian kecil aspek, dan belum diformalkan | G59: Organisasi telah memiliki mekanisme untuk mengomunikasikan hasil dan rekomendasi dari proses manajemen risiko kepada pihak-pihak yang berwenang dan relevan, dan menerapkannya pada sebagian besar aspek, dan belum diformalkan | H59: Organisasi telah memiliki mekanisme untuk mengomunikasikan hasil dan rekomendasi dari proses manajemen risiko kepada pihak-pihak yang berwenang dan relevan, dan menerapkannya secara menyeluruh dan mencakup semua aspek yang relevan, dan telah diformalkan | I59: Organisasi telah memiliki mekanisme untuk mengomunikasikan hasil dan rekomendasi dari proses manajemen risiko kepada pihak-pihak yang berwenang dan relevan, dan menerapkannya secara menyeluruh dan mencakup semua aspek yang relevan, dan telah diformalkan, dilakukan monitoring dan direview secara berkala | J59: Organisasi telah memiliki mekanisme untuk mengomunikasikan hasil dan rekomendasi dari proses manajemen risiko kepada pihak-pihak yang berwenang dan relevan, dan menerapkannya secara menyeluruh dan mencakup semua aspek yang relevan, dan telah diformalkan, dilakukan monitoring dan direview secara berkala, dilakukan evaluasi untuk memperbaiki mekanisme tersebut secara terus-menerus, memastikan bahwa Organisasi tetap adaptif terhadap perubahan lingkungan dan kebutuhan komunikasi yang mungkin berubah.
A60: Sub Kategori 1.4.7 | B60: Mengelola hasil penerapan manajemen risiko yang telah ditetapkan | C60: Ruang Lingkup | D60: Indeks Nilai Kematangan | E60: Indeks 0 | F60: Indeks 1 | G60: Indeks 2 | H60: Indeks 3 | I60: Indeks 4 | J60: Indeks 5 | K60: Keterangan Validasi
A61: a | B61: Konfirmasi status implementasi manajemen risiko keamanan siber organisasi dan komunikasikan hasilnya kepada pihak yang tepat di dalam organisasi (misalnya pimpinan organisasi). | C61: Tata Kelola | E61: Organisasi belum melakukan Konfirmasi status implementasi manajemen risiko keamanan siber organisasi dan mengkomunikasikan hasilnya kepada pihak yang tepat di dalam organisasi | F61: Organisasi sudah melakukan Konfirmasi status implementasi manajemen risiko keamanan siber organisasi dan mengkomunikasikan hasilnya kepada pihak yang tepat di dalam organisasi, namun baru diterapkan pada sebagian kecil aspek dan belum diformalkan | G61: Organisasi sudah melakukan Konfirmasi status implementasi manajemen risiko keamanan siber organisasi dan mengkomunikasikan hasilnya kepada pihak yang tepat di dalam organisasi, diterapkan pada sebagian besar aspek namun belum diformalkan | H61: Organisasi sudah melakukan Konfirmasi status implementasi manajemen risiko keamanan siber organisasi dan mengkomunikasikan hasilnya kepada pihak yang tepat di dalam organisasi, diterapkan pada seluruh aspek dan telah diformalkan | I61: Organisasi sudah melakukan Konfirmasi status implementasi manajemen risiko keamanan siber organisasi dan mengkomunikasikan hasilnya kepada pihak yang tepat di dalam organisasi, diterapkan pada seluruh aspek dan telah diformalkan, dilakukan monitoring dan direview secara berkala | J61: Organisasi sudah melakukan Konfirmasi status implementasi manajemen risiko keamanan siber organisasi dan mengkomunikasikan hasilnya kepada pihak yang tepat di dalam organisasi, diterapkan pada seluruh aspek dan telah diformalkan, dilakukan monitoring dan direview secara berkala, dilakukan evaluasi dan diperbaiki secara berkelanjutan
A62: b | B62: tetapkan serta terapkan proses untuk mengonfirmasi status penerapan manajemen risiko keamanan pihak terkait. | C62: Tata Kelola | E62: Organisasi belum menetapkan serta menerapkan proses untuk mengonfirmasi status penerapan manajemen risiko keamanan pihak terkait. | F62: Organisasi sudah menetapkan serta menerapkan proses untuk mengonfirmasi status penerapan manajemen risiko keamanan pihak terkait, namun baru diterapkan pada sebagian kecil aspek dan belum diformalkan | G62: Organisasi sudah menetapkan serta menerapkan proses untuk mengonfirmasi status penerapan manajemen risiko keamanan pihak terkait, diterapkan pada sebagian besar aspek namun belum diformalkan | H62: Organisasi sudah menetapkan serta menerapkan proses untuk mengonfirmasi status penerapan manajemen risiko keamanan pihak terkait, diterapkan pada seluruh aspek dan telah diformalkan | I62: Organisasi sudah menetapkan serta menerapkan proses untuk mengonfirmasi status penerapan manajemen risiko keamanan pihak terkait, diterapkan pada seluruh aspek dan telah diformalkan, dilakukan monitoring dan direview secara berkala | J62: Organisasi sudah menetapkan serta menerapkan proses untuk mengonfirmasi status penerapan manajemen risiko keamanan pihak terkait, diterapkan pada seluruh aspek dan telah diformalkan, dilakukan monitoring dan direview secara berkala, dilakukan evaluasi dan diperbaiki secara berkelanjutan
A63: c | B63: Penyelenggara Sistem Elektronik memiliki meknisme untuk melakukan audit internal dan eksternal terhadap proses manajemen risiko dan mengimplementasikan rekomendasi perbaikan | C63: Tata Kelola | E63: Organisasi belum memiliki mekanisme untuk melakukan audit internal dan eksternal terhadap proses manajemen risiko atau mengimplementasikan rekomendasi perbaikan. Tidak ada upaya yang dilakukan untuk merencanakan atau mengimplementasikan aktivitas tersebut. | F63: Organisasi telah memiliki mekanisme untuk melakukan audit internal dan eksternal terhadap proses manajemen risiko dan mengimplementasikan rekomendasi perbaikan, namun baru diterapkan pada sebagian kecil aspek dan belum diformalkan | G63: Organisasi telah memiliki mekanisme untuk melakukan audit internal dan eksternal terhadap proses manajemen risiko dan mengimplementasikan rekomendasi perbaikan, telah diterapkan pada sebagian besar aspek namun belum diformalkan | H63: Organisasi telah memiliki mekanisme untuk melakukan audit internal dan eksternal terhadap proses manajemen risiko dan mengimplementasikan rekomendasi perbaikan, telah diterapkan pada seluruh besar aspek dan telah diformalkan | I63: Organisasi telah memiliki mekanisme untuk melakukan audit internal dan eksternal terhadap proses manajemen risiko dan mengimplementasikan rekomendasi perbaikan, telah diterapkan pada seluruh besar aspek dan telah diformalkan, dilakukan monitoring dan direview secara berkala meninjau kembali dan mengevaluasi efektivitasnya. Ada upaya untuk memastikan bahwa audit tersebut tetap relevan dan efisien seiring waktu. | J63: Organisasi telah memiliki mekanisme untuk melakukan audit internal dan eksternal terhadap proses manajemen risiko dan mengimplementasikan rekomendasi perbaikan, telah diterapkan pada seluruh besar aspek dan telah diformalkan, dilakukan monitoring dan direview secara berkala, dilakukan evaluasi dan perbaikan berkelanjutan untuk memastikan bahwa Organisasi terus berkembang dan meningkatkan keefektifan dan efisiensinya.
A64: Sub Kategori 1.4.8 | B64: Melakukan reviu terhadap hasil penerapan manajemen risiko | C64: Ruang Lingkup | D64: Indeks Nilai Kematangan | E64: Indeks 0 | F64: Indeks 1 | G64: Indeks 2 | H64: Indeks 3 | I64: Indeks 4 | J64: Indeks 5 | K64: Keterangan Validasi
A65: a | B65: Penyelenggara Sistem Elektronik melakukan reviu terhadap manajemen risiko secara periodik, atau apabila menemukan data atau informasi baru yang berpotensi menambah atau mengubah profil risiko. | C65: Tata Kelola | E65: Organisasi belum melakukan reviu terhadap manajemen risiko secara periodik, atau apabila menemukan data atau informasi baru yang berpotensi menambah atau mengubah profil risiko. Tidak ada upaya yang dilakukan untuk merencanakan atau mengimplementasikan aktivitas tersebut. | F65: Organisasi sudah melakukan reviu terhadap manajemen risiko secara periodik, atau apabila menemukan data atau informasi baru yang berpotensi menambah atau mengubah profil risiko, tetapi baru diterapkan pada sebagian kecil aspek dan belum diformalkan | G65: Organisasi sudah melakukan reviu terhadap manajemen risiko secara periodik, atau apabila menemukan data atau informasi baru yang berpotensi menambah atau mengubah profil risiko, telah diterapkan pada sebagian besar aspek namun belum diformalkan | H65: Organisasi sudah melakukan reviu secara keseluruhan terhadap manajemen risiko secara periodik, atau apabila menemukan data atau informasi baru yang berpotensi menambah atau mengubah profil risiko dan telah diformalkan | I65: Organisasi sudah melakukan reviu secara keseluruhan dan disahkan oleh pimpinan terhadap manajemen risiko secara periodik, atau apabila menemukan data atau informasi baru yang berpotensi menambah atau mengubah profil risiko, dilakukan monitoring dan direview secara berkala | J65: Organisasi sudah melakukan reviu secara keseluruhan dan disahkan oleh pimpinan terhadap manajemen risiko secara periodik, atau apabila menemukan data atau informasi baru yang berpotensi menambah atau mengubah profil risiko, dilakukan monitoring dan direview secara berkala, dilakukan evaluasi dan perbaikan berkelanjutan
A66: Kategori 1.5: | B66: Mengelola risiko rantai pasok
A67: Sub Kategori 1.5.1 | B67: Mengidentifikasi dan menetapkan proses manajemen risiko rantai pasok | C67: Ruang Lingkup | D67: Indeks Nilai Kematangan | E67: Indeks 0 | F67: Indeks 1 | G67: Indeks 2 | H67: Indeks 3 | I67: Indeks 4 | J67: Indeks 5 | K67: Keterangan Validasi
A68: a | B68: Merumuskan standar tindakan keamanan yang relevan dengan rantai pasok dan menyepakati konten dengan mitra bisnis setelah memperjelas ruang lingkup tanggung jawab masing-masing | C68: Tata Kelola | E68: Organisasi belum memiliki standar tindakan keamanan yang relevan terkait rantai pasok | F68: Organisasi telah merumuskan sebagian kecil aspek standar tindakan keamanan yang relevan terkait rantai pasok tapi belum diformalkan dalam bentuk NSPK | G68: Organisasi telah merumuskan sebagian kecil aspek standar tindakan keamanan yang relevan terkait rantai pasok tapi belum diformalkan dalam bentuk NSPK. Hal-hal kesepakatan terkait konten keamanan dengan mitra bisnis mulai diperjelas. | H68: Organisasi telah merumuskan seluruh aspek standar tindakan keamanan yang relevan terkait rantai pasok dan telah diformalkan dalam bentuk NSPK. Hal-hal terkait kesepakatan pembagian peran dan tanggung jawab masing-masing pihak telah ditentukan. | I68: Organisasi telah merumuskan seluruh aspek standar tindakan keamanan yang relevan terkait rantai pasok dan telah diformalkan dalam bentuk NSPK. Hal-hal terkait implementasi keamanan dengan pihak-pihak terkait telah dimonitoring, direviu secara berkala untuk mendapatkan hasil yang efektif | J68: Organisasi telah merumuskan seluruh aspek standar tindakan keamanan yang relevan terkait rantai pasok dan telah diformalkan dalam bentuk NSPK. Hal-hal terkait implementasi keamanan dengan pihak-pihak terkait dimonitoring, direviu secara berkala, dan dilakukan perbaikan untuk mendapatkan hasil yang efektif
A69: b | B69: Hal yang perlu dipertimbangkan dalam proses manajemen risiko rantai pasokan diantaranya adalah penentuan jenis akses yang diberikan, alasan kebutuhan akses, metode akses, jangka waktu, dan potensi risiko yang terjadi apabila akses tersebut disalahgunakan | C69: Tata Kelola | E69: Organisasi belum merencanakan pengaturan akses kontrol terkait rantai pasok | F69: Organisasi telah menjalankan sebagian kecil metode penentuan akses yang diberikan terhadap rantai pasok. metode penentuan akses yang telah dilakukan meliputi : 1. Penentuan jenis akses yang diberikan; 2. reviu kebutuhan akses; 3. metode akses yang diberikan; 4. jangka waktu yang diberikan; atau 5. identifikasi potensi risiko yang terjadi apabila akses disalahgunakan namun belum diformalkan | G69: Organisasi telah menjalankan sebagian besar metode penentuan akses yang diberikan terhadap rantai pasok. Metode penentuan akses yang telah dilakukan meliputi : 1. Penentuan jenis akses yang diberikan; 2. reviu kebutuhan akses; 3. metode akses yang diberikan; 4. jangka waktu yang diberikan; atau 5. identifikasi potensi risiko yang terjadi apabila akses disalahgunakan. namun belum diformalkan | H69: Organisasi telah menjalankan keseluruhan metode penentuan akses yang diberikan terhadap rantai pasok dan telah diformalkan dalam bentuk NSPK. Metode penentuan akses yang telah dilakukan meliputi : 1. Penentuan jenis akses yang diberikan; 2. reviu kebutuhan akses; 3. metode akses yang diberikan; 4. jangka waktu yang diberikan; atau 5. identifikasi potensi risiko yang terjadi apabila akses disalahgunakan. | I69: Organisasi telah menjalankan keseluruhan metode penentuan akses yang diberikan terhadap rantai pasok dan telah diformalkan dalam bentuk NSPK. Metode penentuan akses yang telah dilakukan meliputi : 1. Penentuan jenis akses yang diberikan; 2. reviu kebutuhan akses; 3. metode akses yang diberikan; 4. jangka waktu yang diberikan; atau 5. identifikasi potensi risiko yang terjadi apabila akses disalahgunakan. Komponen-komponen terkait telah dimonitoring dan direviu secara berkala namun belum ada upaya perbaikan berkelanjutan | J69: Organisasi telah menjalankan keseluruhan metode penentuan akses yang diberikan terhadap rantai pasok dan telah diformalkan dalam bentuk NSPK. Metode penentuan akses yang telah dilakukan meliputi : 1. Penentuan jenis akses yang diberikan; 2. reviu kebutuhan akses; 3. metode akses yang diberikan; 4. jangka waktu yang diberikan; atau 5. identifikasi potensi risiko yang terjadi apabila akses disalahgunakan. Komponen-komponen terkait telah dimonitoring dan direviu secara berkala, dilakukan evaluasi dan perbaikan berkelanjutan
A70: Sub Kategori 1.5.2 | B70: Mengidentifikasi pemasok dan mitra pihak ketiga dari setiap aset informasi di Sistem Elektronik | C70: Ruang Lingkup | D70: Indeks Nilai Kematangan | E70: Indeks 0 | F70: Indeks 1 | G70: Indeks 2 | H70: Indeks 3 | I70: Indeks 4 | J70: Indeks 5 | K70: Keterangan Validasi
A71: a | B71: Identifikasi peran dan tanggung jawab keamanan siber di pemangku kepentingan pihak ketiga (misalnya, pemasok, pelanggan, atau mitra), dan pihak lainnya yang berhubungan dengan Penyelenggara Sistem Elektronik. | C71: Tata Kelola | E71: Organisasi belum menjalankan identifikasi peran dan tanggung jawab keamanan siber di pemangku kepentingan pihak ketiga (misalnya, pemasok, pelanggan, atau mitra), dan pihak lainnya yang berhubungan. | F71: Organisasi telah melaksanakan sebagian kecil aspek identifikasi peran dan tanggung jawab keamanan siber di pemangku kepentingan pihak ketiga (misalnya, pemasok, pelanggan, atau mitra), dan pihak lainnya yang berhubungan, dan belum diformalkan. | G71: Organisasi telah melaksanakan sebagian besar aspek identifikasi peran dan tanggung jawab keamanan siber di pemangku kepentingan pihak ketiga (misalnya, pemasok, pelanggan, atau mitra), dan pihak lainnya yang berhubungan namun belum diformalkan. | H71: Organisasi telah melaksanakan keseluruhan identifikasi peran dan tanggung jawab keamanan siber di pemangku kepentingan pihak ketiga (misalnya, pemasok, pelanggan, atau mitra), dan pihak lainnya yang berhubungan dan telah diformalkan. | I71: Organisasi telah melaksanakan keseluruhan identifikasi peran dan tanggung jawab keamanan siber di pemangku kepentingan pihak ketiga (misalnya, pemasok, pelanggan, atau mitra), dan pihak lainnya dan telah diformalkan. Hasil identifikasi dilakukan monitoring dan reviu secara berkala. | J71: Organisasi telah melaksanakan keseluruhan identifikasi peran dan tanggung jawab keamanan siber di pemangku kepentingan pihak ketiga (misalnya, pemasok, pelanggan, atau mitra), dan pihak lainnya dan telah diformalkan. Hasil identifikasi dilakukan monitoring dan reviu secara berkala serta perbaikan yang berkelanjutan.
A72: b | B72: Merumuskan dan mengelola persyaratan keamanan yang berlaku untuk anggota/personel pihak ketiga, dan juga pemangku kepentingan lainnya yang terlibat dalam layanan yang disediakan oleh pihak ketiga. | C72: Tata Kelola | E72: Organisasi belum memiliki program perumusan dan pengelolaan persyaratan keamanan yang berlaku untuk anggota/personel pihak ketiga, dan juga pemangku kepentingan lainnya yang terlibat dalam layanan yang disediakan oleh pihak ketiga. | F72: Organisasi telah merumuskan dan mengelola persyaratan keamanan yang berlaku untuk anggota/personel pihak ketiga, dan juga pemangku kepentingan lainnya yang terlibat dalam layanan yang disediakan oleh pihak ketiga, yang diterapkan pada sebagian kecil aspek namun belum diformalkan | G72: Organisasi telah merumuskan dan mengelola persyaratan keamanan yang berlaku untuk anggota/personel pihak ketiga, dan juga pemangku kepentingan lainnya yang terlibat dalam layanan yang disediakan oleh pihak ketiga, yang diterapkan pada sebagian besar aspek namun belum diformalkan | H72: Organisasi telah secara menyeluruh merumuskan dan mengelola persyaratan keamanan yang berlaku untuk anggota/personel pihak ketiga, dan juga pemangku kepentingan lainnya yang terlibat dalam layanan yang disediakan oleh pihak ketiga secara efektif. Penyusunan program telah melibatkan pihak-pihak terkait termasuk pihak ketiga yang terlibat dan telah diformalkan. | I72: Organisasi telah menjalankan keseluruhan program perumusan dan pengelolaan persyaratan keamanan yang berlaku untuk anggota/personel pihak ketiga, dan juga pemangku kepentingan lainnya yang terlibat dalam layanan yang disediakan oleh pihak ketiga secara efektif. Penyusunan program telah melibatkan pihak-pihak terkait termasuk pihak ketiga yang terlibat. Program yang disusun dilakukan monitoring dan reviu secara berkala untuk mengukur tingkat efektifitas kegiatan. | J72: Organisasi telah menjalankan keseluruhan program perumusan dan pengelolaan persyaratan keamanan yang berlaku untuk anggota/personel pihak ketiga, dan juga pemangku kepentingan lainnya yang terlibat dalam layanan yang disediakan oleh pihak ketiga secara efektif. Penyusunan program telah melibatkan pihak-pihak terkait termasuk pihak ketiga yang terlibat. Program yang disusun dilakukan monitoring, reviu dan diperbaiki secara berkala untuk meningkatkan efektifitas kegiatan.
A73: Sub Kategori 1.5.3 | B73: Memastikan poin-poin perjanjian kerja sama yang digunakan untuk pemasok dan mitra pihak ketiga telah sesuai dengan kebijakan keamanan siber pada Penyelenggara Sistem Elektronik | C73: Ruang Lingkup | D73: Indeks Nilai Kematangan | E73: Indeks 0 | F73: Indeks 1 | G73: Indeks 2 | H73: Indeks 3 | I73: Indeks 4 | J73: Indeks 5 | K73: Keterangan Validasi
A74: a | B74: Saat menandatangani kontrak dengan pihak ketiga, periksa apakah manajemen pihak ketiga telah dengan benar mematuhi persyaratan keamanan, standar, dan peraturan perundangan yang berlaku, dengan mempertimbangkan tujuan kontrak tersebut dan hasil manajemen risiko. | C74: Tata Kelola | E74: Organisasi belum melakukan kegiatan pemeriksaan kepatuhan manajemen pihak ketiga terhadap persyaratan keamanan, standar, dan peraturam perundangan yang berlaku saat penandatangan kontrak. | F74: Organisasi telah melakukan kegiatan pemeriksaan kepatuhan manajemen pihak ketiga terhadap persyaratan keamanan, standar, dan peraturam perundangan yang berlaku saat penandatangan kontrak, yang diterapkan pada sebagian kecil aspek namun belum diformalkan | G74: Organisasi telah melakukan kegiatan pemeriksaan kepatuhan manajemen pihak ketiga terhadap persyaratan keamanan, standar, dan peraturam perundangan yang berlaku saat penandatangan kontrak. yang diterapkan pada sebagian besar aspek namun belum diformalkan | H74: Organisasi telah melakukan keseluruhan pemeriksaan kepatuhan manajemen pihak ketiga terhadap persyaratan keamanan, standar, dan peraturam perundangan yang berlaku saat penandatangan kontrak secara menyeluruh dengan mempertimbangkan dari tujuan penandatanganan kontrak serta hasil manajemen risiko. Pelaksanaan telah diformalkan. | I74: Organisasi telah mewajibkan menjalankan pemeriksaan kepatuhan manajemen pihak ketiga terhadap persyaratan keamanan, standar, dan peraturam perundangan yang berlaku saat penandatangan kontrak secara menyeluruh dengan mempertimbangkan dari tujuan penandatanganan kontrak serta hasil manajemen risiko. Komponen-komponen yang menjadi perhatian dalam kontrak dilakukan monitoring, reviu secara berkala namun belum dilakukan perbaikan berkelanjutan | J74: Organisasi telah mewajibkan menjalankan pemeriksaan kepatuhan manajemen pihak ketiga terhadap persyaratan keamanan, standar, dan peraturam perundangan yang berlaku saat penandatangan kontrak secara menyeluruh dengan mempertimbangkan dari tujuan penandatanganan kontrak serta hasil manajemen risiko. Komponen-komponen yang menjadi perhatian dalam kontrak dilakukan monitoring, reviu secara berkala, dan telah dilakukan perbaikan berkelanjutan
A75: b | B75: Saat menandatangani kontrak dengan pihak ketiga, periksa apakah produk dan layanan yang disediakan oleh pihak ketiga sesuai dengan persyaratan keamanan yang ada di organisasi. | C75: Tata Kelola | E75: Organisasi belum melakukan kegiatan pemeriksaan terhadap produk dan layanan yang disediakan oleh pihak ketiga telah sesuai dengan persyaratan keamanan yang ada di organisasi. | F75: Organisasi telah melaksanakan kegiatan pemeriksaan terhadap produk dan layanan yang disediakan oleh pihak ketiga telah sesuai dengan persyaratan keamanan yang ada di organisasi, yang diterapkan pada sebagian kecil aspek namun belum diformalkan | G75: Organisasi telah melaksanakan pemeriksaan terhadap produk dan layanan yang disediakan oleh pihak ketiga telah sesuai dengan persyaratan keamanan yang ada di organisasi namun pelaksanaanya pada sebagian besar aspek dan masih belum menyeluruh, serta belum diformalkan | H75: Organisasi telah melaksanakan pemeriksaan terhadap produk dan layanan yang disediakan oleh pihak ketiga telah sesuai dengan persyaratan keamanan yang ada di organisasi, diterapkan pada seluruh aspek dan telah diformalkan | I75: Organisasi telah mewajibkan terhadap pemeriksaan produk dan layanan yang disediakan oleh pihak ketiga telah sesuai dengan persyaratan keamanan yang ada di organisasi secara menyeluruh dan telah diformalkan. Komponen-komponen yang menjadi perhatian dalam kontrak dilakukan reviu secara berkala namun belum dilakukan perbaikan berkelanjutan | J75: Organisasi telah mewajibkan terhadap pemeriksaan produk dan layanan yang disediakan oleh pihak ketiga telah sesuai dengan persyaratan keamanan yang ada di organisasi secara menyeluruh dan telah diformalkan. Komponen-komponen yang menjadi perhatian dalam kontrak dilakukan reviu secara berkala dan dilakukan perbaikan secara berkelanjutan
A76: Sub Kategori 1.5.4 | B76: Melakukan pemeriksaan secara periodik terhadap pemasok dan mitra pihak ketiga terkait pemenuhan kewajiban kerja sama dan keamanannya | C76: Ruang Lingkup | D76: Indeks Nilai Kematangan | E76: Indeks 0 | F76: Indeks 1 | G76: Indeks 2 | H76: Indeks 3 | I76: Indeks 4 | J76: Indeks 5 | K76: Keterangan Validasi
A77: a | B77: Melakukan penilaian secara berkala melalui audit, hasil pengujian, atau pemeriksaan dari pihak terkait untuk memastikan pihak ketiga memenuhi kewajiban kontraktual mereka. | C77: Tata Kelola | E77: Organisasi belum melakukan penilaian | F77: Organisasi telah melakukan penilaian yang diterapkan pada sebagian kecil aspek untuk memastikan pihak ketiga memenuhi kewajiban kontraktual mereka, namun belum diformalkan | G77: Organisasi telah melakukan penilaian yang diterapkan pada sebagian besar aspek untuk memastikan pihak ketiga memenuhi kewajiban kontraktual mereka, namun belum diformalkan | H77: Organisasi telah melakukan Penilaian yang diterapkan pada seluruh aspek secara berkala melalui audit, hasil pengujian, atau pemeriksaan dari pihak terkait untuk memastikan pihak ketiga memenuhi kewajiban kontraktual mereka dan telah diformalkan | I77: Organisasi telah melakukan Penilaian yang diterapkan pada seluruh aspek secara berkala melalui audit, hasil pengujian, atau pemeriksaan dari pihak terkait untuk memastikan pihak ketiga memenuhi kewajiban kontraktual mereka dan telah diformalkan, dimonitoring dan direview secara berkala. | J77: Organisasi telah melakukan Penilaian yang diterapkan pada seluruh aspek secara berkala melalui audit, hasil pengujian, atau pemeriksaan dari pihak terkait untuk memastikan pihak ketiga memenuhi kewajiban kontraktual mereka dan telah diformalkan, dimonitoring dan direview secara berkala, dilakukan evaluasi dan perbaikan berkelanjutan
A78: b | B78: Merumuskan dan menerapkan prosedur untuk mengatasi ketidakpatuhan terhadap persyaratan kontrak yang ditemukan. | C78: Tata Kelola | E78: Prosedur belum dirumuskan | F78: Organisasi telah merumuskan dan menerapkan prosedur pada sebagian kecil aspek untuk mengatasi ketidakpatuhan terhadap persyaratan kontrak yang ditemukan, namun belum diformalkan | G78: Organisasi telah merumuskan dan menerapkan prosedur pada sebagian besar aspek untuk mengatasi ketidakpatuhan terhadap persyaratan kontrak yang ditemukan, namun belum diformalkan | H78: Organisasi telah merumuskan dan menerapkan prosedur pada seluruh aspek untuk mengatasi ketidakpatuhan terhadap persyaratan kontrak yang ditemukan, dan telah diformalkan | I78: Organisasi telah merumuskan dan menerapkan prosedur pada seluruh aspek untuk mengatasi ketidakpatuhan terhadap persyaratan kontrak yang ditemukan, dan telah diformalkan, dilakukan monitoring dan direview secara berkala | J78: Organisasi telah merumuskan dan menerapkan prosedur pada seluruh aspek untuk mengatasi ketidakpatuhan terhadap persyaratan kontrak yang ditemukan, dan telah diformalkan, dilakukan monitoring dan direview secara berkala, dilakukan evaluasi dan perbaikan berkelanjutan
A79: c | B79: Mengumpulkan dan menyimpan data dengan aman yang membuktikan bahwa organisasi memenuhi kewajiban kontraktualnya dengan pihak atau individu lain yang relevan, dan mempersiapkannya untuk pengungkapan jika diperlukan dalam rangka penegakan hukum. | C79: Tata Kelola | E79: Pengumpulan dan penyimpanan data belum dilakukan | F79: Organisasi telah melakukan Pengumpulan dan penyimpanan sebagian kecil data dengan aman, namun belum ada prosedur formal | G79: Organisasi telah mengumpulkan dan menyimpan sebagian besar data dengan aman yang membuktikan bahwa organisasi memenuhi kewajiban kontraktualnya dengan pihak atau individu lain yang relevan, dan mempersiapkannya untuk pengungkapan jika diperlukan dalam rangka penegakan hukum, namun belum diformalkan | H79: Organisasi telah mengumpulkan dan menyimpan keseluruhan data dengan aman yang membuktikan bahwa organisasi memenuhi kewajiban kontraktualnya dengan pihak atau individu lain yang relevan, dan mempersiapkannya untuk pengungkapan jika diperlukan dalam rangka penegakan hukum, dan telah diformalkan | I79: Organisasi telah mengumpulkan dan menyimpan keseluruhan data dengan aman yang membuktikan bahwa organisasi memenuhi kewajiban kontraktualnya dengan pihak atau individu lain yang relevan, dan mempersiapkannya untuk pengungkapan jika diperlukan dalam rangka penegakan hukum, dan telah diformalkan, dilakukan monitoring dan direview secara berkala | J79: Organisasi telah mengumpulkan dan menyimpan keseluruhan data dengan aman yang membuktikan bahwa organisasi memenuhi kewajiban kontraktualnya dengan pihak atau individu lain yang relevan, dan mempersiapkannya untuk pengungkapan jika diperlukan dalam rangka penegakan hukum, dan telah diformalkan, dilakukan monitoring dan direview secara berkala, serta dilakukan evaluasi dan perbaikan berkelanjutan
A80: Sub Kategori 1.5.5 | B80: Menyiapkan rencana penanggulangan dan pemulihan pada layanan Sistem Elektronik dengan pihak ketiga yang mendukung layanan tersebut | C80: Ruang Lingkup | D80: Indeks Nilai Kematangan | E80: Indeks 0 | F80: Indeks 1 | G80: Indeks 2 | H80: Indeks 3 | I80: Indeks 4 | J80: Indeks 5 | K80: Keterangan Validasi
A81: a | B81: Menyiapkan dan menguji prosedur respons insiden dengan pihak terkait yang terlibat dalam aktivitas respons insiden untuk memastikan tindakan respons dilaksanakan dalam rantai pasokan. | C81: Tata Kelola | E81: Prosedur respons insiden belum dirumuskan | F81: Organisasi telah menerapkan Prosedur respons insiden pada sebagian kecil aspek yang melibatkan pihak terkait untuk memastikan tindakan respons dilaksanakan dalam rantai pasokan, namun belum diformalkan | G81: Organisasi telah menerapkan Prosedur respons insiden pada sebagian besar aspek yang melibatkan pihak terkait untuk memastikan tindakan respons dilaksanakan dalam rantai pasokan, namun belum diformalkan | H81: Organisasi telah menerapkan Prosedur respons insiden pada seluruh aspek yang melibatkan pihak terkait untuk memastikan tindakan respons dilaksanakan dalam rantai pasokan, dan telah diformalkan | I81: Organisasi telah menyiapkan dan menguji pada seluruh aspek prosedur respons insiden dengan pihak terkait yang terlibat dalam aktivitas respons insiden untuk memastikan tindakan respons dilaksanakan dalam rantai pasokan, dan telah diformalkan, dilakukan monitoring dan direview secara berkala | J81: Organisasi telah menyiapkan dan menguji pada seluruh aspek prosedur respons insiden dengan pihak terkait yang terlibat dalam aktivitas respons insiden untuk memastikan tindakan respons dilaksanakan dalam rantai pasokan, dan telah diformalkan, dilakukan monitoring dan direview secara berkala, dievaluasi dan dilakukan perbaikan berkelanjutan
A82: b | B82: Menyusun prosedur keamanan yang akan dijalankan ketika kontrak dengan pihak ketiga selesai. (misalnya, pemutusan hak akses ketika berakhirnya masa kontrak) | C82: Tata Kelola | E82: Prosedur keamanan belum dirumuskan | F82: Organisasi telah menerapkan Prosedur keamanan pada sebagian kecil aspek yang akan dijalankan ketika kontrak dengan pihak ketiga selesai, namun belum diformalkan | G82: Organisasi telah menerapkan Prosedur keamanan pada sebagian besar aspek yang akan dijalankan ketika kontrak dengan pihak ketiga selesai, namun belum diformalkan | H82: Organisasi telah menerapkan prosedur keamanan pada seluruh aspek yang akan dijalankan ketika kontrak dengan pihak ketiga selesai. (misalnya, pemutusan hak akses ketika berakhirnya masa kontrak), dan telah diformalkan | I82: Organisasi telah menerapkan prosedur keamanan pada seluruh aspek yang akan dijalankan ketika kontrak dengan pihak ketiga selesai. (misalnya, pemutusan hak akses ketika berakhirnya masa kontrak), dan telah diformalkan, telah dimonitoring dan direview tetapi belum perbaikan berkelanjutan | J82: Organisasi telah menerapkan prosedur keamanan pada seluruh aspek yang akan dijalankan ketika kontrak dengan pihak ketiga selesai. (misalnya, pemutusan hak akses ketika berakhirnya masa kontrak), dan telah diformalkan, telah dimonitoring dan direview dan telah diperbaiki berkelanjutan
A83: c | B83: Senantiasa meningkatkan standar langkah-langkah keamanan yang relevan dengan mitra rantai pasok. | C83: Tata Kelola | E83: Peningkatan standar belum dilakukan | F83: Peningkatan standar langkah-langkah keamanan yang relevan dengan mitra rantai pasok telah diterapkan pada sebagian kecil aspek dan belum disahkan | G83: Peningkatan standar langkah-langkah keamanan yang relevan dengan mitra rantai pasok telah diterapkan pada sebagian besar aspek namun belum disahkan | H83: Peningkatan standar langkah-langkah keamanan yang relevan dengan mitra rantai pasok telah diterapkan keseluruhan dan telah disahkan | I83: Peningkatan standar langkah-langkah keamanan yang relevan dengan mitra rantai pasok telah dimonitoring dan direview tetapi belum perbaikan berkelanjutan | J83: Peningkatan standar langkah-langkah keamanan yang relevan dengan mitra rantai pasok sudah diperbaiki berkelanjutan

Sheet II Proteksi
A2: DOMAIN II: PROTEKSI
A3: Kategori 2.1: | B3: Mengelola identitas, autentikasi, dan kendali akses
A4: Sub Kategori 2.1.1 | B4: Mengelola identitas dan kredensial yang menggunakan layanan Sistem Elektronik | C4: Ruang Lingkup | D4: Indeks Nilai Kematangan | E4: Indeks 0 | F4: Indeks 1 | G4: Indeks 2 | H4: Indeks 3 | I4: Indeks 4 | J4: Indeks 5 | K4: Keterangan Validasi
A5: a | B5: Menetapkan dan menerapkan prosedur untuk menerbitkan, mengelola, memeriksa, membatalkan, dan memantau informasi tentang identitas dan kredensial terhadap aset informasi dan personel yang menggunakan Sistem Elektronik. | C5: Tata Kelola & Teknologi | E5: Belum memiliki prosedur pengelolaan aset informasi dan personel yang menggunakan Sistem Elektronik | F5: Prosedur pengelolaan aset informasi dan personel yang menggunakan Sistem Elektronik sudah diterapkan pada sebagian kecil aspek namun belum diformalkan | G5: Prosedur pengelolaan aset informasi dan personel yang menggunakan Sistem Elektronik sudah diterapkan pada sebagian besar aspek namun belum diformalkan | H5: Prosedur pengelolaan aset informasi dan personel yang menggunakan Sistem Elektronik sudah diformalkan dan diterapkan pada seluruh aspek | I5: - Prosedur pengelolaan aset informasi dan personel yang menggunakan Sistem Elektronik sudah diformalkan dan diterapkan pada seluruh aspek. - Prosedur tersebut dimonitor pelaksanaanya dan direview secara berkala. | J5: - Prosedur pengelolaan aset informasi dan personel yang menggunakan Sistem Elektronik sudah diformalkan dan diterapkan pada seluruh aspek. - Prosedur tersebut dimonitor pelaksanaanya dan direview secara berkala, serta dilakukan perbaikan secara berkelanjutan.
A6: Sub Kategori 2.1.2 | B6: Mengelola akses jarak jauh terhadap layanan Sistem Elektronik | C6: Ruang Lingkup | D6: Indeks Nilai Kematangan | E6: Indeks 0 | F6: Indeks 1 | G6: Indeks 2 | H6: Indeks 3 | I6: Indeks 4 | J6: Indeks 5 | K6: Keterangan Validasi
A7: a | B7: Penyelenggara Sistem Elektronik menyusun prosedur tentang mekanisme identifikasi pengguna layanan, pemberian akses, dan otorisasi terhadap layanan, termasuk pemberian koneksi terhadap pengguna, perangkat IoT, dan/atau server. | C7: Tata Kelola & Teknologi | E7: Belum memiliki prosedur mekanisme identifikasi pengguna layanan, pemberian akses, dan otorisasi terhadap layanan | F7: Prosedur mekanisme identifikasi pengguna layanan, pemberian akses, dan otorisasi terhadap layanan sudah diterapkan pada sebagian kecil aspek namun belum diformalkan | G7: Prosedur mekanisme identifikasi pengguna layanan, pemberian akses, dan otorisasi terhadap layanan sudah diterapkan pada sebagian besar aspek namun belum diformalkan | H7: Prosedur mekanisme identifikasi pengguna layanan, pemberian akses, dan otorisasi terhadap layanan sudah diformalkan dan diterapkan pada seluruh aspek | I7: - Prosedur mekanisme identifikasi pengguna layanan, pemberian akses, dan otorisasi terhadap layanan sudah diformalkan dan diterapkan pada seluruh aspek. - Prosedur tersebut dimonitor pelaksanaanya dan direview secara berkala. | J7: - Prosedur mekanisme identifikasi pengguna layanan, pemberian akses, dan otorisasi terhadap layanan sudah diformalkan dan diterapkan pada seluruh aspek. - Prosedur tersebut dimonitor pelaksanaanya dan direview secara berkala, serta dilakukan perbaikan secara berkelanjutan.
A8: b | B8: Tersedianya dan diterapkannya prosedur pencegahan terhadap upaya memasuki perangkat atau jaringan secara tidak sah, dengan menerapkan langkah-langkah seperti menerapkan fungsi untuk penguncian setelah sejumlah upaya masuk yang gagal dan memberikan interval waktu hingga keamanannya dipastikan. | C8: Teknologi | E8: Belum memiliki prosedur pencegahan terhadap upaya serangan melalui perangkat atau jaringan | F8: Prosedur pencegahan terhadap upaya serangan melalui perangkat atau jaringan sudah diterapkan pada sebagian kecil aspek namun belum diformalkan | G8: Prosedur pencegahan terhadap upaya serangan melalui perangkat atau jaringan sudah diterapkan pada sebagian besar aspek namun belum diformalkan | H8: Prosedur pencegahan terhadap upaya serangan melalui perangkat atau jaringan sudah diformalkan dan diterapkan pada seluruh aspek | I8: - Prosedur pencegahan terhadap upaya serangan melalui perangkat atau jaringan sudah diformalkan dan diterapkan pada seluruh aspek - Prosedur tersebut dimonitor pelaksanaanya dan direview secara berkala | J8: - Prosedur pencegahan terhadap upaya serangan melalui perangkat atau jaringan sudah diformalkan dan diterapkan pada seluruh aspek - Prosedur tersebut dimonitor pelaksanaanya dan direview secara berkala, serta dilakukan perbaikan secara berkelanjutan
A9: Sub Kategori 2.1.3 | B9: Mengelola izin akses dan otorisasi layanan Sistem Elektronik | C9: Ruang Lingkup | D9: Indeks Nilai Kematangan | E9: Indeks 0 | F9: Indeks 1 | G9: Indeks 2 | H9: Indeks 3 | I9: Indeks 4 | J9: Indeks 5 | K9: Keterangan Validasi
A10: a | B10: Menyusun dan menerapkan prosedur untuk memisahkan hak akses sesuai tugas dan area tanggung jawab (misalnya, pisahkan fungsi untuk pengguna dari fungsi untuk administrator sistem) | C10: Tata Kelola & Teknologi | E10: Belum memiliki prosedur pemisahan hak akses | F10: Prosedur pemisahan hak akses sudah diterapkan pada sebagian kecil aspek namun belum diformalkan | G10: Prosedur pemisahan hak akses sudah diterapkan pada sebagian besar aspek namun belum diformalkan | H10: Prosedur pemisahan hak akses sudah diformalkan dan diterapkan pada seluruh aspek | I10: - Prosedur pemisahan hak akses sudah diformalkan dan diterapkan pada seluruh aspek - Prosedur tersebut dimonitor pelaksanaanya dan direview secara berkala | J10: - Prosedur pemisahan hak akses sudah diformalkan dan diterapkan pada seluruh aspek - Prosedur tersebut dimonitor pelaksanaanya dan direview secara berkala, serta dilakukan perbaikan secara berkelanjutan
A11: b | B11: Tersedianya prosedur pembatasan komunikasi oleh perangkat dan server kepada pengguna sesuai dengan tingkat risikonya. | C11: Teknologi | E11: Belum memiliki prosedur pembatasan komunikasi perangkat dan server | F11: Prosedur pembatasan komunikasi perangkat dan server sudah diterapkan pada sebagian kecil aspek namun belum diformalkan | G11: Prosedur pembatasan komunikasi perangkat dan server sudah diterapkan pada sebagian besar aspek namun belum diformalkan | H11: Prosedur pembatasan komunikasi perangkat dan server sudah diformalkan diterapkan pada seluruh aspek | I11: - Prosedur pembatasan komunikasi perangkat dan server sudah diformalkan diterapkan pada seluruh aspek - Prosedur tersebut dimonitor pelaksanaanya dan direview secara berkala | J11: - Prosedur pembatasan komunikasi perangkat dan server sudah diformalkan diterapkan pada seluruh aspek - Prosedur tersebut dimonitor pelaksanaanya dan direview secara berkala, serta dilakukan perbaikan secara berkelanjutan
A12: Sub Kategori 2.1.4 | B12: Memastikan penerapan sistem autentikasi terhadap pengguna, perangkat, dan aset informasi sesuai tingkat risikonya | C12: Ruang Lingkup | D12: Indeks Nilai Kematangan | E12: Indeks 0 | F12: Indeks 1 | G12: Indeks 2 | H12: Indeks 3 | I12: Indeks 4 | J12: Indeks 5 | K12: Keterangan Validasi
A13: a | B13: Perangkat, pengguna, dan aset informasi lainnya menggunakan sistem otentikasi tertentu (misalnya, multi-factor authentication) sesuai dengan tingkat risiko nya terhadap sistem. | C13: Tata Kelola & Teknologi | E13: Belum memiliki sistem otentikasi untuk perangkat, pengguna, dan aset informasi lainnya | F13: Sistem otentikasi untuk perangkat, pengguna, dan aset informasi lainnya sudah diterapkan pada sebagian kecil aspek tapi belum diformalkan | G13: Sistem otentikasi untuk perangkat, pengguna, dan aset informasi lainnya sudah diterapkan pada sebagian besar aspek tapi belum diformalkan | H13: Sistem otentikasi untuk perangkat, pengguna, dan aset informasi lainnya sudah diformalkan dan diterapkan pada seluruh aspek | I13: - Sistem otentikasi untuk perangkat, pengguna, dan aset informasi lainnya sudah diformalkan dan diterapkan pada seluruh aspek - Sistem tersebut dimonitor pelaksanaanya dan direview secara berkala | J13: - Sistem otentikasi untuk perangkat, pengguna, dan aset informasi lainnya sudah diformalkan dan diterapkan pada seluruh aspek, serta dilakukan otomatisasi - Sistem tersebut dimonitor pelaksanaanya dan direview secara berkala
A14: Kategori 2.2: | B14: Melindungi aset fisik
A15: Sub Kategori 2.2.1 | B15: Menyediakan prosedur operasional pelindungan terhadap aset fisik yang mendukung layanan Sistem Elektronik | C15: Ruang Lingkup | D15: Indeks Nilai Kematangan | E15: Indeks 0 | F15: Indeks 1 | G15: Indeks 2 | H15: Indeks 3 | I15: Indeks 4 | J15: Indeks 5 | K15: Keterangan Validasi
A16: a | B16: Menetapkan dan menerapkan prosedur keamanan fisik terhadap akses kontrol yang sesuai seperti mengunci dan membatasi akses ke area tempat perangkat dan server dipasang, menggunakan kontrol masuk dan keluar, otentikasi biometrik, memasang kamera pengintai, dan/atau memeriksa barang bawaan. | C16: Tata Kelola & Teknologi | E16: Belum memiliki prosedur keamanan fisik terhadap akses kontrol | F16: Prosedur keamanan fisik terhadap akses kontrol sudah diterapkan pada sebagian kecil aspek namun belum diformalkan | G16: Prosedur keamanan fisik terhadap akses kontrol sudah diterapkan pada sebagian besar aspek namun belum diformalkan | H16: Prosedur keamanan fisik terhadap akses kontrol sudah diformalkan dan diterapkan pada seluruh aspek | I16: - Prosedur keamanan fisik terhadap akses kontrol sudah diformalkan dan diterapkan pada seluruh aspek - Prosedur tersebut dimonitor pelaksanaanya dan direview secara berkala | J16: - Prosedur keamanan fisik terhadap akses kontrol sudah diformalkan dan diterapkan pada seluruh aspek - Prosedur tersebut dimonitor pelaksanaanya dan direview secara berkala, serta dilakukan perbaikan secara berkelanjutan
A17: b | B17: Tersedianya dan diterapkannya prosedur pelindungan fisik seperti menyiapkan catu daya cadangan, fasilitas proteksi kebakaran, dan perlindungan dari resapan air yang mengikuti kebijakan dan standar yang berlaku. | C17: Tata Kelola | E17: Belum memiliki prosedur pelindungan aset fisik | F17: Prosedur pelindungan aset fisik sudah diterapkan pada sebagian kecil aspek namun belum diformalkan | G17: Prosedur pelindungan aset fisik sudah diterapkan pada sebagian besar aspek namun belum diformalkan | H17: Prosedur pelindungan aset fisik sudah diformalkan dan diterapkan pada seluruh aspek | I17: - Prosedur pelindungan aset fisik sudah diformalkan dan diterapkan pada seluruh aspek - Prosedur tersebut dimonitor pelaksanaanya dan direview secara berkala | J17: - Prosedur pelindungan aset fisik sudah diformalkan dan diterapkan pada seluruh aspek - Prosedur tersebut dimonitor pelaksanaanya dan direview secara berkala, serta dilakukan perbaikan secara berkelanjutan
A18: c | B18: Tersedianya prosedur dan sarana pengamanan terhadap perangkat komputer yang digunakan untuk pengolahan data Sistem Elektronik. | C18: Tata Kelola & Teknologi | E18: Belum memiliki prosedur dan sarana pengamanan terhadap perangkat komputer untuk pengolahan data Sistem Elektronik | F18: Prosedur pengamanan terhadap perangkat komputer untuk pengolahan data Sistem Elektronik sudah diterapkan pada sebagian kecil aspek beserta sarana pengamanannya namun belum diformalkan | G18: Prosedur pengamanan terhadap perangkat komputer untuk pengolahan data Sistem Elektronik sudah diterapkan pada sebagian besar aspek beserta sarana pengamanannya namun belum diformalkan | H18: Prosedur pengamanan terhadap perangkat komputer untuk pengolahan data Sistem Elektronik sudah diformalkan dan diterapkan pada seluruh aspek beserta sarana pengamanannya | I18: - Prosedur pengamanan terhadap perangkat komputer untuk pengolahan data Sistem Elektronik sudah diformalkan dan diterapkan pada seluruh aspek beserta sarana pengamanannya - Prosedur tersebut dimonitor pelaksanaanya dan direview secara berkala | J18: - Prosedur pengamanan terhadap perangkat komputer untuk pengolahan data Sistem Elektronik sudah diformalkan dan diterapkan pada seluruh aspek beserta sarana pengamanannya - Prosedur tersebut dimonitor pelaksanaanya dan direview secara berkala serta dilakukan perbaikan secara berkelanjutan
A19: Sub Kategori 2.2.2 | B19: Memastikan proses perbaikan dan pemeliharaan aset informasi pada layanan Sistem Elektronik dilakukan, dicatat, dan dikendalikan sesuai prosedur | C19: Ruang Lingkup | D19: Indeks Nilai Kematangan | E19: Indeks 0 | F19: Indeks 1 | G19: Indeks 2 | H19: Indeks 3 | I19: Indeks 4 | J19: Indeks 5 | K19: Keterangan Validasi
A20: a | B20: Tentukan metode untuk melakukan pembaruan keamanan dan sejenisnya pada perangkat dan server. Kemudian, terapkan pembaruan keamanan tersebut dengan teknologi yang benar dan tepat pada waktunya. | C20: Tata Kelola & Teknologi | E20: Belum memiliki prosedur pembaruan keamanan dan sejenisnya pada perangkat dan server | F20: Prosedur pembaruan keamanan dan sejenisnya pada perangkat dan server sudah diterapkan pada sebagian kecil aspek namun belum diformalkan | G20: Prosedur pembaruan keamanan dan sejenisnya pada perangkat dan server sudah diterapkan pada sebagian besar aspek namun belum diformalkan | H20: Prosedur pembaruan keamanan dan sejenisnya pada perangkat dan server sudah diformalkan dan diterapkan pada seluruh aspek | I20: - Prosedur pembaruan keamanan dan sejenisnya pada perangkat dan server sudah diformalkan dan diterapkan pada seluruh aspek - Prosedur tersebut dimonitor pelaksanaanya dan direview secara berkala | J20: - Prosedur pembaruan keamanan dan sejenisnya pada perangkat dan server sudah diformalkan dan diterapkan pada seluruh aspek - Prosedur tersebut dimonitor pelaksanaanya dan direview secara berkala serta dilakukan perbaikan secara berkelanjutan
A21: b | B21: Dokumentasikan kegiatan pembaruan keamanan pada perangkat organisasi dan laporkan kepada manajemen secara berkala. | C21: Tata Kelola | E21: Kegiatan pembaruan keamanan pada perangkat organisasi belum didokumentasikan dan dilaporkan kepada manajemen secara berkala | F21: Kegiatan pembaruan keamanan pada perangkat organisasi sebagian kecil sudah didokumentasikan dan dilaporkan kepada manajemen secara berkala secara informal | G21: Kegiatan pembaruan keamanan pada perangkat organisasi sebagian besar sudah didokumentasikan dan dilaporkan kepada manajemen secara berkala secara informal | H21: Kegiatan pembaruan keamanan pada perangkat organisasi sudah didokumentasikan seluruhnya dan dilaporkan kepada manajemen secara berkala secara formal | I21: - Kegiatan pembaruan keamanan pada perangkat organisasi sudah didokumentasikan seluruhnya dan dilaporkan kepada manajemen secara berkala secara formal - Prosedur dokumentasi dimonitor pelaksanaanya dan direview secara berkala | J21: - Kegiatan pembaruan keamanan pada perangkat organisasi sudah didokumentasikan seluruhnya dan dilaporkan kepada manajemen secara berkala secara formal - Prosedur dokumentasi dimonitor pelaksanaanya dan direview secara berkala, serta dilakukan perbaikan secara berkelanjutan
A22: Sub Kategori 2.2.3 | B22: Memastikan proses pemeliharaan jarak jauh terhadap aset informasi pada layanan Sistem Elektronik dilakukan dengan persetujuan penanggung jawab layanan Sistem Elektronik dan didokumentasikan sesuai prosedur | C22: Ruang Lingkup | D22: Indeks Nilai Kematangan | E22: Indeks 0 | F22: Indeks 1 | G22: Indeks 2 | H22: Indeks 3 | I22: Indeks 4 | J22: Indeks 5 | K22: Keterangan Validasi
A23: a | B23: Mengidentifikasi perangkat yang memiliki mekanisme pembaruan jarak jauh untuk melakukan pembaruan massal berbagai program perangkat lunak (OS, driver, dan aplikasi) melalui perintah jarak jauh. | C23: Teknologi | E23: Belum dilakukan identifikasi perangkat yang memiliki mekanisme pembaruan melalui perintah jarak jauh | F23: Identifikasi perangkat yang memiliki mekanisme pembaruan melalui perintah jarak jauh sebagian kecil sudah diidentifikasi secara informal | G23: Identifikasi perangkat yang memiliki mekanisme pembaruan melalui perintah jarak jauh sebagian besar sudah diidentifikasi secara informal | H23: Identifikasi perangkat yang memiliki mekanisme pembaruan melalui perintah jarak jauh sudah diidentifikasi seluruhnya secara formal | I23: - Identifikasi perangkat yang memiliki mekanisme pembaruan melalui perintah jarak jauh sudah diidentifikasi seluruhnya secara formal - Proses identifikasi perangkat dimonitor pelaksanaanya dan direview secara berkala | J23: - Identifikasi perangkat yang memiliki mekanisme pembaruan melalui perintah jarak jauh sudah diidentifikasi seluruhnya secara formal, serta dilakukan otomatisasi - Proses identifikasi perangkat dimonitor pelaksanaanya dan direview secara berkala
A24: b | B24: Melakukan pemeliharaan perangkat dan server yang telah disetujui dari jarak jauh dan mencatat setiap log masuknya, sehingga akses yang tidak sah dapat dicegah. | C24: Teknologi | E24: Pemeliharaan perangkat dan server yang disetujui dari jarak jauh belum dilakukan | F24: Sebagian kecil perangkat dan server yang disetujui dari jarak jauh sudah dilakukan pemeliharaan namun belum diformalkan | G24: Sebagian besar perangkat dan server yang disetujui dari jarak jauh sudah dilakukan pemeliharaan namun belum diformalkan | H24: Seluruh perangkat dan server yang disetujui dari jarak jauh sudah dilakukan pemeliharaan dan sudah diformalkan | I24: - Seluruh perangkat dan server yang disetujui dari jarak jauh sudah dilakukan pemeliharaan dan sudah diformalkan - Prosedur pemeliharaan perangkat dimonitor pelaksanaanya dan direview secara berkala | J24: - Seluruh perangkat dan server yang disetujui dari jarak jauh sudah dilakukan pemeliharaan dan sudah diformalkan, dan dilakukan otomatisasi - Prosedur pemeliharaan perangkat dimonitor pelaksanaanya dan direview secara berkala
A25: Sub Kategori 2.2.4 | B25: Memastikan lingkungan fisik aset informasi pada layanan Sistem Elektronik dipantau secara berkala untuk mendeteksi potensi ancaman | C25: Ruang Lingkup | D25: Indeks Nilai Kematangan | E25: Indeks 0 | F25: Indeks 1 | G25: Indeks 2 | H25: Indeks 3 | I25: Indeks 4 | J25: Indeks 5 | K25: Keterangan Validasi
A26: a | B26: Penyelenggara Sistem Elektronik memastikan lingkungan fisik aset Sistem Elektronik dipantau secara tepat melalui pengaturan, perekaman, dan pemantauan akses fisik terhadap aset Sistem Elektronik. (misalnya cctv, akses kontrol, sensor, dll). | C26: Teknologi | E26: Organisasi belum memiliki prosedur pemantauan lingkungan fisik aset Sistem Elektronik | F26: Prosedur pemantauan lingkungan fisik aset Sistem Elektronik sudah diterapkan pada sebagian kecil aspek namun belum diformalkan | G26: Prosedur pemantauan lingkungan fisik aset Sistem Elektronik sudah diterapkan pada sebagian besar aspek namun belum diformalkan | H26: Prosedur pemantauan lingkungan fisik aset Sistem Elektronik sudah diformalkan dan diterapkan pada seluruh aspek | I26: - Prosedur pemantauan lingkungan fisik aset Sistem Elektronik sudah diformalkan dan diterapkan pada seluruh aspek - Prosedur tersebut dimonitor pelaksanaanya dan direview secara berkala | J26: - Prosedur pemantauan lingkungan fisik aset Sistem Elektronik sudah diformalkan dan diterapkan pada seluruh aspek - Prosedur tersebut dimonitor pelaksanaanya dan direview secara berkala serta dilakukan perbaikan secara berkelanjutan
A27: Sub Kategori 2.2.5 | B27: Memastikan prosedur dan penerapannya senantiasa ditinjau dan ditingkatkan sesuai perkembangan ancaman | C27: Ruang Lingkup | D27: Indeks Nilai Kematangan | E27: Indeks 0 | F27: Indeks 1 | G27: Indeks 2 | H27: Indeks 3 | I27: Indeks 4 | J27: Indeks 5 | K27: Keterangan Validasi
A28: a | B28: Penyelenggara Sistem Elektronik senantiasa melakukan peninjauan, analisis, dan peningkatan terhadap kontrol keamanan yang diterapkan sesuai hasil reviu dari respons insiden keamanan dan hasil pemantauan, pengukuran, dan evaluasi ancaman internal dan eksternal. | C28: Tata Kelola | E28: Organisasi belum memiliki prosedur peninjauan, analisis dan peningkatan terhadap kontrol keamanan yang diterapkan sesuai hasil reviu | F28: Prosedur peninjauan, analisis dan peningkatan terhadap kontrol keamanan yang diterapkan sesuai hasil reviu sudah diterapkan pada sebagian kecil aspek namun belum diformalkan | G28: Prosedur peninjauan, analisis dan peningkatan terhadap kontrol keamanan yang diterapkan sesuai hasil reviu sudah diterapkan pada sebagian besar aspek namun belum diformalkan | H28: Prosedur peninjauan, analisis dan peningkatan terhadap kontrol keamanan yang diterapkan sesuai hasil reviu sudah diformalkan dan diterapkan pada seluruh aspek | I28: - Prosedur peninjauan, analisis dan peningkatan terhadap kontrol keamanan yang diterapkan sesuai hasil reviu sudah diformalkan dan diterapkan pada seluruh aspek - Prosedur tersebut dimonitor pelaksanaanya dan direview secara berkala | J28: - Prosedur peninjauan, analisis dan peningkatan terhadap kontrol keamanan yang diterapkan sesuai hasil reviu sudah diformalkan dan diterapkan pada seluruh aspek - Prosedur tersebut dimonitor pelaksanaanya dan direview secara berkala serta dilakukan perbaikan secara berkelanjutan
A29: Kategori 2.3: | B29: Melindungi data
A30: Sub Kategori 2.3.1 | B30: Pelindungan terhadap data yang tersimpan pada Penyelenggara Sistem Elektronik | C30: Ruang Lingkup | D30: Indeks Nilai Kematangan | E30: Indeks 0 | F30: Indeks 1 | G30: Indeks 2 | H30: Indeks 3 | I30: Indeks 4 | J30: Indeks 5 | K30: Keterangan Validasi
A31: a | B31: Jika Penyelenggara Sistem Elektronik bertukar informasi yang perlu dilindungi dengan organisasi lain, maka Penyelenggara Sistem Elektronik perlu meminta organisasi lain tersebut untuk menyetujui persyaratan keamanan untuk pelindungan informasi tersebut. | C31: Tata Kelola | E31: - Organisasi belum meminta organisasi lain untuk menyetujui persyaratan keamanan untuk perlindungan informasi yang ditukarkan. - Organisasi belum memiliki kebijakan internal atau prosedur teknis mengenai pertukaran informasi yang perlu dilindungi dengan organisasi lain. - Organisasi belum memiliki konsep atau format dokumen persetujuan persyaratan keamanan yang disahkan pimpinan untuk melindungi informasi yang ditukarkan dengan organisasi lain. | F31: - Organisasi sudah meminta organisasi lain untuk menyetujui sebagian kecil aspek persyaratan keamanan untuk perlindungan informasi yang ditukarkan. - Organisasi telah memiliki konsep atau rancangan kebijakan internal atau prosedur teknis mengenai pertukaran informasi yang perlu dilindungi dengan organisasi lain. - Organisasi telah memiliki konsep atau format dokumen persetujuan persyaratan keamanan yang belum disahkan pimpinan untuk melindungi informasi yang ditukarkan dengan organisasi lain. | G31: - Organisasi sudah meminta organisasi lain untuk menyetujui sebagian besar aspek persyaratan keamanan untuk perlindungan informasi yang ditukarkan. - Organisasi telah memiliki konsep atau rancangan kebijakan internal atau prosedur teknis mengenai pertukaran informasi yang perlu dilindungi dengan organisasi lain. - Organisasi telah memiliki konsep atau format dokumen persetujuan persyaratan keamanan yang belum disahkan pimpinan untuk melindungi informasi yang ditukarkan dengan organisasi lain. | H31: - Organisasi sudah meminta organisasi lain untuk menyetujui seluruh aspek persyaratan keamanan untuk perlindungan informasi yang ditukarkan. - Organisasi telah memiliki kebijakan internal atau prosedur teknis yang diformalkan mengenai pertukaran informasi yang perlu dilindungi dengan organisasi lain. - Organisasi telah memiliki format dokumen persetujuan persyaratan keamanan yang disahkan pimpinan untuk melindungi informasi yang ditukarkan dengan organisasi lain. | I31: - Organisasi sudah meminta organisasi lain untuk menyetujui seluruh aspek persyaratan keamanan untuk perlindungan informasi yang ditukarkan. - Organisasi telah memiliki kebijakan internal atau prosedur teknis yang diformalkan, dimonitoring, dan direview secara berkala mengenai pertukaran informasi yang perlu dilindungi dengan organisasi lain. - Organisasi telah memiliki format dokumen persetujuan persyaratan keamanan yang disahkan pimpinan, dimonitoring, dan direview secara berkala untuk melindungi informasi yang ditukarkan dengan organisasi lain. | J31: - Organisasi sudah meminta organisasi lain untuk menyetujui seluruh aspek persyaratan keamanan untuk perlindungan informasi yang ditukarkan. - Organisasi telah memiliki kebijakan internal atau prosedur teknis yang diformalkan, dimonitoring, direview secara berkala dan dilakukan perbaikan mengenai pertukaran informasi yang perlu dilindungi dengan organisasi lain. - Organisasi telah memiliki format dokumen persetujuan persyaratan keamanan yang disahkan pimpinan, dimonitoring, direview dan dilakukan perbaikansecara berkala untuk melindungi informasi yang ditukarkan dengan organisasi lain.
A32: b | B32: Mengenkripsi informasi dengan tingkat kekuatan keamanan yang sesuai standar keamanan. | C32: Teknologi | E32: - Organisasi belum memiliki kebijakan internal maupun prosedur enkripsi informasi dengan tingkat kekuatan keamanan sesuai dengan standar keamanan; - Organisasi belum menerapkan enkripsi pada informasi dengan tingkat kekuatan keamanan yang sesuai standar keamanan | F32: - Organisasi sudah memiliki konsep kebijakan internal maupun prosedur enkripsi informasi dengan tingkat kekuatan keamanan sesuai dengan standar keamanan - Organisasi sudah menerapkan enkripsi pada sebagian kecil informasi dengan tingkat kekuatan keamanan yang sesuai standar keamanan | G32: - Organisasi sudah memiliki konsep kebijakan internal maupun prosedur enkripsi informasi dengan tingkat kekuatan keamanan sesuai dengan standar keamanan - Organisasi sudah menerapkan enkripsi pada sebagian besar informasi dengan tingkat kekuatan keamanan yang sesuai standar keamanan | H32: - Organisasi sudah memiliki kebijakan internal maupun prosedur enkripsi informasi yang disahkan pimpinan dengan tingkat kekuatan keamanan sesuai dengan standar keamanan - Organisasi sudah menerapkan enkripsi pada seluruh informasi dengan tingkat kekuatan keamanan yang sesuai standar keamanan | I32: - Organisasi sudah memiliki kebijakan internal maupun prosedur enkripsi informasi yang disahkan pimpinan, dimonitoring, dan direview secara berkala dengan tingkat kekuatan keamanan sesuai dengan standar keamanan - Organisasi sudah menerapkan enkripsi pada seluruh informasi dengan tingkat kekuatan keamanan yang sesuai standar keamanan, dimonitoring penerapannya, dan direview secara berkala | J32: - Organisasi sudah memiliki kebijakan internal maupun prosedur enkripsi informasi yang disahkan pimpinan, dimonitoring, direview secara berkala, dan dilakukan perbaikan sesuai dengan standar keamanan - Organisasi sudah menerapkan enkripsi pada seluruh informasi dengan tingkat kekuatan keamanan yang sesuai standar keamanan, dimonitoring penerapannya, direview secara berkala, dan dilakukan perbaikan secara otomatis
A33: Sub Kategori 2.3.2 | B33: Pelindungan terhadap data yang terkirim dari Penyelenggara Sistem Elektronik | C33: Ruang Lingkup | D33: Indeks Nilai Kematangan | E33: Indeks 0 | F33: Indeks 1 | G33: Indeks 2 | H33: Indeks 3 | I33: Indeks 4 | J33: Indeks 5 | K33: Keterangan Validasi
A34: a | B34: Penyelenggara Sistem Elektronik memastikan saluran komunikasi menerapkan enkripsi saat berkomunikasi antara perangkat Sistem Elektronik dan server Sistem Elektronik. | C34: Teknologi | E34: - Organisasi belum memiliki kebijakan internal maupun prosedur penerapan enkripsi saluran komunikasi saat berkomunikasi antara perangkat Sistem Elektronik dan server Sistem Elektronik - Organisasi belum menerapkan enkripsi pada saluran komunikasi saat berkomunikasi antara perangkat Sistem Elektronik dan server Sistem Elektronik | F34: - Organisasi sudah memiliki konsep kebijakan internal maupun prosedur penerapan enkripsi saluran komunikasi saat berkomunikasi antara perangkat Sistem Elektronik dan server Sistem Elektronik - Organisasi telah menerapkan enkripsi pada sebagian kecil saluran komunikasi saat berkomunikasi antara perangkat Sistem Elektronik dan server Sistem Elektronik | G34: - Organisasi sudah memiliki konsep kebijakan internal maupun prosedur penerapan enkripsi saluran komunikasi saat berkomunikasi antara perangkat Sistem Elektronik dan server Sistem Elektronik - Organisasi telah menerapkan enkripsi pada sebagian besar saluran komunikasi saat berkomunikasi antara perangkat Sistem Elektronik dan server Sistem Elektronik | H34: Organisasi sudah memiliki kebijakan internal maupun prosedur penerapan enkripsi saluran komunikasi saat berkomunikasi antara perangkat Sistem Elektronik dan server Sistem Elektronik yang disahkan pimpinan - Organisasi telah menerapkan enkripsi pada seluruh saluran komunikasi saat berkomunikasi antara perangkat Sistem Elektronik dan server Sistem Elektronik | I34: - Organisasi sudah memiliki kebijakan internal maupun prosedur penerapan enkripsi saluran komunikasi saat berkomunikasi antara perangkat Sistem Elektronik dan server Sistem Elektronik yang disahkan pimpinan, dimonitoring penerapannya, dan direview secara berkala - Organisasi telah menerapkan enkripsi pada seluruh saluran komunikasi saat berkomunikasi antara perangkat Sistem Elektronik dan server Sistem Elektronik, dimonitoring penerapannya, dan direview secara berkala | J34: - Organisasi sudah memiliki kebijakan internal maupun prosedur penerapan enkripsi saluran komunikasi saat berkomunikasi antara perangkat Sistem Elektronik dan server Sistem Elektronik yang disahkan pimpinan, dimonitoring penerapannya, direview secara berkala, dan dilakukan perbaikan. - Organisasi telah menerapkan enkripsi pada seluruh saluran komunikasi saat berkomunikasi antara perangkat Sistem Elektronik dan server Sistem Elektronik, dimonitoring penerapannya, direview secara berkala dan dilakukan perbaikan
A35: b | B35: Penyelenggara Sistem Elektronik memastikan kunci enkripsi dikontrol dengan aman sepanjang siklus hidup kunci enkripsi tersebut untuk memastikan pengoperasian yang benar dan data yang ditransmisikan, diterima, dan disimpan dengan aman. | C35: Teknologi | E35: Organisasi belum memiliki prosedur pengamanan kunci enkripsi sepanjang siklus hidup kunci enkripsi | F35: Organisasi telah menyusun prosedur dan menerapkan sebagian kecil pengamanan kunci enkripsi sepanjang siklus hidup kunci enkripsi | G35: Organisasi telah menyusun prosedur dan menerapkan sebagian besar pengamanan kunci enkripsi sepanjang siklus hidup kunci enkripsi | H35: Organisasi telah mengesahkan prosedur dan menerapkan secara menyeluruh pengamanan kunci enkripsi sepanjang siklus hidup kunci enkripsi | I35: Organisasi telah mengesahkan prosedur, menerapkan secara menyeluruh, memonitoring dan mereview secara berkala pengamanan kunci enkripsi sepanjang siklus hidup kunci enkripsi | J35: Organisasi telah mengesahkan prosedur, menerapkan secara menyeluruh, memonitoring, mereview secara berkala dan melakukan perbaikan mengenai pengamanan kunci enkripsi sepanjang siklus hidup kunci enkripsi
A36: Sub Kategori 2.3.3 | B36: Memastikan ketersediaan kapasitas ruang penyimpanan data yang memadai | C36: Ruang Lingkup | D36: Indeks Nilai Kematangan | E36: Indeks 0 | F36: Indeks 1 | G36: Indeks 2 | H36: Indeks 3 | I36: Indeks 4 | J36: Indeks 5 | K36: Keterangan Validasi
A37: a | B37: Penyelenggara Sistem Elektronik menyediakan sumber daya yang cukup untuk setiap sistem Sistem Elektronik (misalnya ruang penyimpanan, sumber daya, dan sistem redundan), | C37: Teknologi | E37: - Organisasi belum merencanakan atau membuat strategi penyediaan sumber daya untuk setiap sistem Sistem Elektronik yang dimiliki. - Organisasi belum menyediakan sumber daya yang cukup untuk setiap sistem Sistem Elektronik. | F37: - Organisasi telah menyusun strategi penyediaan sumber daya untuk setiap sistem Sistem Elektronik namun belum diformalkan. - Organisasi sudah menyediakan sumber daya yang cukup untuk sebagian kecil aspek pada sistem Sistem Elektronik. | G37: - Organisasi telah menyusun strategi penyediaan sumber daya untuk setiap sistem Sistem Elektronik namun belum diformalkan. - Organisasi sudah menyediakan sumber daya yang cukup untuk sebagian besar aspek pada sistem Sistem Elektronik. | H37: - Organisasi telah menyusun strategi penyediaan sumber daya untuk setiap sistem Sistem Elektronik yang disahkan pimpinan. - Organisasi sudah menyediakan sumber daya yang cukup untuk seluruh aspek pada sistem Sistem Elektronik. | I37: - Organisasi telah menyusun strategi penyediaan sumber daya untuk setiap sistem Sistem Elektronik yang disahkan pimpinan, dimonitoring, dan direview secara berkala. - Organisasi sudah menyediakan sumber daya yang cukup untuk seluruh aspek pada sistem Sistem Elektronik, dimonitoring dan direview penerapannya secara berkala. | J37: - Organisasi telah menyusun strategi penyediaan sumber daya untuk setiap sistem Sistem Elektronik yang disahkan pimpinan, dimonitoring, direview secara berkala, dan dilakukan perbaikan. - Organisasi sudah menyediakan sumber daya yang cukup untuk seluruh aspek pada sistem Sistem Elektronik, dimonitoring, direview penerapannya secara berkala dan dilakukan perbaikan
A38: b | B38: Penyelenggara Sistem Elektronik memastikan dilakukannya pemeriksaan kualitas ruang penyimpanan data secara berkala, pendeteksi kegagalan operasional, dan pembaharuan perangkat lunak untuk perangkat penyimpanan data. | C38: Teknologi | E38: Organisasi belum memiliki dan menerapkan prosedur pemeriksaan kualitas ruang penyimpanan data secara berkala, pendeteksi kegagalan operasional, dan pembaharuan perangkat lunak untuk perangkat penyimpanan data. | F38: Organisasi telah menyusun dan menerapkan sebagian kecil aspek prosedur pemeriksaan kualitas ruang penyimpanan data secara berkala, pendeteksi kegagalan operasional, dan pembaharuan perangkat lunak untuk perangkat penyimpanan data pada sebagian aspek. | G38: Organisasi telah menyusun dan menerapkan sebagian besar aspek prosedur pemeriksaan kualitas ruang penyimpanan data secara berkala, pendeteksi kegagalan operasional, dan pembaharuan perangkat lunak untuk perangkat penyimpanan data. | H38: Organisasi telah mengesahkan dan menerapkan seluruh aspek prosedur pemeriksaan kualitas ruang penyimpanan data secara berkala, pendeteksi kegagalan operasional, dan pembaharuan perangkat lunak untuk perangkat penyimpanan data. | I38: Organisasi telah mengesahkan dan menerapkan seluruh aspek prosedur pemeriksaan kualitas ruang penyimpanan data secara berkala, pendeteksi kegagalan operasional, dan pembaharuan perangkat lunak untuk perangkat penyimpanan data, dimonitoring, dan direview secara berkala. | J38: Organisasi telah mengesahkan dan menerapkan seluruh aspek prosedur pemeriksaan kualitas ruang penyimpanan data secara berkala, pendeteksi kegagalan operasional, dan pembaharuan perangkat lunak untuk perangkat penyimpanan data, dimonitoring, direview secara berkala dan dilakukan perbaikan.
A39: Sub Kategori 2.3.4 | B39: Mengimplementasikan pelindungan dari kebocoran data | C39: Ruang Lingkup | D39: Indeks Nilai Kematangan | E39: Indeks 0 | F39: Indeks 1 | G39: Indeks 2 | H39: Indeks 3 | I39: Indeks 4 | J39: Indeks 5 | K39: Keterangan Validasi
A40: a | B40: Saat menangani informasi yang akan dilindungi atau pengadaan perangkat yang memiliki fungsi penting bagi organisasi, pilih perangkat dan server yang dilengkapi dengan perangkat anti-tampering. | C40: Teknologi | E40: - Organisasi belum memiliki prosedur pengadaan untuk pemilihan pernagkat dan server yang dilengkapi dengan perangkat anti-tampering. - Organisasi belum menerapkan pemilihan pengadaan perangkat dan server dengan perangkat anti-tampering. | F40: - Organisasi sudah menyusun prosedur pengadaan untuk pemilihan perangkat dan server yang dilengkapi dengan perangkat anti-tampering. - Organisasi telah menerapkan sebagian kecil pemilihan pengadaan perangkat dan server dengan perangkat anti-tampering. | G40: - Organisasi sudah menyusun prosedur pengadaan untuk pemilihan perangkat dan server yang dilengkapi dengan perangkat anti-tampering. - Organisasi telah menerapkan sebagian besar pemilihan pengadaan perangkat dan server dengan perangkat anti-tampering. | H40: - Organisasi sudah mengesahkan prosedur pengadaan untuk pemilihan perangkat dan server yang dilengkapi dengan perangkat anti-tampering. - Organisasi telah menerapkan seluruh pemilihan pengadaan perangkat dan server dengan perangkat anti-tampering. | I40: - Organisasi sudah mengesahkan prosedur pengadaan untuk pemilihan perangkat dan server yang dilengkapi dengan perangkat anti-tampering, dimonitoring dan direview secara berkala. - Organisasi telah menerapkan seluruh pemilihan pengadaan perangkat dan server dengan perangkat anti-tampering, dimonitoring dan direview secara berkala. | J40: - Organisasi sudah mengesahkan prosedur pengadaan untuk pemilihan perangkat dan server yang dilengkapi dengan perangkat anti-tampering, dimonitoring, direview secara berkala, dan dilakukan perbaikan. - Organisasi telah menerapkan seluruh pemilihan pengadaan perangkat dan server dengan perangkat anti-tampering, dimonitoring dan direview secara berkala, dan dilakukan perbaikan.
A41: b | B41: Memastikan bahwa jalur komunikasi yang digunakan untuk mengirim informasi telah dilindungi dengan kontrol keamanan yang tepat. | C41: Teknologi | E41: - Organisasi belum memiliki dan menerapkan prosedur melindungi jalur komunikasi dengan kontrol keamanan yang tepat. | F41: - Organisasi telah menyusun dan menerapkan sebagian kecil prosedur melindungi jalur komunikasi dengan kontrol keamanan yang tepat. | G41: - Organisasi telah menyusun dan menerapkan sebagian besar prosedur melindungi jalur komunikasi dengan kontrol keamanan yang tepat. | H41: - Organisasi telah mengesahkan dan menerapkan seluruh prosedur melindungi jalur komunikasi dengan kontrol keamanan yang tepat. | I41: - Organisasi telah mengesahkan dan menerapkan seluruh prosedur melindungi jalur komunikasi dengan kontrol keamanan yang tepat, dimonitoring dan direview secara berkala. | J41: - Organisasi telah mengesahkan dan menerapkan seluruh prosedur melindungi jalur komunikasi dengan kontrol keamanan yang tepat, dimonitoring dan direview secara berkala serta dilakukan perbaikan.
A42: Sub Kategori 2.3.5 | B42: Mengimplementasikan mekanisme pengecekan integritas data untuk verifikasi perangkat lunak, perangkat keras, dan data | C42: Ruang Lingkup | D42: Indeks Nilai Kematangan | E42: Indeks 0 | F42: Indeks 1 | G42: Indeks 2 | H42: Indeks 3 | I42: Indeks 4 | J42: Indeks 5 | K42: Keterangan Validasi
A43: a | B43: Melakukan pemeriksaan integritas perangkat lunak yang berjalan di perangkat dan server pada waktu yang ditentukan oleh organisasi, untuk mencegah pemasangan perangkat lunak yang tidak sah. | C43: Teknologi | E43: - Organisasi belum memiliki dan menerapkan prosedur pemeriksaan integritas perangkat lunak yang berjalan di perangkat dan server pada waktu yang ditentukan organisasi. | F43: - Organisasi telah menyusun dan menerapkan sebagian kecil prosedur pemeriksaan integritas perangkat lunak yang berjalan di perangkat dan server pada waktu yang ditentukan organisasi. | G43: - Organisasi telah menyusun dan menerapkan sebagian besar prosedur pemeriksaan integritas perangkat lunak yang berjalan di perangkat dan server pada waktu yang ditentukan organisasi. | H43: - Organisasi telah mengesahkan dan menerapkan seluruh prosedur pemeriksaan integritas perangkat lunak yang berjalan di perangkat dan server pada waktu yang ditentukan organisasi. | I43: - Organisasi telah mengesahkan dan menerapkan seluruh prosedur pemeriksaan integritas perangkat lunak yang berjalan di perangkat dan server pada waktu yang ditentukan organisasi, dimonitring dan direview secara berkala. | J43: - Organisasi telah mengesahkan dan menerapkan seluruh prosedur pemeriksaan integritas perangkat lunak yang berjalan di perangkat dan server pada waktu yang ditentukan organisasi, dimonitring dan direview secara berkala serta dilakukan perbaikan
A44: b | B44: Melakukan pemeriksaan integritas informasi yang akan dikirim, diterima, dan disimpan. | C44: Teknologi | E44: Organisasi belum memiliki mekanisme dan menerapkan pemeriksaan integritas informasi yang akan dikirim, diterima, dan disimpan. | F44: Organisasi telah menyusun mekanisme dan menerapkan sebagian kecil pemeriksaan integritas informasi yang akan dikirim, diterima, dan disimpan. | G44: Organisasi telah menyusun dan menerapkan sebagian besar mekanisme pemeriksaan integritas informasi yang akan dikirim, diterima, dan disimpan | H44: Organisasi mengesahkan dan menerapkan secara menyeluruh mekanisme pemeriksaan integritas informasi yang akan dikirim, diterima, dan disimpan | I44: Organisasi telah mengesahkan, menerapkan secara menyeluruh, memonitoring dan mereview secara berkala mekanisme pemeriksaan integritas informasi yang akan dikirim, diterima, dan disimpan | J44: Organisasi telah mengesahkan, menerapkan secara menyeluruh, memonitoring dan mereview secara berkala serta melakukan perbaikan mekanisme pemeriksaan integritas informasi yang akan dikirim, diterima, dan disimpan
A45: c | B45: Memperkenalkan mekanisme pemeriksaan integritas untuk memverifikasi integritas perangkat keras. | C45: Teknologi | E45: Organisasi belum memperkenalkan mekanisme pemeriksaan integritas untuk memverifikasi integritas perangkat keras | F45: Organisasi telah menyusun mekanisme pemeriksaan integritas untuk memverifikasi integritas perangkat keras dan memperkenalkan pada sebagian kecil stakeholder | G45: Organisasi telah menyusun mekanisme pemeriksaan integritas untuk memverifikasi integritas perangkat keras dan memperkenalkan kepada sebagian besar stakeholder | H45: Organisasi telah mengesahkan mekanisme pemeriksaan integritas untuk memverifikasi integritas perangkat keras dan memperkenalkan kepada seluruh stakeholder | I45: Organisasi telah mengesahkan, memonitoring dan mereview secara berkala mekanisme pemeriksaan integritas untuk memverifikasi integritas perangkat keras dan memperkenalkan kepada seluruh stakeholder | J45: Organisasi telah mengesahkan, memonitoring, mereview secara berkala dan melakukan perbaikan mekanisme pemeriksaan integritas untuk memverifikasi integritas perangkat keras dan memperkenalkan kepada seluruh stakeholder
A46: d | B46: Konfirmasikan bahwa perangkat keras dan perangkat lunak adalah produk asli dan memiliki sertifikat keamanan. | C46: Teknologi | E46: Organisasi belum memiliki prosedur dan mengonfirmasikan keaslian dan kepemilikan sertifikat keamanan pada perangkat keras dan perangkat lunak | F46: Organisasi telah menyusun prosedur dan mengonfirmasikan keaslian dan kepemilikan sertifikat keamanan pada perangkat keras dan perangkat lunak kepada sebagian kecil stakeholder | G46: Organisasi telah menyusun prosedur dan mengonfirmasikan keaslian dan kepemilikan sertifikat keamanan pada perangkat keras dan perangkat lunak kepada sebagian besar stakeholder | H46: Organisasi telah mengesahkan prosedur dan mengonfirmasikan keaslian dan kepemilikan sertifikat keamanan pada perangkat keras dan perangkat lunak kepada seluruh stakeholder | I46: Organisasi telah mengesahkan prosedur dan mengonfirmasikan keaslian dan kepemilikan sertifikat keamanan pada perangkat keras dan perangkat lunak kepada seluruh stakeholder, monitoring dan direview secara berkala | J46: Organisasi telah mengesahkan prosedur dan mengonfirmasikan keaslian dan kepemilikan sertifikat keamanan pada perangkat keras dan perangkat lunak kepada seluruh stakeholder, dimonitoring, direview secara berkala dan dilakukan perbaikan
A47: e | B47: Pelihara, perbarui, dan kelola informasi seperti asal data, dan riwayat pemrosesan data, di seluruh siklus hidup data. | C47: Tata Kelola & Teknologi | E47: Organisasi belum memiliki dan menerapkan prosedur pemeliharaan, pembaruan dan pengelolaan informasi pada siklus hidup data | F47: Organisasi telah merancang dan menerapkan sebagian kecil prosedur pemeliharaan, pembaruan dan pengelolaan informasi pada siklus hidup data | G47: Organisasi telah merancang dan menerapkan sebagian besar prosedur pemeliharaan, pembaruan dan pengelolaan informasi pada siklus hidup data | H47: Organisasi telah mengesahkan dan menerapkan secara menyeluruh prosedur pemeliharaan, pembaruan dan pengelolaan informasi pada siklus hidup data | I47: Organisasi telah mengesahkan, menerapkan secara menyeluruh, memonitoring dan mereview secara berkala prosedur pemeliharaan, pembaruan dan pengelolaan informasi pada siklus hidup data | J47: Organisasi telah mengesahkan, menerapkan secara menyeluruh, memonitoring dan mereview secara berkala serta melakukan perbaikan prosedur pemeliharaan, pembaruan dan pengelolaan informasi pada siklus hidup data
A48: Sub Kategori 2.3.6 | B48: Memastikan prosedur pencadangan data dilakukan, dipelihara, dan diuji secara berkala | C48: Ruang Lingkup | D48: Indeks Nilai Kematangan | E48: Indeks 0 | F48: Indeks 1 | G48: Indeks 2 | H48: Indeks 3 | I48: Indeks 4 | J48: Indeks 5 | K48: Keterangan Validasi
A49: a | B49: Tersedianya dan diterapkannya prosedur pencadangan sistem secara berkala dan pengujian kehandalan komponen untuk memastikan ketersediaan sistem. | C49: Tata Kelola | E49: - Organisasi belum memiliki prosedur pencadangan sistem secara berkala dan pengujian kehandalan komponen untuk memastikan ketersediaan sistem | F49: - Organisasi telah menyusun prosedur pencadangan sistem secara berkala dan pengujian kehandalan komponen untuk memastikan ketersediaan sistem dan menerapkan pada sebagian kecil aspek | G49: - Organisasi telah menyusun prosedur pencadangan sistem secara berkala dan pengujian kehandalan komponen untuk memastikan ketersediaan sistem dan menerapkan pada sebagian besar aspek | H49: - Organisasi telah mengesahkan prosedur pencadangan sistem secara berkala dan pengujian kehandalan komponen untuk memastikan ketersediaan sistem dan menerapkan pada seluruh aspek | I49: - Organisasi telah mengesahkan prosedur pencadangan sistem secara berkala dan pengujian kehandalan komponen untuk memastikan ketersediaan sistem dan menerapkan pada seluruh aspek, dimonitoring dan direview secara berkala | J49: - Organisasi telah mengesahkan prosedur pencadangan sistem secara berkala dan pengujian kehandalan komponen untuk memastikan ketersediaan sistem dan menerapkan pada seluruh aspek, dimonitoring, direview secara berkala, dan dilakukan perbaikan
A50: Sub Kategori 2.3.7 | B50: Menyediakan kebijakan pemusnahan data | C50: Ruang Lingkup | D50: Indeks Nilai Kematangan | E50: Indeks 0 | F50: Indeks 1 | G50: Indeks 2 | H50: Indeks 3 | I50: Indeks 4 | J50: Indeks 5 | K50: Keterangan Validasi
A51: a | B51: Saat akan menghapuskan perangkat dan aset informasi, prosedur penghapusan data yang disimpan dari perangkat dan server serta informasi penting lainya (misalnya, kunci pribadi dan sertifikat digital), atau dibuat agar tidak dapat dibaca. | C51: Tata Kelola | E51: Organisasi belum memiliki kebijakan dan menerapkan penghapusan data yang disimpan dari perangkat dan server yang akan dimusnahkan | F51: Organisasi telah menyusun kebijakan dan menerapkan sebagian kecil mekanisme penghapusan data yang disimpan dari perangkat dan server yang akan dimusnahkan | G51: Organisasi telah menyusun kebijakan dan menerapkan sebagian besar mekanisme penghapusan data yang disimpan dari perangkat dan server yang akan dimusnahkan | H51: Organisasi telah mengesahkan kebijakan dan menerapkan secara menyeluruh mekanisme penghapusan data yang disimpan dari perangkat dan server yang akan dimusnahkan | I51: Organisasi telah mengesahkan kebijakan, menerapkan secara menyeluruh mekanisme, memonitoring dan mereview secara berkala penghapusan data yang disimpan dari perangkat dan server yang akan dimusnahkan | J51: Organisasi telah mengesahkan kebijakan, menerapkan secara menyeluruh mekanisme, memonitoring dan mereview secara berkala serta melakukan perbaikan penghapusan data yang disimpan dari perangkat dan server yang akan dimusnahkan
A52: Kategori 2.4: | B52: Melindungi aplikasi
A53: Sub Kategori 2.4.1 | B53: Menyediakan prosedur konfigurasi dasar sistem dan kendali perubahan konfigurasi | C53: Ruang Lingkup | D53: Indeks Nilai Kematangan | E53: Indeks 0 | F53: Indeks 1 | G53: Indeks 2 | H53: Indeks 3 | I53: Indeks 4 | J53: Indeks 5 | K53: Keterangan Validasi
A54: a | B54: Tersedianya dan diterapkannya prosedur untuk keamanan pada saat pengaturan sistem (misalnya, prosedur penerapan kata sandi, prosedur penerapan izin akses, dsb) | C54: Tata Kelola | E54: Prosedur untuk keamanan pada saat pengaturan sistem belum ada | F54: Organisasi telah menyediakan prosedur untuk keamanan pada saat pengaturan sistem (misalnya, prosedur penerapan kata sandi, prosedur penerapan izin akses) dan diterapkan oleh sebagian kecil organisasi tapi belum diformalkan | G54: Organisasi telah menyediakan prosedur untuk keamanan pada saat pengaturan sistem (misalnya, prosedur penerapan kata sandi, prosedur penerapan izin akses) dan diterapkan oleh sebagian besar organisasi tapi belum diformalkan | H54: Organisasi telah menyediakan prosedur untuk keamanan pada saat pengaturan sistem (misalnya, prosedur penerapan kata sandi, prosedur penerapan izin akses), diterapkan oleh seluruh organisasi dan sudah diformalkan | I54: Organisasi telah menyediakan prosedur untuk keamanan pada saat pengaturan sistem (misalnya, prosedur penerapan kata sandi, prosedur penerapan izin akses), diterapkan oleh seluruh organisasi, sudah diformalkan, dimonitoring dan direviu berkala | J54: Organisasi telah menyediakan prosedur untuk keamanan pada saat pengaturan sistem (misalnya, prosedur penerapan kata sandi, prosedur penerapan izin akses), diterapkan oleh seluruh organisasi, sudah diformalkan, dimonitoring dan direviu berkala, dan dilakukan perbaikan
A55: b | B55: tersedianya dan diterapkanya prosedur untuk melakukan perubahan pengaturan pada perangkat. | C55: Teknologi | E55: Organisasi belum memiliki prosedur untuk melakukan perubahan pengaturan pada perangkat | F55: Organisasi telah menyediakan prosedur untuk melakukan perubahan pengaturan pada perangkat dan diterapkan oleh sebagian kecil organisasi tetapi belum diformalkan | G55: Organisasi telah menyediakan prosedur untuk melakukan perubahan pengaturan pada perangkat dan diterapkan oleh sebagian besar organisasi tetapi belum diformalkan | H55: Organisasi telah menyediakan prosedur untuk melakukan perubahan pengaturan pada perangkat dan diterapkan oleh seluruh organisasi dan sudah diformalkan | I55: Organisasi telah menyediakan prosedur untuk melakukan perubahan pengaturan pada perangkat dan diterapkan oleh seluruh organisasi, sudah diformalkan, dimonitoring dan direviu berkala | J55: Organisasi telah menyediakan prosedur untuk melakukan perubahan pengaturan pada perangkat dan diterapkan oleh seluruh organisasi, sudah diformalkan, dimonitoring, direviu berkala dan dilakukan perbaikan
A56: c | B56: Tersedianya dan diterapkannya prosedur Pembatasan perangkat lunak yang akan ditambahkan pada perangkat dan server. | C56: Teknologi | E56: Organisasi belum memiliki prosedur pembatasan perangkat lunak yang akan ditambahkan pada perangkat dan server | F56: Organisasi telah menyediakan rancangan prosedur pembatasan perangkat lunak yang akan ditambahkan pada perangkat dan server dan diterapkan oleh sebagian kecil organisasi tetapi belum diformalkan | G56: Organisasi telah menyediakan rancangan prosedur pembatasan perangkat lunak yang akan ditambahkan pada perangkat dan server dan diterapkan oleh sebagian besar organisasi tetapi belum diformalkan | H56: Organisasi telah menyediakan rancangan prosedur pembatasan perangkat lunak yang akan ditambahkan pada perangkat dan server dan diterapkan oleh seluruh organisasi dan sudah diformalkan | I56: Organisasi telah menyediakan rancangan prosedur pembatasan perangkat lunak yang akan ditambahkan pada perangkat dan server dan diterapkan oleh seluruh organisasi, sudah diformalkan, dimonitoring, dan direviu secara berkala | J56: Organisasi telah menyediakan rancangan prosedur pembatasan perangkat lunak yang akan ditambahkan pada perangkat dan server dan diterapkan oleh seluruh organisasi, sudah diformalkan, dimonitoring, direviu secara berkala, dan dilakukan perbaikan
A57: Sub Kategori 2.4.2 | B57: Mengembangkan dan mengimplementasikan rencana manajemen kerentanan. | C57: Ruang Lingkup | D57: Indeks Nilai Kematangan | E57: Indeks 0 | F57: Indeks 1 | G57: Indeks 2 | H57: Indeks 3 | I57: Indeks 4 | J57: Indeks 5 | K57: Keterangan Validasi
A58: a | B58: Penyelenggara Sistem Elektronik mengembangkan dan mengimplementasikan rencana manajemen kerentanan yang meliputi mekanisme pengumpulan informasi kerentanan, inventarisasi kerentanan, hingga perbaikan terhadap kerentanan yang ditemukan pada aplikasi. | C58: Teknologi | E58: Organisasi belum mengembangkan dan mengimplementasikan rencana manajemen kerentanan yang meliputi mekanisme pengumpulan informasi kerentanan, inventarisasi kerentanan, hingga perbaikan terhadap kerentanan yang ditemukan pada aplikasi. | F58: Organisasi sudah mengembangkan rencana manajemen kerentanan yang meliputi mekanisme pengumpulan informasi kerentanan, inventarisasi kerentanan, hingga perbaikan terhadap kerentanan yang ditemukan pada aplikasi. diimplementasikan pada sebagian kecil organisasi dan belum diformalkan | G58: Organisasi sudah mengembangkan rencana manajemen kerentanan yang meliputi mekanisme pengumpulan informasi kerentanan, inventarisasi kerentanan, hingga perbaikan terhadap kerentanan yang ditemukan pada aplikasi. diimplementasikan pada sebagian besar organisasi dan belum diformalkan | H58: Organisasi sudah mengembangkan rencana manajemen kerentanan yang meliputi mekanisme pengumpulan informasi kerentanan, inventarisasi kerentanan, hingga perbaikan terhadap kerentanan yang ditemukan pada aplikasi. diimplementasikan pada seluruh organisasi dan sudah diformalkan | I58: Organisasi sudah mengembangkan rencana manajemen kerentanan yang meliputi mekanisme pengumpulan informasi kerentanan, inventarisasi kerentanan, hingga perbaikan terhadap kerentanan yang ditemukan pada aplikasi. diimplementasikan pada seluruh organisasi, sudah diformalkan, dimonitoring dan direviu secara berkala | J58: Organisasi sudah mengembangkan rencana manajemen kerentanan yang meliputi mekanisme pengumpulan informasi kerentanan, inventarisasi kerentanan, hingga perbaikan terhadap kerentanan yang ditemukan pada aplikasi. diimplementasikan pada seluruh organisasi, sudah diformalkan, dimonitoring, direviu secara berkala, dan diperbaiki
A59: Sub Kategori 2.4.3 | B59: Memastikan bahwa lingkungan pengembangan dan pengujian sistem dibedakan dari lingkungan produksi atau operasional | C59: Ruang Lingkup | D59: Indeks Nilai Kematangan | E59: Indeks 0 | F59: Indeks 1 | G59: Indeks 2 | H59: Indeks 3 | I59: Indeks 4 | J59: Indeks 5 | K59: Keterangan Validasi
A60: a | B60: Penggunaan lingkungan pengembangan sistem yang berbeda dari lingkungan produksi yang meliputi pemisahan terhadap media penyimpanan, jaringan, lingkungan kerja, dsb. | C60: Tata Kelola | E60: Organisasi belum memiliki pemisahan antara lingkungan pengembangan dan lingkungan produksi. Tidak ada upaya yang dilakukan untuk mengimplementasikan pemisahan tersebut. | F60: Organisasi telah mulai menerapkan pemisahan antara lingkungan pengembangan dan lingkungan produksi pada sebagian kecil aspek, seperti media penyimpanan atau jaringan, tetapi belum ada formalitas atau kebijakan yang mendukung pemisahan ini secara keseluruhan. | G60: Pemisahan antara lingkungan pengembangan dan lingkungan produksi telah diterapkan pada sebagian besar aspek, termasuk media penyimpanan, jaringan, dan lingkungan kerja, tetapi belum ada kebijakan atau dokumentasi formal yang mengatur atau mendukung praktik ini. | H60: Organisasi telah menerapkan pemisahan lingkungan pengembangan dan produksi pada seluruh aspek, dan langkah ini sudah didukung oleh kebijakan, prosedur, dan dokumentasi formal. Pemisahan ini menjadi bagian dari standar operasi organisasi. | I60: Selain pemisahan yang sudah diterapkan dan diformalkan, organisasi juga melakukan monitoring dan review secara berkala untuk memastikan bahwa pemisahan antara lingkungan pengembangan dan produksi tetap efektif dan sesuai dengan kebijakan yang ada. | J60: Organisasi tidak hanya menerapkan dan memformalkan pemisahan antara lingkungan pengembangan dan produksi, tetapi juga melakukan monitoring, review berkala, serta perbaikan terus-menerus. Jika memungkinkan, otomatisasi teknis diterapkan untuk meningkatkan efisiensi dan keamanan dalam memisahkan kedua lingkungan tersebut.
A61: Sub Kategori 2.4.4 | B61: Mengimplementasikan prosedur pengembangan sistem yang aman | C61: Ruang Lingkup | D61: Indeks Nilai Kematangan | E61: Indeks 0 | F61: Indeks 1 | G61: Indeks 2 | H61: Indeks 3 | I61: Indeks 4 | J61: Indeks 5 | K61: Keterangan Validasi
A62: a | B62: Tersedianya dan diterapkannya prosedur pengembangan perangkat lunak yang selalu memperhatikan aspek keamanan pada setiap tahapan siklus hidup pengembangannya. | C62: Tata Kelola & Teknologi | E62: Organisasi belum memiliki prosedur pengembangan perangkat lunak yang memperhatikan aspek keamanan pada setiap tahapan siklus hidup pengembangannya. Tidak ada upaya yang dilakukan untuk mengintegrasikan keamanan dalam proses pengembangan. | F62: Aspek keamanan mulai diperhatikan dalam sebagian kecil tahapan siklus hidup pengembangan perangkat lunak, tetapi belum ada prosedur formal yang mendokumentasikan atau mendukung penerapan tersebut. Keamanan belum menjadi bagian yang sistematis dalam proses pengembangan. | G62: Keamanan sudah diperhatikan dalam sebagian besar tahapan siklus hidup pengembangan perangkat lunak, namun prosedur yang mengatur penerapan keamanan tersebut belum diformalkan. Semua aspek pengembangan sudah mencakup pertimbangan keamanan, tetapi tanpa dokumentasi resmi atau kebijakan yang mengaturnya. | H62: Prosedur pengembangan perangkat lunak yang memperhatikan aspek keamanan sudah diterapkan di seluruh tahapan siklus hidup pengembangan dan telah diformalkan. Dokumentasi, kebijakan, dan prosedur yang mengatur keamanan dalam pengembangan perangkat lunak sudah tersedia dan diterapkan secara konsisten. | I62: Selain penerapan dan formalisasi, prosedur pengembangan perangkat lunak yang memperhatikan aspek keamanan juga dimonitoring dan direview secara berkala untuk memastikan efektivitasnya. Organisasi secara aktif mengevaluasi apakah prosedur tersebut masih relevan dan efisien seiring dengan perkembangan teknologi dan ancaman keamanan. | J62: Organisasi tidak hanya menerapkan, memformalkan, memonitoring, dan mereview prosedur pengembangan perangkat lunak yang memperhatikan keamanan, tetapi juga secara aktif melakukan perbaikan berkelanjutan berdasarkan hasil review. Jika memungkinkan, otomatisasi proses keamanan dalam siklus hidup pengembangan diterapkan untuk meningkatkan efisiensi dan respons terhadap ancaman keamanan.
A63: Kategori 2.5: | B63: Melindungi jaringan
A64: Sub Kategori 2.5.1 | B64: Menerapkan sistem yang dikonfigurasi dengan prinsip fungsionalitas minimum | C64: Ruang Lingkup | D64: Indeks Nilai Kematangan | E64: Indeks 0 | F64: Indeks 1 | G64: Indeks 2 | H64: Indeks 3 | I64: Indeks 4 | J64: Indeks 5 | K64: Keterangan Validasi
A65: a | B65: Minimalkan fungsi perangkat dan server dengan memblokir secara fisik dan logis port jaringan, USB, dan port serial yang tidak perlu, yang mengakses secara langsung bagian utama perangkat dan server. | C65: Teknologi | E65: Organisasi belum melakukan pemblokiran secara fisik dan logis port jaringan, USB, dan dan port serial yang tidak perlu, yang mengakses secara langsung bagian utama perangkat dan server. | F65: Organisasi sudah menerapkan pemblokiran secara fisik dan logis pada sebagian kecil port jaringan, USB, dan dan port serial yang tidak perlu, yang mengakses secara langsung bagian utama perangkat dan server, tetapi kebijakan/prosedur penerapan pemblokiran tersebut belum diformalkan. | G65: Organisasi sudah menerapkan pemblokiran secara fisik dan logis pada sebagian besar port jaringan, USB, dan dan port serial yang tidak perlu, yang mengakses secara langsung bagian utama perangkat dan server, tetapi kebijakan/prosedur penerapan pemblokiran tersebut belum diformalkan. | H65: Organisasi sudah menerapkan pemblokiran secara fisik dan logis pada seluruh port jaringan, USB, dan dan port serial yang tidak perlu, yang mengakses secara langsung bagian utama perangkat dan server, dan kebijakan/prosedur penerapan pemblokiran tersebut sudah diformalkan. | I65: Organisasi sudah menerapkan pemblokiran secara fisik dan logis pada seluruh port jaringan, USB, dan dan port serial yang tidak perlu, yang mengakses secara langsung bagian utama perangkat dan server, dan kebijakan/prosedur penerapan pemblokiran tersebut sudah diformalkan, dimonitoring, dan direview secara berkala | J65: Organisasi sudah menerapkan pemblokiran secara fisik dan logis pada seluruh port jaringan, USB, dan dan port serial yang tidak perlu, yang mengakses secara langsung bagian utama perangkat dan server, dan kebijakan/prosedur penerapan pemblokiran tersebut sudah diformalkan, dimonitoring, direview secara berkala, dan dilakukan perbaikan atau otomatisasi pemblokiran
A66: b | B66: Memastikan Removable Media terlindungi dan penggunaannya terbatas sesuai dengan kebijakan. | C66: Teknologi | E66: Organisasi belum memastikan Removable Media terlindungi dan pembatasan penggunaannya | F66: Organisasi sudah menerapkan pelindungan dan pembatasan penggunaan pada sebagian kecil Removable Media tetapi kebijakannya belum diformalkan | G66: Organisasi sudah menerapkan pelindungan dan pembatasan penggunaan pada sebagian besar Removable Media tetapi kebijakannya belum diformalkan | H66: Organisasi sudah menerapkan pelindungan dan pembatasan penggunaan pada seluruh Removable Media sesuai dengan kebijakan yang sudah diformalkan | I66: Organisasi sudah menerapkan pelindungan dan pembatasan penggunaan pada seluruh Removable Media sesuai dengan kebijakan yang sudah diformalkan, dimonitoring, dan direview secara berkala | J66: Organisasi sudah menerapkan pelindungan dan pembatasan penggunaan pada seluruh Removable Media sesuai dengan kebijakan yang sudah diformalkan, dimonitoring, direview secara berkala, dan dilakukan perbaikan
A67: Sub Kategori 2.5.2 | B67: Menerapkan pelindungan terhadap jaringan komunikasi, akses sistem informasi, dan akses sistem kendali | C67: Ruang Lingkup | D67: Indeks Nilai Kematangan | E67: Indeks 0 | F67: Indeks 1 | G67: Indeks 2 | H67: Indeks 3 | I67: Indeks 4 | J67: Indeks 5 | K67: Keterangan Validasi
A68: a | B68: Organisasi menentukan dan menerapkan segmentasi dan/atau pembagian zonasi jaringan komunikasi/internet. (misalnya dibagi menjadi lingkungan pengembangan, pengujian, lingkungan produksi, dan lingkungan lain dalam organisasi) | C68: Teknologi | E68: Organisasi belum menentukan dan menerapkan segmentasi dan/atau pembagian zonasi jaringan komunikasi/internet. | F68: Organisasi sudah menentukan dan menerapkan sebagian kecil segmentasi dan/atau pembagian zonasi jaringan komunikasi/internet, tetapi kebijakan/prosedurnya belum diformalkan | G68: Organisasi sudah menentukan dan menerapkan sebagian besar segmentasi dan/atau pembagian zonasi jaringan komunikasi/internet, tetapi kebijakan/prosedurnya belum diformalkan | H68: Organisasi sudah menentukan dan menerapkan seluruh segmentasi dan/atau pembagian zonasi jaringan komunikasi/internet, dan kebijakan/prosedurnya sudah diformalkan | I68: Organisasi sudah menentukan dan menerapkan seluruh segmentasi dan/atau pembagian zonasi jaringan komunikasi/internet, dan kebijakan/prosedurnya sudah diformalkan, dimonitoring, dan direview secara berkala | J68: Organisasi sudah menentukan dan menerapkan seluruh segmentasi dan/atau pembagian zonasi jaringan komunikasi/internet, dan kebijakan/prosedurnya sudah diformalkan, dimonitoring, direview secara berkala, dan dilakukan perbaikan
A69: b | B69: Organisasi juga melakukan isolasi terhadap jaringan yang menghubungkan dengan perangkat penting, misalnya perangkat SCADA atau ICS (Industrial Control System). | C69: Teknologi | E69: Organisasi belum melakukan isolasi terhadap jaringan yang menghubungkan dengan perangkat penting | F69: Organisasi sudah melakukan isolasi terhadap sebagian kecil jaringan yang menghubungkan dengan perangkat penting, tetapi kebijakan/prosedurnya belum diformalkan | G69: Organisasi sudah melakukan isolasi terhadap sebagian besar jaringan yang menghubungkan dengan perangkat penting, tetapi kebijakan/prosedurnya belum diformalkan | H69: Organisasi sudah melakukan isolasi terhadap seluruh jaringan yang menghubungkan dengan perangkat penting, dan kebijakan/prosedurnya sudah diformalkan | I69: Organisasi sudah melakukan isolasi terhadap seluruh jaringan yang menghubungkan dengan perangkat penting, dan kebijakan/prosedurnya sudah diformalkan, dan direview secara berkala | J69: Organisasi sudah melakukan isolasi terhadap seluruh jaringan yang menghubungkan dengan perangkat penting, dan kebijakan/prosedurnya sudah diformalkan, direview secara berkala, dan dilakukan perbaikan
A70: Sub Kategori 2.5.3 | B70: Menggunakan perangkat-perangkat jaringan yang menerapkan fungsi keamanan | C70: Ruang Lingkup | D70: Indeks Nilai Kematangan | E70: Indeks 0 | F70: Indeks 1 | G70: Indeks 2 | H70: Indeks 3 | I70: Indeks 4 | J70: Indeks 5 | K70: Keterangan Validasi
A71: a | B71: Memastikan perangkat jaringan mampu menerapkan mekanisme (misalnya, fail safe, load balancer, atau hot swap) yang perlu diimplementasikan untuk mencapai persyaratan ketahanan dalam situasi normal dan situasi yang merugikan. | C71: Teknologi | E71: Organisasi belum memastikan perangkat jaringan mampu menerapkan mekanisme yang perlu diimplementasikan untuk mencapai persyaratan ketahanan dalam situasi normal dan situasi yang merugikan | F71: Organisasi telah memastikan sebagian kecil perangkat jaringan mampu menerapkan mekanisme yang perlu diimplementasikan untuk mencapai persyaratan ketahanan dalam situasi normal dan situasi yang merugikan, tetapi kebijakan/prosedurnya belum diformalkan | G71: Organisasi telah memastikan sebagian besar perangkat jaringan mampu menerapkan mekanisme yang perlu diimplementasikan untuk mencapai persyaratan ketahanan dalam situasi normal dan situasi yang merugikan, tetapi kebijakan/prosedurnya belum diformalkan | H71: Organisasi telah memastikan seluruh perangkat jaringan mampu menerapkan mekanisme yang perlu diimplementasikan untuk mencapai persyaratan ketahanan dalam situasi normal dan situasi yang merugikan, dan kebijakan/prosedurnya sudah diformalkan | I71: Organisasi telah memastikan seluruh perangkat jaringan mampu menerapkan mekanisme yang perlu diimplementasikan untuk mencapai persyaratan ketahanan dalam situasi normal dan situasi yang merugikan, dan kebijakan/prosedurnya sudah diformalkan, dimonitoring, dan direview secara berkala | J71: Organisasi telah memastikan seluruh perangkat jaringan mampu menerapkan mekanisme yang perlu diimplementasikan untuk mencapai persyaratan ketahanan dalam situasi normal dan situasi yang merugikan, dan kebijakan/prosedurnya sudah diformalkan, dimonitoring, direview secara berkala, dan dilakukan perbaikan atau otomatisasi
A72: b | B72: Memastikan fungsi keamanan pada perangkat jaringan dapat digunakan sesuai dengan kebutuhan dan sertifikat keamanan. | C72: Teknologi | E72: Organisasi belum memastikan fungsi keamanan pada perangkat jaringan dapat digunakan sesuai dengan kebutuhan dan sertifikat keamanan | F72: Organisasi telah memastikan fungsi keamanan pada sebagian kecil perangkat jaringan dapat digunakan sesuai dengan kebutuhan dan sertifikat keamanan, tetapi kebijakan/prosedurnya belum diformalkan | G72: Organisasi telah memastikan fungsi keamanan pada sebagian besar perangkat jaringan dapat digunakan sesuai dengan kebutuhan dan sertifikat keamanan, tetapi kebijakan/prosedurnya belum diformalkan | H72: Organisasi telah memastikan fungsi keamanan pada seluruh perangkat jaringan dapat digunakan sesuai dengan kebutuhan dan sertifikat keamanan, dan kebijakan/prosedurnya sudah diformalkan | I72: Organisasi telah memastikan fungsi keamanan pada seluruh perangkat jaringan dapat digunakan sesuai dengan kebutuhan dan sertifikat keamanan, dan kebijakan/prosedurnya sudah diformalkan, dimonitoring, dan direview secara berkala | J72: Organisasi telah memastikan fungsi keamanan pada seluruh perangkat jaringan dapat digunakan sesuai dengan kebutuhan dan sertifikat keamanan, dan kebijakan/prosedurnya sudah diformalkan, dimonitoring, direview secara berkala, dan dilakukan perbaikan
A73: Sub Kategori 2.5.4 | B73: Memastikan integritas jaringan senantiasa dilindungi | C73: Ruang Lingkup | D73: Indeks Nilai Kematangan | E73: Indeks 0 | F73: Indeks 1 | G73: Indeks 2 | H73: Indeks 3 | I73: Indeks 4 | J73: Indeks 5 | K73: Keterangan Validasi
A74: a | B74: tersedianya prosedur pelindungan terhadap integritas jaringan dengan cara melakukan pengujian dan monitoring terhadap konfigurasi jaringan, seperti pengujian terhadap segmentasi jaringan yang sesuai. | C74: Teknologi | E74: Organisasi belum memiliki prosedur pelindungan terhadap integritas jaringan dengan cara melakukan pengujian dan monitoring terhadap konfigurasi jaringan, seperti pengujian terhadap segmentasi jaringan yang sesuai. | F74: Organisasi telah menjalankan sebagian kecil penyediaan prosedur pelindungan terhadap integritas jaringan dengan cara melakukan pengujian dan monitoring terhadap konfigurasi jaringan, seperti pengujian terhadap segmentasi jaringan yang sesuai, tetapi prosedurnya belum diformalkan | G74: Organisasi telah menjalankan sebagian besar prosedur pelindungan terhadap integritas jaringan dengan cara melakukan pengujian dan monitoring terhadap konfigurasi jaringan, seperti pengujian terhadap segmentasi jaringan yang sesuai, tetapi prosedurnya belum diformalkan | H74: Organisasi telah menjalankan secara penuh prosedur pelindungan terhadap integritas jaringan dengan cara melakukan pengujian dan monitoring terhadap konfigurasi jaringan, seperti pengujian terhadap segmentasi jaringan yang sesuai, dan prosedurnya sudah diformalkan | I74: Organisasi telah menjalankan secara penuh prosedur pelindungan terhadap integritas jaringan dengan cara melakukan pengujian dan monitoring terhadap konfigurasi jaringan, seperti pengujian terhadap segmentasi jaringan yang sesuai, dan prosedurnya sudah diformalkan, dimonitoring, dan direview secara berkala | J74: Organisasi telah menjalankan secara penuh prosedur pelindungan terhadap integritas jaringan dengan cara melakukan pengujian dan monitoring terhadap konfigurasi jaringan, seperti pengujian terhadap segmentasi jaringan yang sesuai, dan prosedurnya sudah diformalkan, dimonitoring, direview secara berkala, dan dilakukan perbaikan
A75: Sub Kategori 2.5.5 | B75: Menerapkan prosedur dan teknologi pencegahan malware | C75: Ruang Lingkup | D75: Indeks Nilai Kematangan | E75: Indeks 0 | F75: Indeks 1 | G75: Indeks 2 | H75: Indeks 3 | I75: Indeks 4 | J75: Indeks 5 | K75: Keterangan Validasi
A76: a | B76: Untuk melindungi ketersediaan data terhadap serangan malware, data organisasi harus di-rekam cadang secara berkala. | C76: Teknologi | E76: Organisasi belum memiliki prosedur dan teknologi pencegahan malware untuk melindungi ketersediaan data berupa perekaman pencadangan data organisasi secara berkala. | F76: Organisasi telah menjalankan sebagian kecil prosedur dan teknologi pencegahan malware untuk melindungi ketersediaan data berupa perekaman pencadangan data organisasi secara berkala, tetapi prosedurnya belum diformalkan | G76: Organisasi telah menjalankan sebagian besar prosedur dan teknologi pencegahan malware untuk melindungi ketersediaan data berupa perekaman pencadangan data organisasi secara berkala, tetapi prosedurnya belum diformalkan | H76: Organisasi telah menjalankan secara penuh prosedur dan teknologi pencegahan malware untuk melindungi ketersediaan data berupa perekaman pencadangan data organisasi secara berkala, dan prosedurnya sudah diformalkan | I76: Organisasi telah menjalankan secara penuh prosedur dan teknologi pencegahan malware untuk melindungi ketersediaan data berupa perekaman pencadangan data organisasi secara berkala, dan prosedurnya sudah diformalkan, dimonitoring, dan direview secara berkala | J76: Organisasi telah menjalankan secara penuh prosedur dan teknologi pencegahan malware untuk melindungi ketersediaan data berupa perekaman pencadangan data organisasi secara berkala, dan prosedurnya sudah diformalkan, dimonitoring, direview secara berkala, dan dilakukan perbaikan
A77: b | B77: pemindaian/scanning terhadap removable media yang akan digunakan pada perangkat komputer, notebook, server, atau perangkat pengolah informasi lainnya untuk mencegah masuknya virus dari luar ke dalam perangkat pengolah informasi dan jaringan komunikasi data milik Organisasi. | C77: Teknologi | E77: Organisasi belum memiliki prosedur dan teknologi pencegahan malware berupa pemindaian/scanning terhadap removable media yang akan digunakan pada perangkat komputer, notebook, server, atau perangkat pengolah informasi lainnya | F77: Organisasi telah menjalankan sebagian kecil prosedur dan teknologi pencegahan malware berupa pemindaian/scanning terhadap removable media yang akan digunakan pada perangkat komputer, notebook, server, atau perangkat pengolah informasi lainnya, tetapi prosedurnya belum diformalkan | G77: Organisasi telah menjalankan sebagian besar prosedur dan teknologi pencegahan malware berupa pemindaian/scanning terhadap removable media yang akan digunakan pada perangkat komputer, notebook, server, atau perangkat pengolah informasi lainnya, tetapi prosedurnya belum diformalkan | H77: Organisasi telah menjalankan secara penuh prosedur dan teknologi pencegahan malware berupa pemindaian/scanning terhadap removable media yang akan digunakan pada perangkat komputer, notebook, server, atau perangkat pengolah informasi lainnya, dan prosedurnya sudah diformalkan | I77: Organisasi telah menjalankan secara penuh prosedur dan teknologi pencegahan malware berupa pemindaian/scanning terhadap removable media yang akan digunakan pada perangkat komputer, notebook, server, atau perangkat pengolah informasi lainnya, dan prosedurnya sudah diformalkan, dimonitoring, dan direview secara berkala | J77: Organisasi telah menjalankan secara penuh prosedur dan teknologi pencegahan malware berupa pemindaian/scanning terhadap removable media yang akan digunakan pada perangkat komputer, notebook, server, atau perangkat pengolah informasi lainnya, dan prosedurnya sudah diformalkan, dimonitoring, direview secara berkala, dan dilakukan perbaikan
A78: c | B78: Mengunduh dan menginstalasi update anti malware terbaru, meliputi antivirus, anti-spyware, spam filtering, web content filtering, dan intrusion detection and prevention system. | C78: Teknologi | E78: Organisasi belum memiliki prosedur dan teknologi pencegahan malware berupa pengunduhan dan instalasi update anti malware terbaru, meliputi antivirus, anti-spyware, spam filtering, web content filtering, dan intrusion detection and prevention system. | F78: Organisasi telah menjalankan sebagian kecil prosedur dan teknologi pencegahan malware berupa pengunduhan dan instalasi update anti malware terbaru, meliputi antivirus, anti-spyware, spam filtering, web content filtering, dan intrusion detection and prevention system, tetapi prosedurnya belum diformalkan | G78: Organisasi telah menjalankan sebagian besar prosedur dan teknologi pencegahan malware berupa pengunduhan dan instalasi update anti malware terbaru, meliputi antivirus, anti-spyware, spam filtering, web content filtering, dan intrusion detection and prevention system, tetapi prosedurnya belum diformalkan | H78: Organisasi telah menjalankan secara penuh prosedur dan teknologi pencegahan malware berupa pengunduhan dan instalasi update anti malware terbaru, meliputi antivirus, anti-spyware, spam filtering, web content filtering, dan intrusion detection and prevention system, dan prosedurnya sudah diformalkan | I78: Organisasi telah menjalankan secara penuh prosedur dan teknologi pencegahan malware berupa pengunduhan dan instalasi update anti malware terbaru, meliputi antivirus, anti-spyware, spam filtering, web content filtering, dan intrusion detection and prevention system, dan prosedurnya sudah diformalkan, dimonitoring, dan direview secara berkala | J78: Organisasi telah menjalankan secara penuh prosedur dan teknologi pencegahan malware berupa pengunduhan dan instalasi update anti malware terbaru, meliputi antivirus, anti-spyware, spam filtering, web content filtering, dan intrusion detection and prevention system, dan prosedurnya sudah diformalkan, dimonitoring, direview secara berkala, dan dilakukan perbaikan
A79: d | B79: Meng-update perangkat komputer dengan melakukan upgrade dan patch sistem operasi dan aplikasi. | C79: Teknologi | E79: Organisasi belum memiliki prosedur dan teknologi pencegahan malware berupa meng-update perangkat komputer dengan melakukan upgrade dan patch sistem operasi dan aplikasi. | F79: Organisasi telah menjalankan sebagian kecil prosedur dan teknologi pencegahan malware berupa meng-update perangkat komputer dengan melakukan upgrade dan patch sistem operasi dan aplikasi, tetapi prosedurnya belum diformalkan | G79: Organisasi telah menjalankan sebagian besar prosedur dan teknologi pencegahan malware berupa meng-update perangkat komputer dengan melakukan upgrade dan patch sistem operasi dan aplikasi, tetapi prosedurnya belum diformalkan | H79: Organisasi telah menjalankan secara penuh prosedur dan teknologi pencegahan malware berupa meng-update perangkat komputer dengan melakukan upgrade dan patch sistem operasi dan aplikasi, dan prosedurnya sudah diformalkan | I79: Organisasi telah menjalankan secara penuh prosedur dan teknologi pencegahan malware berupa meng-update perangkat komputer dengan melakukan upgrade dan patch sistem operasi dan aplikasi, dan prosedurnya sudah diformalkan, dimonitoring, dan direview secara berkala | J79: Organisasi telah menjalankan secara penuh prosedur dan teknologi pencegahan malware berupa meng-update perangkat komputer dengan melakukan upgrade dan patch sistem operasi dan aplikasi, dan prosedurnya sudah diformalkan, dimonitoring, direview secara berkala, dan dilakukan perbaikan
A80: Sub Kategori 2.5.6 | B80: Memastikan catatan audit atau log aktivitas ditentukan, didokumentasikan, diimplementasikan, dan ditinjau sesuai dengan kebijakan organisasi | C80: Ruang Lingkup | D80: Indeks Nilai Kematangan | E80: Indeks 0 | F80: Indeks 1 | G80: Indeks 2 | H80: Indeks 3 | I80: Indeks 4 | J80: Indeks 5 | K80: Keterangan Validasi
A81: a | B81: Menentukan dan mendokumentasikan subjek atau ruang lingkup rekaman audit/pencatatan log, dan menerapkan dan meninjau catatan tersebut untuk mendeteksi insiden keamanan berisiko tinggi dengan benar. | C81: Tata Kelola | E81: Organisasi belum menentukan dan mendokumentasikan subjek atau ruang lingkup rekaman audit/pencatatan log, dan menerapkan dan meninjau catatan tersebut untuk mendeteksi insiden keamanan berisiko tinggi dengan benar. | F81: Organisasi telah menjalankan sebagian kecil prosedur dalam menentukan dan mendokumentasikan subjek atau ruang lingkup rekaman audit/pencatatan log, dan menerapkan dan meninjau catatan tersebut untuk mendeteksi insiden keamanan berisiko tinggi dengan benar, tetapi prosedurnya belum diformalkan | G81: Organisasi telah menjalankan sebagian besar prosedur dalam menentukan dan mendokumentasikan subjek atau ruang lingkup rekaman audit/pencatatan log, dan menerapkan dan meninjau catatan tersebut untuk mendeteksi insiden keamanan berisiko tinggi dengan benar, tetapi prosedurnya belum diformalkan | H81: Organisasi telah menjalankan secara penuh prosedur dalam menentukan dan mendokumentasikan subjek atau ruang lingkup rekaman audit/pencatatan log, dan menerapkan dan meninjau catatan tersebut untuk mendeteksi insiden keamanan berisiko tinggi dengan benar, dan prosedurnya sudah diformalkan | I81: Organisasi telah menjalankan secara penuh prosedur dalam menentukan dan mendokumentasikan subjek atau ruang lingkup rekaman audit/pencatatan log, dan menerapkan dan meninjau catatan tersebut untuk mendeteksi insiden keamanan berisiko tinggi dengan benar, dan prosedurnya sudah diformalkan, dimonitoring, dan direview secara berkala | J81: Organisasi telah menjalankan secara penuh prosedur dalam menentukan dan mendokumentasikan subjek atau ruang lingkup rekaman audit/pencatatan log, dan menerapkan dan meninjau catatan tersebut untuk mendeteksi insiden keamanan berisiko tinggi dengan benar, dan prosedurnya sudah diformalkan, dimonitoring, direview secara berkala, dan dilakukan perbaikan
A82: Sub Kategori 2.5.7 | B82: Memastikan bahwa informasi mengenai pelindungan terhadap teknologi dibagikan hanya kepada pihak tepercaya | C82: Ruang Lingkup | D82: Indeks Nilai Kematangan | E82: Indeks 0 | F82: Indeks 1 | G82: Indeks 2 | H82: Indeks 3 | I82: Indeks 4 | J82: Indeks 5 | K82: Keterangan Validasi
A83: a | B83: Berbagi informasi mengenai efektivitas teknologi perlindungan data hanya dengan mitra yang tepat dan terpercaya. | C83: Tata Kelola | E83: Organisasi belum melakukan berbagi informasi mengenai efektivitas teknologi perlindungan data | F83: Organisasi telah menjalankan berbagi informasi mengenai efektivitas teknologi perlindungan data hanya dengan mitra yang tepat dan terpercaya namun belum secara menyeluruh (masih sebagian kecil) baik terhadap teknologi maupun terhadap mitra, tetapi prosedurnya belum diformalkan | G83: Organisasi telah menjalankan berbagi informasi mengenai efektivitas teknologi perlindungan data hanya dengan sebagian besar mitra yang tepat dan terpercaya baik terhadap teknologi maupun terhadap mitra, tetapi prosedurnya belum diformalkan | H83: Organisasi telah menjalankan berbagi informasi mengenai efektivitas teknologi perlindungan data hanya dengan mitra yang tepat dan terpercaya secara menyeluruh baik terhadap teknologi maupun terhadap mitra, dan prosedurnya sudah diformalkan | I83: Organisasi telah menjalankan berbagi informasi mengenai efektivitas teknologi perlindungan data hanya dengan mitra yang tepat dan terpercaya secara menyeluruh baik terhadap teknologi maupun terhadap mitra, dan prosedurnya sudah diformalkan, dimonitoring, dan direview secara berkala | J83: Organisasi telah menjalankan berbagi informasi mengenai efektivitas teknologi perlindungan data hanya dengan mitra yang tepat dan terpercaya secara menyeluruh baik terhadap teknologi maupun terhadap mitra, dan prosedurnya sudah diformalkan, dimonitoring, direview secara berkala, dan dilakukan perbaikan
A84: Kategori 2.6: | B84: Melindungi sumber daya manusia
A85: Sub Kategori 2.6.1 | B85: Menerapkan prosedur pengelolaan keamanan terhadap personel | C85: Ruang Lingkup | D85: Indeks Nilai Kematangan | E85: Indeks 0 | F85: Indeks 1 | G85: Indeks 2 | H85: Indeks 3 | I85: Indeks 4 | J85: Indeks 5 | K85: Keterangan Validasi
A86: a | B86: Pemeriksaan verifikasi latar belakang terhadap semua calon personel harus dilakukan sebelum bergabung dengan Penyelenggara Sistem Elektronik dengan mempertimbangkan peraturan dan etika yang berlaku serta proporsional dengan kebutuhan bisnis, dan risiko keamanan. | C86: Sumber Daya Manusia | E86: - Organisasi belum memiliki prosedur terorganisir dalam melakukan pemeriksaan verifikasi latar belakang calon personel yang akan bergabung dengan organisasi - Organisasi belum menjalankan pemeriksaan latar belakang calon personel yang akan bergabung dengan organisasi | F86: - Organisasi sudah memiliki prosedur terorganisir dalam melakukan pemeriksaan verifikasi latar belakang calon personel yang akan bergabung dengan organisasi - Organisasi sudah melakukan pemeriksaan/verifikasi latar belakang kepada sebagian kecil calon personel yang akan bergabung dengan organisasi | G86: - Organisasi sudah memiliki prosedur terorganisir dalam melakukan pemeriksaan verifikasi latar belakang calon personel yang akan bergabung dengan organisasi - Organisasi telah menjalankan kegiatan pemeriksaan verifikasi latar belakang terhadap sebagian besar calon personel yang akan bergabung dengan organisasi dengan mempertimbangkan peraturan dan etika yang berlaku serta proporsional dengan kebutuhan bisnis, dan risiko keamanan namun belum secara menyeluruh | H86: - Organisasi sudah memiliki prosedur terorganisir dalam melakukan pemeriksaan verifikasi latar belakang calon personel yang akan bergabung dengan organisasi - Organisasi telah menjalankan kegiatan kegiatan pemeriksaan verifikasi latar belakang terhadap semua calon personel yang akan bergabung dengan organisasi dengan mempertimbangkan peraturan dan etika yang berlaku serta proporsional dengan kebutuhan bisnis, dan risiko keamanan secara menyeluruh | I86: - Organisasi sudah memiliki prosedur terorganisir dalam melakukan pemeriksaan verifikasi latar belakang calon personel yang akan bergabung dengan organisasi - Organisasi telah menjalankan kegiatan kegiatan pemeriksaan verifikasi latar belakang terhadap semua calon personel yang akan bergabung dengan organisasi dengan mempertimbangkan peraturan dan etika yang berlaku serta proporsional dengan kebutuhan bisnis, dan risiko keamanan secara menyeluruh serta melakukan pemantauan terhadap personel yang bergabung dengan organisasi | J86: - Organisasi sudah memiliki prosedur terorganisir dalam melakukan pemeriksaan verifikasi latar belakang calon personel yang akan bergabung dengan organisasi - Organisasi telah menjalankan kegiatan kegiatan pemeriksaan verifikasi latar belakang terhadap semua calon personel yang akan bergabung dengan organisasi dengan mempertimbangkan peraturan dan etika yang berlaku serta proporsional dengan kebutuhan bisnis, dan risiko keamanan secara menyeluruh serta melakukan pemantauan secara berkala dan dilakukan perbaikan berkelanjutan terhadap pelaksanaan kegiatan verifikasi latar belakang personel
A87: b | B87: Perjanjian kontrak kerja harus menyatakan tanggung jawab personel dan organisasi untuk keamanan informasi. | C87: Sumber Daya Manusia | E87: - Organisasi belum memiliki prosedur terorganisir tentang penerapan perjanjian kontrak kerja yang menyatakan tanggung jawab personel dan organisasi untuk keamanan informasi - Organisasi belum mewajibkan adanya perjanjian kontrak kerja yang menyatakan tanggung jawab personel dan organisasi untuk keamanan informasi | F87: - Organisasi sudah memiliki prosedur terorganisir yang mewajibkan adanya perjanjian kontrak kerja yang menyatakan tanggung jawab personel dan organisasi untuk keamanan informasi - Organisasi sedang merencanakan membuat perjanjian kontrak kerja yang menyatakan tanggung jawab personel dan organisasi untuk keamanan informasi. | G87: - Organisasi sudah memiliki prosedur terorganisir yang mewajibkan adanya perjanjian kontrak kerja yang menyatakan tanggung jawab personel dan organisasi untuk keamanan informasi - Organisasi telah mewajibkan adanya perjanjian kontrak kerja yang menyatakan tanggung jawab personel dan organisasi untuk keamanan informasi namun belum secara menyeluruh | H87: - Organisasi sudah memiliki prosedur terorganisir yang mewajibkan adanya perjanjian kontrak kerja yang menyatakan tanggung jawab personel dan organisasi untuk keamanan informasi - Organisasi telah mewajibkan dan menjalankan perjanjian kontrak kerja yang menyatakan tanggung jawab personel dan organisasi untuk keamanan informasi secara menyeluruh | I87: - Organisasi sudah memiliki prosedur terorganisir yang mewajibkan adanya perjanjian kontrak kerja yang menyatakan tanggung jawab personel dan organisasi untuk keamanan informasi - Organisasi telah mewajibkan dan menjalankan perjanjian kontrak kerja yang menyatakan tanggung jawab personel dan organisasi untuk keamanan informasi secara menyeluruh dan direview secara berkala | J87: - Organisasi sudah memiliki prosedur terorganisir yang mewajibkan adanya perjanjian kontrak kerja yang menyatakan tanggung jawab personel dan organisasi untuk keamanan informasi - Organisasi telah mewajibkan dan menjalankan perjanjian kontrak kerja yang menyatakan tanggung jawab personel dan organisasi untuk keamanan informasi secara menyeluruh dan dilakukan review secara berkala terhadap perjanjian kerja yang sudah ada serta diperbaiki secara berkelanjutan
A88: c | B88: Proses pendisiplinan harus diformalkan dan dikomunikasikan untuk mengambil tindakan terhadap personel dan pihak berkepentingan lainnya yang telah melakukan pelanggaran kebijakan keamanan informasi. | C88: Sumber Daya Manusia | E88: - Organisasi belum memiliki prosedur terorganisir untuk melaksanakan pendislipan terhadap personel dan pihak berkepentingan lainnya - Organisasi belum merencanakan proses pendisiplinan terhadap personel dan pihak berkepentingan lainnya yang telah melakukan pelanggaran kebijakan keamanan informasi. | F88: - Organisasi sudah memiliki prosedur terorganisir untuk melaksanakan pendislipan terhadap personel dan pihak berkepentingan lainnya - Organisasi telah merencanakan proses pendisiplinan terhadap personel dan pihak berkepentingan lainnya yang telah melakukan pelanggaran kebijakan keamanan informasi. | G88: - Organisasi sudah memiliki prosedur terorganisir untuk melaksanakan pendislipan terhadap personel dan pihak berkepentingan lainnya - Organisasi telah menjalankan proses pendisiplinan terhadap personel dan pihak berkepentingan lainnya yang telah melakukan pelanggaran kebijakan keamanan informasi namun belum secara menyeluruh | H88: - Organisasi sudah memiliki prosedur terorganisir untuk melaksanakan pendislipan terhadap personel dan pihak berkepentingan lainnya - Organisasi telah menjalankan proses pendisiplinan terhadap personel dan pihak berkepentingan lainnya yang telah melakukan pelanggaran kebijakan keamanan informasi secara menyeluruh | I88: - Organisasi sudah memiliki prosedur terorganisir untuk melaksanakan pendislipan terhadap personel dan pihak berkepentingan lainnya - Organisasi telah menjalankan proses pendisiplinan, diformalkan dan dikomunikasikan untuk mengambil tindakan terhadap personel dan pihak berkepentingan lainnya yang telah melakukan pelanggaran kebijakan keamanan informasi dan proses pendisiplinan tersebut direview secara berkala | J88: - Organisasi sudah memiliki prosedur terorganisir untuk melaksanakan pendislipan terhadap personel dan pihak berkepentingan lainnya - Organisasi telah menjalankan proses pendisiplinan, diformalkan dan dikomunikasikan untuk mengambil tindakan terhadap personel dan pihak berkepentingan lainnya yang telah melakukan pelanggaran kebijakan keamanan informasi dan proses pendisiplinan tersebut direview secara berkala serta diperbaiki secara berkelanjutan
A89: d | B89: Organisasi menetapkan dan mengomunikasikan kendali terhadap seluruh pegawai dan pihak ketiga setelah penghentian atau penggantian jabatan, tugas dan tanggung jawab keamanan informasi. | C89: Sumber Daya Manusia | E89: Organisasi belum merencakan untuk menetapkan dan mengomunikasikan kendali terhadap seluruh pegawai dan pihak ketiga setelah penghentian atau penggantian jabatan, tugas dan tanggung jawab keamanan informasi. | F89: Organisasi sedang merencakan untuk menetapkan dan mengomunikasikan kendali terhadap seluruh pegawai dan pihak ketiga setelah penghentian atau penggantian jabatan, tugas dan tanggung jawab keamanan informasi. | G89: Organisasi telah menetapkan dan mengomunikasikan kendali terhadap seluruh pegawai dan pihak ketiga setelah penghentian atau penggantian jabatan, tugas dan tanggung jawab keamanan informasi namun belum secara menyeluruh. | H89: Organisasi telah menetapkan dan mengomunikasikan kendali terhadap seluruh pegawai dan pihak ketiga setelah penghentian atau penggantian jabatan, tugas dan tanggung jawab keamanan informasi secara menyeluruh. | I89: Organisasi telah menetapkan dan mengomunikasikan kendali terhadap seluruh pegawai dan pihak ketiga setelah penghentian atau penggantian jabatan, tugas dan tanggung jawab keamanan informasi secara menyeluruh dan direview secara berkala | J89: Organisasi telah menetapkan dan mengomunikasikan kendali terhadap seluruh pegawai dan pihak ketiga setelah penghentian atau penggantian jabatan, tugas dan tanggung jawab keamanan informasi dan direview secara berkala serta diperbaiki secara berkelanjutan
A90: e | B90: Perjanjian kerahasiaan yang mencerminkan kebutuhan organisasi untuk perlindungan informasi harus diidentifikasi, didokumentasikan, ditinjau secara teratur dan ditandatangani oleh personel dan pihak berkepentingan terkait lainnya. | C90: Sumber Daya Manusia | E90: Organisasi belum merencakan untuk membuat perjanjian kerahasiaan yang mencerminkan kebutuhan organisasi untuk perlindungan informasi harus diidentifikasi, didokumentasikan, ditinjau secara teratur dan ditandatangani oleh personel dan pihak berkepentingan terkait lainnya. | F90: Organisasi telah merencakan untuk membuat perjanjian kerahasiaan yang mencerminkan kebutuhan organisasi untuk perlindungan informasi harus diidentifikasi, didokumentasikan, ditinjau secara teratur dan ditandatangani oleh personel dan pihak berkepentingan terkait lainnya. | G90: Organisasi menjalankan perjanjian kerahasiaan yang mencerminkan kebutuhan organisasi untuk perlindungan informasi harus diidentifikasi, didokumentasikan, ditinjau secara teratur dan ditandatangani oleh personel dan pihak berkepentingan terkait lainnya namun belum secara menyeluruh | H90: Organisasi menjalankan perjanjian kerahasiaan yang mencerminkan kebutuhan organisasi untuk perlindungan informasi harus diidentifikasi, didokumentasikan, ditinjau secara teratur dan ditandatangani oleh personel dan pihak berkepentingan terkait lainnya secara menyeluruh | I90: Organisasi menjalankan perjanjian kerahasiaan yang mencerminkan kebutuhan organisasi untuk perlindungan informasi harus diidentifikasi, didokumentasikan, ditinjau secara teratur dan ditandatangani oleh personel dan pihak berkepentingan terkait lainnya secara menyeluruh dan direview secara berkala | J90: Organisasi menjalankan perjanjian kerahasiaan yang mencerminkan kebutuhan organisasi untuk perlindungan informasi harus diidentifikasi, didokumentasikan, ditinjau secara teratur dan ditandatangani oleh personel dan pihak berkepentingan terkait lainnya secara menyeluruh dan direview secara berkala serta diperbaiki secara berkelanjutan
